{"text_format":"1","workbook":"xlsx","n_sheets":10,"sheets":["Instructions","(HIDE) MASTER-Chart","(HIDE) Sheet1","Worksheet","Guidelines","Printable Grid-RangeA","Printable Grid-RangeB","Printable Grid-RangeC","Printable Grid-RangeD","Printable Grid-RangeE"],"not_rendered":{"charts":0,"images":2,"macros":0,"external_links":0,"defined_names":2,"comments":0,"pivot_tables":0},"unopened":[],"bounds":{"document_bytes":16777216,"sheet_cells":100000,"rows_first":2000,"rows_last":500,"rows_between":2000,"halvings":0,"cell_chars":16384,"cell_head_chars":4096},"cells_cut":0,"cells_raw":0,"read":"whole","date_system":"1900"}

{"sheet":"Instructions","index":0,"n_rows":158,"n_cols":4,"rows_kept":158,"cut":false,"hidden":false,"merged":[[0,0,0,8],[2,0,5,8],[7,0,7,8],[39,1,39,8],[21,1,32,8],[20,1,20,8],[34,1,37,8],[9,0,10,8],[12,1,12,8],[11,1,11,6],[18,1,18,8],[13,0,16,8],[61,1,64,8],[66,0,66,8],[67,0,72,8],[75,0,79,8],[45,0,50,8],[52,0,53,8],[57,1,58,8],[59,1,60,8],[98,0,101,8],[102,0,102,8],[103,0,109,8],[81,1,87,8],[74,0,74,8],[89,1,92,8],[94,0,95,8],[152,0,152,2],[121,1,129,8],[131,1,135,8],[111,0,115,8],[117,1,119,8],[41,0,41,8],[42,0,42,8],[154,0,154,2],[150,3,150,8],[152,3,152,8],[54,1,54,8],[55,1,55,8],[56,1,56,8],[96,0,96,8],[137,1,138,8],[141,1,142,8],[146,3,146,8],[148,3,148,8],[149,3,149,8],[146,0,146,2],[148,0,148,2]]}
["Instructions for MSUAASF Salary Placement"]
[]
["Step placement for new MSUAASF members is determined by the number of years of creditable experience the individual has, as well as the number of years the individual has spent previously in a MSUAASF or Minnesota State Academic Professional, Academic Supervisor or Administrator position assigned to the same or a higher salary range."]
[]
[]
[]
[]
["Steps for Manual Process:"]
[]
["Step 1: Calculate the TOTAL number of years of creditable work experience, Type 1 through Type 3.6. Files to use:"]
[]
[null,"1) MSUAASF Creditable Work Experience: Worksheet"]
[null,"2) MSUAASF Creditable Work Experience: Guidelines. "]
["The Guidelines provide detailed, specific information for analyzing work experience. This step is the most time-consuming; it requires detailed analysis of the candidate's resume. The TOTAL number of years will be used to move down the vertical axis of the MSUAASF Salary Corridor Grid for the appropriate range (see Step 3). "]
[]
[]
[]
[]
[null,"IMPORTANT!  What Experience is Creditable? "]
[]
[null,"1. Not all work experience is creditable for the ASF position being analyzed. "]
[null,"For example, some experience is only creditable if it is \"directly related to the ASF position upon hire.\" This means that the experience could be useful to the candidate hired on his/her first day of work. Also, in order for prior ASF and Minnesota State Administrator (i.e., Minnesota State Academic Professional, Academic Supervisor, and/or Administrator) work to be creditable in Type 1, it must have been in the same or a higher salary range than the current ASF position.\n\nNote: Prior Minnesota State work that does NOT fall under Type 1 (because it falls into a lower salary range), the work may nonetheless be creditable under the Discretionary sub-categories of work, specifically Type 3.3 Clerical/Technical/Paraprofessional/Lower-Level Professional Experience, but ONLY if the experience is \"directly related to the ASF position upon hire\". "]
[]
[]
[]
[]
[]
[]
[]
[]
[]
[]
[]
[]
[null,"2. Not all prior work experience is valued at 100%; creditable Professional-level K-12 Teaching and Administrative experience, Clerical/Technical/Paraprofessional/Lower-Level Professional experience and Graduate/Teaching Assistantships experience is valued at 50%. "]
[]
[]
[]
[]
[null,"3. No more than 1.00 FTE is credited in any twelve-month period. "]
[]
["For more details on the creditability and value of specific work experience, see the:"]
["MSUAASF Creditable Work Experience: Guidelines"]
[]
[]
["Step 2: Identify the number of years previously spent in an equal or higher range MSUAASF or Minnesota State Academic Professional, Academic Supervisor or Administrator position, if any. (Found in Type 1 experience).  Note that this applies only when the new MSUAASF employee was previously assigned to an equal or higher range, followed by a break in service, than that for which the employee is currently being hired. This number will be used to move across the horizontal axis of the MSUAASF Salary Corridor Grid for the appropriate range (see Step 3)."]
[]
[]
[]
[]
[]
[]
["Step 3: Determine the appropriate salary corridor (that is, the Target Step and two steps lower) in which to set the new MSUAASF employee’s initial salary:"]
[]
[null,"A.   For the appropriate salary period (i.e. AY16 or AY17), go to the:"]
[null,"MSUAASF Salary Corridor Grid"]
[null,"B.      Find the appropriate previously-determined Range, A-E"]
[null,"C.      Find the TOTAL number of years of creditable work experience (see Step 1 above),\n      rounded down to the nearest whole number, on the vertical axis of the grid. "]
[]
[null,"D.     Find the number of years of previous equal or higher MnSCU work experience, if\n     any, (see Step 2, above/Type 1) on the horizontal axis of the grid. "]
[]
[null,"E.      The new MSUAASF employee’s salary corridor/parameter is located at the\n      intersection of the employee’s placement on the vertical and horizontal axes. The\n      corridor identifies both the Target Step and associated salary and the salary found\n      two steps lower than the target step."]
[]
[]
[]
[]
["Automated Process: Calculation of Years of Experience AND Target Step Determination"]
["After reviewing for relevance and accuracy, enter the information from Step 1 and Step 2 into the automated Worksheet, as indicated. The Worksheet is designed to automatically calculate the years of experience and identify the appropriate salary corridor, aka the Target Step and two steps lower. However, the manual method, described in Steps 1-3, above, can be performed any time. It is a good idea to know the manual process behind the automation, in case an explanation is requested. "]
[]
[]
[]
[]
[]
[]
["Other Considerations and Definitions:"]
["Events Requiring Creditable Experience Analysis, aka Salary Setting Events. In addition to Initial Hire, under ASF Article 12, Section F, two additional ASF situations are also \"salary setting events\" requiring a creditable experience analysis: 1) Promotion and 2) Re-Hire, after an unpaid break in service. However, the ONLY situations where a desired salary above the midpoint must be submitted to the System Office for approval is Initial Hire and Re-Hire.  "]
[]
[]
[]
[]
[]
[null,"1. Promotion to a MUSAASF position in a higher range requires a creditable experience analysis. See Article 12, Section G, Subd. 1. Exception: Classified employees whose positions have been re-compared to a MSUAASF position and whose initial salary placement in the appropriate MSUAASF range is determined by the compensation provisions of MMB’s Administrative Procedure 15.6, Transfers and Demotions; such promotions are treated for salary purposes as a Re-assignment under the MSUAASF contract and do NOT require creditable experience analysis. "]
[]
[]
[]
[]
[]
[]
[]
[null,"2. Re-hire into a MSUAASF position, after a break in service, also requires a creditable experience analysis. For this purpose, a break in service is an unpaid break with a distinct end date of the previous MSUAASF job and a distinct start date of the new MSUAASF job. In essence, the re-hired individual is treated the same as an initial hire."]
[]
[]
[]
[]
["Recording Work History. The individual’s work history must be recorded in SCUPPS on the Employee Information tab, including actual and creditable years. "]
[]
["An Explanation of this screen is available here. "]
[]
["Salary Corridor Grid; Identifying the Target Step. The salary corridor is a range of salaries encompassing the Target Step as the maximum salary, and the minimum salary found two steps lower than the Target Step. Determining the desired initial salary of a new MSUAASF employee requires use of the:"]
[]
[]
[]
["MSUAASF Salary Corridor Grid for Ranges A-E"]
["The TOTAL number of years of creditable work experience, rounded down to the nearest whole number, is placed on the vertical axis of the salary grid for the appropriate range. If any, the number of years previously spent in an equal or higher MSUAASF or a MnSCU Academic Professional, Academic Supervisor or Administrator position, also rounded down to the nearest whole number, is placed on the horizontal axis of the salary grid for the appropriate range. The new employee’s salary corridor is located within the salary grid at the intersection of the employee’s placement on the vertical and horizontal axes."]
[]
[]
[]
[]
[]
[]
[]
["Final Salary Determination. The overlying principle of compensation for ASF employees is consistency in equity and experience. However, some administrative discretion is built into the process. The campus may desire to place an ASF salary 1) within the salary corridor, 2) above the Target Step, or 3) above the midpoint of the salary range; each of which has different levels of discretion.  "]
[]
[]
[]
[]
[]
[null,"1. Within the Salary Corridor. Actual salary determination within the corridor for each new MSUAASF employee is at the university’s discretion. Initial salary step placement may be at the Target Step or down to two steps lower than the target. "]
[]
[]
[]
[null,"2. Above the Target Step. If a salary higher than the Target Step is needed to secure the new ASF employee, or an ASF employee re-hired after a break in service, the university may at its discretion offer a higher salary up to the midpoint of the range. These offers of a salary above the Target Step, but at or below the midpoint of the range, must take into consideration internal equity, market factors, and any other recruitment or unique circumstances related to the search and job offer. It is expected that the university will document these issues and retain this information in the employee’s personnel file. Market factors will ordinarily be documented through comparison to CUPA-HR salary survey data. "]
[]
[]
[]
[]
[]
[]
[]
[]
[]
[null,"3. Above the Midpoint. Upon initial hire and rehire after a break in service, if the university wishes to offer the new MSUAASF employee a salary above the midpoint of the salary range, including circumstances where the Target Step is above the midpoint, supporting documentation of the market and other factors must be submitted to the System Office for approval. Required, supporting documentation includes:"]
[]
[]
[]
[]
[null,"·   ASF Position Description (NOT simply the job posting)"]
[null,"·   Completed Creditable Work Experience Worksheet including indication of\n      Target Step"]
[]
[null,"·   Candidate's Resume"]
[null,"·   Applicable Campus Organization Chart, showing the position at issue"]
[null,"·   Comparable CUPA-HR Salary Survey Data from the table entitled, \"Unweighted\n      Salary Percentiles-Master's Institutions\""]
[]
[null,"·   Short narrative as to the underlying reasons and support for the request"]
[]
[]
["Form: ",null,null,"MSUAASF Creditable Work Experience: Worksheet "]
[]
["Other References:",null,null,"MSUAASF Creditable Work Experience: Guidelines "]
["                           ",null,null,"MSUAASF Salary Corridor Grids"]
[null,null,null,"MSUAASF Sample \"Above-the-Midpoint\" Request"]
[]
["Contracts and Plans: ",null,null,"MSUAASF Article 12"]
[]
["System Office Contact: ",null,null,"Mary Nadeau"]
[null,null,null,"Labor Relations Analyst"]
[null,null,null,"651-201-1880"]
[null,null,null,"mary.nadeau@so.mnscu.edu0."]

{"sheet":"(HIDE) MASTER-Chart","index":1,"n_rows":27,"n_cols":18,"rows_kept":27,"cut":false,"hidden":true,"merged":[[0,0,0,6],[0,11,0,17]]}
["7/1/2023 (FY24)",null,null,null,null,null,null,null,"Ranges for \nDropdown","FY",null,"7/1/2024 (FY25)"]
["Step","Sort","Range A","Range B","Range C","Range D","Range E",null,"A","7/1/2023 (FY24)",null,"Step","Sort","Range A","Range B","Range C","Range D","Range E"]
["Step 1",1,null,37943,45352,53148,62010,null,"B","7/1/2024 (FY25)",null,"Step 1",1,null,38797,46372,54344,63405]
["Step 2",2,null,38952,46559,54563,63657,null,"C",null,null,"Step 2",2,null,39828,47607,55791,65089]
["Step 3",3,null,40109,47972,56182,65547,null,"D",null,null,"Step 3",3,null,41011,49051,57446,67022]
["Step 4",4,null,41311,49382,57869,67516,null,"E",null,null,"Step 4",4,null,42240,50493,59171,69035]
["Step 5",5,35383,42668,50884,60158,69666,null,null,null,null,"Step 5",5,36179,43628,52029,61512,71233]
["Step 6",6,36325,44022,52542,62440,71821,null,null,null,null,"Step 6",6,37142,45012,53724,63845,73437]
["Step 7",7,37402,45378,53953,64722,73974,null,null,null,null,"Step 7",7,38244,46399,55167,66178,75638]
["Step 8",8,38526,46736,55526,67010,76148,null,null,null,null,"Step 8",8,39393,47788,56775,68518,77861]
["Step 9",9,39797,48088,57145,69256,78388,null,null,null,null,"Step 9",9,40692,49170,58431,70814,80152]
["Step 10",10,41072,49487,58813,71585,80696,null,null,null,null,"Step 10",10,41996,50600,60136,73196,82512]
["Step 11",11,42349,50925,60532,73993,83073,null,null,null,null,"Step 11",11,43302,52071,61894,75658,84942]
["Step 12",12,43627,52409,62303,76481,85517,null,null,null,null,"Step 12",12,44609,53588,63705,78202,87441]
["Step 13",13,44896,53934,64126,79057,88035,null,null,null,null,"Step 13",13,45906,55148,65569,80836,90016]
["Step 14",14,46197,55504,66006,81721,90634,null,null,null,null,"Step 14",14,47236,56753,67491,83560,92673]
["Step 15",15,47535,57128,67939,84472,93306,null,null,null,null,"Step 15",15,48605,58413,69468,86373,95405]
["Step 16",16,48915,58797,69930,87327,96062,null,null,null,null,"Step 16",16,50016,60120,71503,89292,98223]
["Step 17",17,50336,60514,71985,89899,98897,null,null,null,null,"Step 17",17,51469,61876,73605,91922,101122]
["Step 18",18,51804,62286,74094,92550,101822,null,null,null,null,"Step 18",18,52970,63687,75761,94632,104113]
["Step 19",19,53313,64106,76267,95277,104829,null,null,null,null,"Step 19",19,54513,65548,77983,97421,107188]
["Step 20",20,54911,66029,78555,98135,107975,null,null,null,null,"Step 20",20,56146,67515,80322,100343,110404]
["Step 21",21,56586,68043,80950,101129,111268,null,null,null,null,"Step 21",21,57859,69574,82771,103404,113772]
["Step 22",22,58312,70118,83419,104213,114662,null,null,null,null,"Step 22",22,59624,71696,85296,106558,117242]
["Step 23",23,60091,72257,85964,107392,118159,null,null,null,null,"Step 23",23,61443,73883,87898,109808,120818]
["Step 24",24,61923,74461,88586,110667,121763,null,null,null,null,"Step 24",24,63316,76136,90579,113157,124503]
["Step 25",25,63812,76732,91288,114042,125477,null,null,null,null,"Step 25",25,65248,78458,93342,116608,128300]

{"sheet":"(HIDE) Sheet1","index":2,"n_rows":173,"n_cols":29,"rows_kept":173,"cut":false,"hidden":true,"merged":[[0,1,0,13],[0,16,0,28]]}
[null,"Low",null,null,null,null,null,null,null,null,null,null,null,null,null,null,"High"]
["Lookup","Range","YRS EXP",0,1,2,3,4,5,6,7,8,9,10,null,"Lookup","Range","YRS EXP",0,1,2,3,4,5,6,7,8,9,10]
["A0","A",0,5,5,{"$f":"E3","v":5},{"$f":"F3","v":5},5,5,5,5,5,5,5,null,"A0","A",0,6,6,{"$f":"T3","v":6},6,6,6,6,6,6,6,6]
["A1","A",1,5,5,{"$f":"E4","v":5},5,5,5,5,5,5,5,5,null,"A1","A",1,6,6,6,6,6,6,6,6,6,6,6]
["A2","A",2,5,5,5,5,5,5,5,5,5,5,5,null,"A2","A",2,7,7,7,7,7,7,7,7,7,7,7]
["A3","A",3,5,5,5,5,5,5,5,5,5,5,5,null,"A3","A",3,7,7,7,7,7,7,7,7,7,7,7]
["A4","A",4,6,6,6,6,7,7,7,7,7,7,7,null,"A4","A",4,8,8,8,8,9,9,9,9,9,9,9]
["A5","A",5,6,6,6,6,7,7,7,7,7,7,7,null,"A5","A",5,8,8,8,8,9,9,9,9,9,9,9]
["A6","A",6,7,7,7,7,8,8,8,8,8,8,8,null,"A6","A",6,9,9,9,9,10,10,10,10,10,10,10]
["A7","A",7,7,7,7,7,8,8,8,8,8,8,8,null,"A7","A",7,9,9,9,9,10,10,10,10,10,10,10]
["A8","A",8,8,8,8,8,9,9,9,9,10,10,10,null,"A8","A",8,10,10,10,10,11,11,11,11,12,12,12]
["A9","A",9,8,8,8,8,9,9,9,9,10,10,10,null,"A9","A",9,10,10,10,10,11,11,11,11,12,12,12]
["A10","A",10,9,9,9,9,10,10,10,10,11,11,11,null,"A10","A",10,11,11,11,11,12,12,12,12,13,13,13]
["A11","A",11,9,9,9,9,10,10,10,10,11,11,11,null,"A11","A",11,11,11,11,11,12,12,12,12,13,13,13]
["A12","A",12,9,9,10,10,11,11,11,11,12,12,12,null,"A12","A",12,11,11,12,12,13,13,13,13,14,14,14]
["A13","A",13,9,9,10,10,11,11,11,11,12,12,12,null,"A13","A",13,11,11,12,12,13,13,13,13,14,14,14]
["A14","A",14,10,10,11,11,11,11,12,12,12,12,13,null,"A14","A",14,12,12,13,13,13,13,14,14,14,14,15]
["A15","A",15,10,10,11,11,11,11,12,12,12,12,13,null,"A15","A",15,12,12,13,13,13,13,14,14,14,14,15]
["A16","A",16,11,11,12,12,12,12,13,13,13,13,14,null,"A16","A",16,13,13,14,14,14,14,15,15,15,15,16]
["A17","A",17,11,11,12,12,12,12,13,13,13,13,14,null,"A17","A",17,13,13,14,14,14,14,15,15,15,15,16]
["A18","A",18,12,12,12,12,13,13,13,13,14,14,14,null,"A18","A",18,14,14,14,14,15,15,15,15,16,16,16]
["A19","A",19,12,12,12,12,13,13,13,13,14,14,14,null,"A19","A",19,14,14,14,14,15,15,15,15,16,16,16]
["A20","A",20,13,13,13,13,14,14,14,14,14,14,14,null,"A20","A",20,15,15,15,15,16,16,16,16,16,16,16]
["A21","A",21,13,13,13,13,14,14,14,14,14,14,14,null,"A21","A",21,15,15,15,15,16,16,16,16,16,16,16]
["A22","A",22,14,14,14,14,14,14,14,14,14,14,14,null,"A22","A",22,16,16,16,16,16,16,16,16,16,16,16]
["B0","B",0,2,2,{"$f":"E26","v":2},2,2,2,2,2,2,2,2,null,"B0","B",0,4,4,{"$f":"T26","v":4},4,4,4,4,4,4,4,4]
["B1","B",1,2,2,2,2,2,2,2,2,2,2,2,null,"B1","B",1,4,4,4,4,4,4,4,4,4,4,4]
["B2","B",2,3,3,3,3,3,3,3,3,3,3,3,null,"B2","B",2,5,5,5,5,5,5,5,5,5,5,5]
["B3","B",3,3,3,3,3,3,3,3,3,3,3,3,null,"B3","B",3,5,5,5,5,5,5,5,5,5,5,5]
["B4","B",4,4,4,4,4,5,5,5,5,5,5,5,null,"B4","B",4,6,6,6,6,7,7,7,7,7,7,7]
["B5","B",5,4,4,4,4,5,5,5,5,5,5,5,null,"B5","B",5,6,6,6,6,7,7,7,7,7,7,7]
["B6","B",6,5,5,5,5,6,6,6,6,6,6,6,null,"B6","B",6,7,7,7,7,8,8,8,8,8,8,8]
["B7","B",7,5,5,5,5,6,6,6,6,6,6,6,null,"B7","B",7,7,7,7,7,8,8,8,8,8,8,8]
["B8","B",8,5,5,6,6,6,6,7,7,7,7,7,null,"B8","B",8,7,7,8,8,8,8,9,9,9,9,9]
["B9","B",9,5,5,6,6,6,6,7,7,7,7,7,null,"B9","B",9,7,7,8,8,8,8,9,9,9,9,9]
["B10","B",10,6,6,7,7,7,7,8,8,8,8,9,null,"B10","B",10,8,8,9,9,9,9,10,10,10,10,11]
["B11","B",11,6,6,7,7,7,7,8,8,8,8,9,null,"B11","B",11,8,8,9,9,9,9,10,10,10,10,11]
["B12","B",12,7,7,8,8,8,8,8,8,9,9,9,null,"B12","B",12,9,9,10,10,10,10,10,10,11,11,11]
["B13","B",13,7,7,8,8,8,8,8,8,9,9,9,null,"B13","B",13,9,9,10,10,10,10,10,10,11,11,11]
["B14","B",14,8,8,8,8,9,9,9,9,10,10,10,null,"B14","B",14,10,10,10,10,11,11,11,11,12,12,12]
["B15","B",15,8,8,8,8,9,9,9,9,10,10,10,null,"B15","B",15,10,10,10,10,11,11,11,11,12,12,12]
["B16","B",16,9,9,9,9,9,9,10,10,10,10,11,null,"B16","B",16,11,11,11,11,11,11,12,12,12,12,13]
["B17","B",17,9,9,9,9,9,9,10,10,10,10,11,null,"B17","B",17,11,11,11,11,11,11,12,12,12,12,13]
["B18","B",18,9,9,10,10,10,10,11,11,11,11,11,null,"B18","B",18,11,11,12,12,12,12,13,13,13,13,13]
["B19","B",19,9,9,10,10,10,10,11,11,11,11,11,null,"B19","B",19,11,11,12,12,12,12,13,13,13,13,13]
["B20","B",20,10,10,10,10,11,11,11,11,12,12,12,null,"B20","B",20,12,12,12,12,13,13,13,13,14,14,14]
["B21","B",21,10,10,10,10,11,11,11,11,12,12,12,null,"B21","B",21,12,12,12,12,13,13,13,13,14,14,14]
["B22","B",22,11,11,11,11,12,12,12,12,12,12,13,null,"B22","B",22,13,13,13,13,14,14,14,14,14,14,15]
["B23","B",23,11,11,11,11,12,12,12,12,12,12,13,null,"B23","B",23,13,13,13,13,14,14,14,14,14,14,15]
["B24","B",24,11,11,12,12,12,12,13,13,13,13,13,null,"B24","B",24,13,13,14,14,14,14,15,15,15,15,15]
["B25","B",25,11,11,12,12,12,12,13,13,13,13,13,null,"B25","B",25,13,13,14,14,14,14,15,15,15,15,15]
["B26","B",26,12,12,13,13,13,13,13,13,14,14,14,null,"B26","B",26,14,14,15,15,15,15,15,15,16,16,16]
["B27","B",27,12,12,13,13,13,13,13,13,14,14,14,null,"B27","B",27,14,14,15,15,15,15,15,15,16,16,16]
["B28","B",28,13,13,13,13,14,14,14,14,14,14,14,null,"B28","B",28,15,15,15,15,16,16,16,16,16,16,16]
["B29","B",29,13,13,13,13,14,14,14,14,14,14,14,null,"B29","B",29,15,15,15,15,16,16,16,16,16,16,16]
["B30","B",30,13,13,14,14,14,14,14,14,14,14,14,null,"B30","B",30,15,15,16,16,16,16,16,16,16,16,16]
["B31","B",31,13,13,14,14,14,14,14,14,14,14,14,null,"B31","B",31,15,15,16,16,16,16,16,16,16,16,16]
["B32","B",32,14,14,14,14,14,14,14,14,14,14,14,null,"B32","B",32,16,16,16,16,16,16,16,16,16,16,16]
["C0","C",0,1,1,{"$f":"E59","v":1},1,1,1,1,1,1,1,1,null,"C0","C",0,3,3,{"$f":"T59","v":3},3,3,3,3,3,3,3,3]
["C1","C",1,1,1,1,1,1,1,1,1,1,1,1,null,"C1","C",1,3,3,3,3,3,3,3,3,3,3,3]
["C2","C",2,2,2,2,2,2,2,2,2,2,2,2,null,"C2","C",2,4,4,4,4,4,4,4,4,4,4,4]
["C3","C",3,2,2,2,2,2,2,2,2,2,2,2,null,"C3","C",3,4,4,4,4,4,4,4,4,4,4,4]
["C4","C",4,3,3,3,3,4,4,4,4,4,4,4,null,"C4","C",4,5,5,5,5,6,6,6,6,6,6,6]
["C5","C",5,3,3,3,3,4,4,4,4,4,4,4,null,"C5","C",5,5,5,5,5,6,6,6,6,6,6,6]
["C6","C",6,3,3,4,4,4,4,5,5,5,5,5,null,"C6","C",6,5,5,6,6,6,6,7,7,7,7,7]
["C7","C",7,3,3,4,4,4,4,5,5,5,5,5,null,"C7","C",7,5,5,6,6,6,6,7,7,7,7,7]
["C8","C",8,4,4,5,5,5,5,5,5,6,6,6,null,"C8","C",8,6,6,7,7,7,7,7,7,8,8,8]
["C9","C",9,4,4,5,5,5,5,5,5,6,6,6,null,"C9","C",9,6,6,7,7,7,7,7,7,8,8,8]
["C10","C",10,5,5,5,5,6,6,6,6,7,7,7,null,"C10","C",10,7,7,7,7,8,8,8,8,9,9,9]
["C11","C",11,5,5,5,5,6,6,6,6,7,7,7,null,"C11","C",11,7,7,7,7,8,8,8,8,9,9,9]
["C12","C",12,6,6,6,6,6,6,7,7,7,7,8,null,"C12","C",12,8,8,8,8,8,8,9,9,9,9,10]
["C13","C",13,6,6,6,6,6,6,7,7,7,7,8,null,"C13","C",13,8,8,8,8,8,8,9,9,9,9,10]
["C14","C",14,6,6,7,7,7,7,7,7,8,8,8,null,"C14","C",14,8,8,9,9,9,9,9,9,10,10,10]
["C15","C",15,6,6,7,7,7,7,7,7,8,8,8,null,"C15","C",15,8,8,9,9,9,9,9,9,10,10,10]
["C16","C",16,7,7,7,7,8,8,8,8,8,8,9,null,"C16","C",16,9,9,9,9,10,10,10,10,10,10,11]
["C17","C",17,7,7,7,7,8,8,8,8,8,8,9,null,"C17","C",17,9,9,9,9,10,10,10,10,10,10,11]
["C18","C",18,8,8,8,8,8,8,9,9,9,9,9,null,"C18","C",18,10,10,10,10,10,10,11,11,11,11,11]
["C19","C",19,8,8,8,8,8,8,9,9,9,9,9,null,"C19","C",19,10,10,10,10,10,10,11,11,11,11,11]
["C20","C",20,8,8,9,9,9,9,9,9,10,10,10,null,"C20","C",20,10,10,11,11,11,11,11,11,12,12,12]
["C21","C",21,8,8,9,9,9,9,9,9,10,10,10,null,"C21","C",21,10,10,11,11,11,11,11,11,12,12,12]
["C22","C",22,9,9,9,9,10,10,10,10,10,10,11,null,"C22","C",22,11,11,11,11,12,12,12,12,12,12,13]
["C23","C",23,9,9,9,9,10,10,10,10,10,10,11,null,"C23","C",23,11,11,11,11,12,12,12,12,12,12,13]
["C24","C",24,9,9,10,10,10,10,11,11,11,11,11,null,"C24","C",24,11,11,12,12,12,12,13,13,13,13,13]
["C25","C",25,9,9,10,10,10,10,11,11,11,11,11,null,"C25","C",25,11,11,12,12,12,12,13,13,13,13,13]
["C26","C",26,10,10,10,10,11,11,11,11,11,11,12,null,"C26","C",26,12,12,12,12,13,13,13,13,13,13,14]
["C27","C",27,10,10,10,10,11,11,11,11,11,11,12,null,"C27","C",27,12,12,12,12,13,13,13,13,13,13,14]
["C28","C",28,11,11,11,11,11,11,12,12,12,12,12,null,"C28","C",28,13,13,13,13,13,13,14,14,14,14,14]
["C29","C",29,11,11,11,11,11,11,12,12,12,12,12,null,"C29","C",29,13,13,13,13,13,13,14,14,14,14,14]
["C30","C",30,11,11,12,12,12,12,12,12,13,13,13,null,"C30","C",30,13,13,14,14,14,14,14,14,15,15,15]
["C31","C",31,11,11,12,12,12,12,12,12,13,13,13,null,"C31","C",31,13,13,14,14,14,14,14,14,15,15,15]
["C32","C",32,12,12,12,12,12,12,13,13,13,13,13,null,"C32","C",32,14,14,14,14,14,14,15,15,15,15,15]
["C33","C",33,12,12,12,12,12,12,13,13,13,13,13,null,"C33","C",33,14,14,14,14,14,14,15,15,15,15,15]
["C34","C",34,12,12,13,13,13,13,13,13,14,14,14,null,"C34","C",34,14,14,15,15,15,15,15,15,16,16,16]
["C35","C",35,12,12,13,13,13,13,13,13,14,14,14,null,"C35","C",35,14,14,15,15,15,15,15,15,16,16,16]
["C36","C",36,13,13,13,13,14,14,14,14,14,14,14,null,"C36","C",36,15,15,15,15,16,16,16,16,16,16,16]
["D0","D",0,3,3,{"$f":"E96","v":3},3,3,3,3,3,3,3,3,null,"D0","D",0,5,5,{"$f":"T96","v":5},5,5,5,5,5,5,5,5]
["D1","D",1,3,3,3,3,3,3,3,3,3,3,3,null,"D1","D",1,5,5,5,5,5,5,5,5,5,5,5]
["D2","D",2,4,4,4,4,4,4,4,4,4,4,4,null,"D2","D",2,6,6,6,6,6,6,6,6,6,6,6]
["D3","D",3,4,4,4,4,4,4,4,4,4,4,4,null,"D3","D",3,6,6,6,6,6,6,6,6,6,6,6]
["D4","D",4,4,4,5,5,5,5,5,5,5,5,5,null,"D4","D",4,6,6,7,7,7,7,7,7,7,7,7]
["D5","D",5,4,4,5,5,5,5,5,5,5,5,5,null,"D5","D",5,6,6,7,7,7,7,7,7,7,7,7]
["D6","D",6,5,5,5,5,5,5,6,6,6,6,6,null,"D6","D",6,7,7,7,7,7,7,8,8,8,8,8]
["D7","D",7,5,5,5,5,5,5,6,6,6,6,6,null,"D7","D",7,7,7,7,7,7,7,8,8,8,8,8]
["D8","D",8,5,5,6,6,6,6,6,6,7,7,7,null,"D8","D",8,7,7,8,8,8,8,8,8,9,9,9]
["D9","D",9,5,5,6,6,6,6,6,6,7,7,7,null,"D9","D",9,7,7,8,8,8,8,8,8,9,9,9]
["D10","D",10,6,6,6,6,6,6,7,7,7,7,7,null,"D10","D",10,8,8,8,8,8,8,9,9,9,9,9]
["D11","D",11,6,6,6,6,6,6,7,7,7,7,7,null,"D11","D",11,8,8,8,8,8,8,9,9,9,9,9]
["D12","D",12,6,6,7,7,7,7,7,7,7,7,8,null,"D12","D",12,8,8,9,9,9,9,9,9,9,9,10]
["D13","D",13,6,6,7,7,7,7,7,7,7,7,8,null,"D13","D",13,8,8,9,9,9,9,9,9,9,9,10]
["D14","D",14,7,7,7,7,7,7,8,8,8,8,8,null,"D14","D",14,9,9,9,9,9,9,10,10,10,10,10]
["D15","D",15,7,7,7,7,7,7,8,8,8,8,8,null,"D15","D",15,9,9,9,9,9,9,10,10,10,10,10]
["D16","D",16,7,7,8,8,8,8,8,8,8,8,9,null,"D16","D",16,9,9,10,10,10,10,10,10,10,10,11]
["D17","D",17,7,7,8,8,8,8,8,8,8,8,9,null,"D17","D",17,9,9,10,10,10,10,10,10,10,10,11]
["D18","D",18,8,8,8,8,8,8,9,9,9,9,9,null,"D18","D",18,10,10,10,10,10,10,11,11,11,11,11]
["D19","D",19,8,8,8,8,8,8,9,9,9,9,9,null,"D19","D",19,10,10,10,10,10,10,11,11,11,11,11]
["D20","D",20,8,8,8,8,9,9,9,9,9,9,10,null,"D20","D",20,10,10,10,10,11,11,11,11,11,11,12]
["D21","D",21,8,8,8,8,9,9,9,9,9,9,10,null,"D21","D",21,10,10,10,10,11,11,11,11,11,11,12]
["D22","D",22,9,9,9,9,9,9,9,9,10,10,10,null,"D22","D",22,11,11,11,11,11,11,11,11,12,12,12]
["D23","D",23,9,9,9,9,9,9,9,9,10,10,10,null,"D23","D",23,11,11,11,11,11,11,11,11,12,12,12]
["D24","D",24,9,9,9,9,10,10,10,10,10,10,10,null,"D24","D",24,11,11,11,11,12,12,12,12,12,12,12]
["D25","D",25,9,9,9,9,10,10,10,10,10,10,10,null,"D25","D",25,11,11,11,11,12,12,12,12,12,12,12]
["D26","D",26,9,9,10,10,10,10,10,10,10,10,11,null,"D26","D",26,11,11,12,12,12,12,12,12,12,12,13]
["D27","D",27,9,9,10,10,10,10,10,10,10,10,11,null,"D27","D",27,11,11,12,12,12,12,12,12,12,12,13]
["D28","D",28,10,10,10,10,10,10,11,11,11,11,11,null,"D28","D",28,12,12,12,12,12,12,13,13,13,13,13]
["D29","D",29,10,10,10,10,10,10,11,11,11,11,11,null,"D29","D",29,12,12,12,12,12,12,13,13,13,13,13]
["D30","D",30,10,10,11,11,11,11,11,11,11,11,12,null,"D30","D",30,12,12,13,13,13,13,13,13,13,13,14]
["D31","D",31,10,10,11,11,11,11,11,11,11,11,12,null,"D31","D",31,12,12,13,13,13,13,13,13,13,13,14]
["D32","D",32,11,11,11,11,11,11,11,11,12,12,12,null,"D32","D",32,13,13,13,13,13,13,13,13,14,14,14]
["D33","D",33,11,11,11,11,11,11,11,11,12,12,12,null,"D33","D",33,13,13,13,13,13,13,13,13,14,14,14]
["D34","D",34,11,11,11,11,12,12,12,12,12,12,12,null,"D34","D",34,13,13,13,13,14,14,14,14,14,14,14]
["D35","D",35,11,11,11,11,12,12,12,12,12,12,12,null,"D35","D",35,13,13,13,13,14,14,14,14,14,14,14]
["D36","D",36,12,12,12,12,12,12,12,12,13,13,13,null,"D36","D",36,14,14,14,14,14,14,14,14,15,15,15]
["D37","D",37,12,12,12,12,12,12,12,12,13,13,13,null,"D37","D",37,14,14,14,14,14,14,14,14,15,15,15]
["D38","D",38,12,12,12,12,13,13,13,13,13,13,13,null,"D38","D",38,14,14,14,14,15,15,15,15,15,15,15]
["D39","D",39,12,12,12,12,13,13,13,13,13,13,13,null,"D39","D",39,14,14,14,14,15,15,15,15,15,15,15]
["D40","D",40,12,12,13,13,13,13,13,13,13,13,14,null,"D40","D",40,14,14,15,15,15,15,15,15,15,15,16]
["D41","D",41,12,12,13,13,13,13,13,13,13,13,14,null,"D41","D",41,14,14,15,15,15,15,15,15,15,15,16]
["D42","D",42,13,13,13,13,13,13,14,14,14,14,14,null,"D42","D",42,15,15,15,15,15,15,16,16,16,16,16]
["E0","E",0,6,6,{"$f":"E139","v":6},6,6,6,6,6,6,6,6,null,"E0","E",0,8,8,{"$f":"T139","v":8},8,8,8,8,8,8,8,8]
["E1","E",1,6,6,6,6,6,6,6,6,6,6,6,null,"E1","E",1,8,8,8,8,8,8,8,8,8,8,8]
["E2","E",2,6,6,6,6,6,6,6,6,6,6,6,null,"E2","E",2,8,8,8,8,8,8,8,8,8,8,8]
["E3","E",3,6,6,6,6,6,6,6,6,6,6,6,null,"E3","E",3,8,8,8,8,8,8,8,8,8,8,8]
["E4","E",4,7,7,7,7,7,7,7,7,7,7,7,null,"E4","E",4,9,9,9,9,9,9,9,9,9,9,9]
["E5","E",5,7,7,7,7,7,7,7,7,7,7,7,null,"E5","E",5,9,9,9,9,9,9,9,9,9,9,9]
["E6","E",6,7,7,7,7,8,8,8,8,8,8,8,null,"E6","E",6,9,9,9,9,10,10,10,10,10,10,10]
["E7","E",7,7,7,7,7,8,8,8,8,8,8,8,null,"E7","E",7,9,9,9,9,10,10,10,10,10,10,10]
["E8","E",8,8,8,8,8,8,8,8,8,9,9,9,null,"E8","E",8,10,10,10,10,10,10,10,10,11,11,11]
["E9","E",9,8,8,8,8,8,8,8,8,9,9,9,null,"E9","E",9,10,10,10,10,10,10,10,10,11,11,11]
["E10","E",10,8,8,8,8,9,9,9,9,9,9,9,null,"E10","E",10,10,10,10,10,11,11,11,11,11,11,11]
["E11","E",11,8,8,8,8,9,9,9,9,9,9,9,null,"E11","E",11,10,10,10,10,11,11,11,11,11,11,11]
["E12","E",12,9,9,9,9,9,9,9,9,10,10,10,null,"E12","E",12,11,11,11,11,11,11,11,11,12,12,12]
["E13","E",13,9,9,9,9,9,9,9,9,10,10,10,null,"E13","E",13,11,11,11,11,11,11,11,11,12,12,12]
["E14","E",14,9,9,9,9,10,10,10,10,10,10,10,null,"E14","E",14,11,11,11,11,12,12,12,12,12,12,12]
["E15","E",15,9,9,9,9,10,10,10,10,10,10,10,null,"E15","E",15,11,11,11,11,12,12,12,12,12,12,12]
["E16","E",16,9,9,10,10,10,10,10,10,10,10,11,null,"E16","E",16,11,11,12,12,12,12,12,12,12,12,13]
["E17","E",17,9,9,10,10,10,10,10,10,10,10,11,null,"E17","E",17,11,11,12,12,12,12,12,12,12,12,13]
["E18","E",18,10,10,10,10,10,10,11,11,11,11,11,null,"E18","E",18,12,12,12,12,12,12,13,13,13,13,13]
["E19","E",19,10,10,10,10,10,10,11,11,11,11,11,null,"E19","E",19,12,12,12,12,12,12,13,13,13,13,13]
["E20","E",20,10,10,11,11,11,11,11,11,11,11,12,null,"E20","E",20,12,12,13,13,13,13,13,13,13,13,14]
["E21","E",21,10,10,11,11,11,11,11,11,11,11,12,null,"E21","E",21,12,12,13,13,13,13,13,13,13,13,14]
["E22","E",22,11,11,11,11,11,11,11,11,12,12,12,null,"E22","E",22,13,13,13,13,13,13,13,13,14,14,14]
["E23","E",23,11,11,11,11,11,11,11,11,12,12,12,null,"E23","E",23,13,13,13,13,13,13,13,13,14,14,14]
["E24","E",24,11,11,11,11,12,12,12,12,12,12,12,null,"E24","E",24,13,13,13,13,14,14,14,14,14,14,14]
["E25","E",25,11,11,11,11,12,12,12,12,12,12,12,null,"E25","E",25,13,13,13,13,14,14,14,14,14,14,14]
["E26","E",26,12,12,12,12,12,12,12,12,13,13,13,null,"E26","E",26,14,14,14,14,14,14,14,14,15,15,15]
["E27","E",27,12,12,12,12,12,12,12,12,13,13,13,null,"E27","E",27,14,14,14,14,14,14,14,14,15,15,15]
["E28","E",28,12,12,12,12,12,12,13,13,13,13,13,null,"E28","E",28,14,14,14,14,14,14,15,15,15,15,15]
["E29","E",29,12,12,12,12,12,12,13,13,13,13,13,null,"E29","E",29,14,14,14,14,14,14,15,15,15,15,15]
["E30","E",30,12,12,13,13,13,13,13,13,13,13,14,null,"E30","E",30,14,14,15,15,15,15,15,15,15,15,16]
["E31","E",31,12,12,13,13,13,13,13,13,13,13,14,null,"E31","E",31,14,14,15,15,15,15,15,15,15,15,16]
["E32","E",32,13,13,13,13,13,13,14,14,14,14,14,null,"E32","E",32,15,15,15,15,15,15,16,16,16,16,16]
["E33","E",33,13,13,13,13,13,13,14,14,14,14,14,null,"E33","E",33,15,15,15,15,15,15,16,16,16,16,16]
["E34","E",34,13,13,13,13,14,14,14,14,14,14,14,null,"E34","E",34,15,15,15,15,16,16,16,16,16,16,16]

{"sheet":"Worksheet","index":3,"n_rows":172,"n_cols":22,"rows_kept":172,"cut":false,"hidden":false,"merged":[[1,14,1,15],[116,6,116,7],[90,6,90,7],[91,6,91,7],[92,6,92,7],[103,6,103,7],[104,6,104,7],[57,6,57,7],[66,6,66,7],[67,6,67,7],[59,3,59,8],[109,9,115,9],[105,6,105,7],[114,6,114,7],[115,6,115,7],[68,6,68,7],[79,6,79,7],[80,6,80,7],[81,6,81,7],[50,9,56,9],[61,9,67,9],[55,6,55,7],[107,3,107,8],[107,9,108,9],[98,9,104,9],[0,2,0,10],[2,17,2,19],[3,17,3,19],[2,5,2,6],[3,5,3,6],[18,3,18,4],[18,5,18,9],[8,3,8,4],[11,3,11,4],[10,3,10,4],[9,3,9,4],[8,5,8,9],[9,5,9,9],[10,5,10,9],[11,5,11,9],[6,2,6,9],[13,3,13,4],[14,3,14,4],[13,5,13,9],[3,3,3,4],[2,3,2,4],[14,5,14,9],[17,3,17,4],[16,3,16,9],[48,3,48,8],[47,3,47,8],[23,3,23,8],[23,9,24,9],[34,3,34,8],[48,9,49,9],[34,9,35,9],[17,5,17,9],[41,6,41,7],[31,6,31,7],[72,3,72,8],[83,3,83,8],[96,3,96,8],[83,9,84,9],[72,9,73,9],[96,9,97,9],[21,2,21,9],[74,9,80,9],[85,9,91,9],[32,6,32,7],[30,6,30,7],[25,9,31,9],[36,9,42,9],[42,6,42,7],[43,6,43,7],[45,2,45,9],[70,2,70,9],[94,2,94,9],[59,9,60,9],[56,6,56,7],[137,2,137,9],[144,21,144,22],[145,21,145,22],[139,3,142,9],[144,3,144,6],[124,2,124,9],[118,3,119,8],[120,3,121,8],[118,9,119,9],[120,9,121,9],[145,8,145,9],[144,8,144,9],[126,7,130,9],[147,8,147,9],[148,8,148,9],[150,8,150,9],[148,21,148,22],[151,21,151,22],[171,3,171,9],[148,3,148,6],[151,3,151,6],[145,3,145,6],[160,6,161,8],[158,4,159,5],[160,4,161,5],[155,4,155,8],[156,4,157,5],[156,6,157,8],[158,6,159,8],[151,8,151,9],[147,3,147,6],[150,3,150,6]]}
[1,null,"MSUAASF Creditable Work Experience: Worksheet",null,null,null,null,null,null,null,null,null,"Range"]
[1,null,null,null,null,null,null,null,null,null,null,null,"A",null,"TEST"]
[1,null,null,"Name of Candidate:",null,null,null,null,"Range:",null,null,null,"B",null,"H3",{"$f":"OR(LEN(J3)=0)","v":true}]
[1,null,null,"Department/Position:",null,null,null,null,"Date:",null,null,null,"C",null,"D4",{"$f":"OR(LEN(F4)=0)","v":true}]
[1,null,null,null,"FY:","7/1/2023 (FY24)",null,null,null,null,null,null,"D"]
[1,null,null,null,null,null,null,null,null,null,null,null,"E"]
[1,null,"A.  Degree/Professional Certification/Equivalency Requirement:"]
[1]
[1,null,null,"Degree:"]
[1,null,null,"Date:"]
[1,null,null,"Educational Institution:"]
[1,null,null,"Field of Study:"]
[1,null,null,"OR"]
[1,null,null,"Professional Certification:"]
[1,null,null,"Granting Authority:"]
[1,null,null,"OR"]
[1,null,null,"Equivalent Combination of Education and Experience"]
[1,null,null,"Education Information:"]
[1,null,null,"Experience Information:"]
[1]
[1]
[1,null,"B.  Creditable Experience Determination"]
[1]
[1,null,null,"Type 1: Professional-level teaching & administrative experience within ALL Minnesota State colleges and universities. Includes: Years in Equal or Higher MSUAASF, MnSCU Academic Professional, MnSCU Academic Supervisor  and/or MnSCU Administrator Ranges",null,null,null,null,null,"Creditable\nYears",null,"heruherherheirfheujfuh"]
[1,null,null,"Start Date","End Date","Position/\nRank","Institution","FTE ","Applicable\nYears",null,null,"heruherherheir"]
[1,null,null,"`",null,null,null,null,{"$f":"IF(ISBLANK(H26),\"\",(E26-D26)/365*H26)","v":""}]
[1,null,null,null,null,null,null,null,{"$f":"IF(ISBLANK(H27),\"\",(E27-D27)/365*H27)","v":""}]
[1,null,null,null,null,null,null,null,{"$f":"IF(ISBLANK(H28),\"\",(E28-D28)/365*H28)","v":""}]
[1,null,null,null,null,null,null,null,{"$f":"IF(ISBLANK(H29),\"\",(E29-D29)/365*H29)","v":""}]
[1,null,null,null,null,null,null,null,{"$f":"IF(ISBLANK(H30),\"\",(E30-D30)/365*H30)","v":""}]
[1,null,null,null,null,null,"Subtotal Applicable Years:",null,{"$f":"SUM(I26:I30)","v":0}]
[1,null,null,null,null,null,"Weighted Value:",null,1]
[1,null,null,null,null,null,"Creditable Years:",null,{"$f":"ROUNDDOWN(I31*I32,0)","v":0},{"$f":"I33","v":0}]
[1]
[2,null,null,"Type 2: Professional-level teaching & administrative experience within higher education, outside of Minnesota State",null,null,null,null,null,"Creditable\nYears",null,"reorjhioehrio"]
[2,null,null,"Start Date","End Date","Position/\nRank","Institution","FTE ","Applicable\nYears",null,null,"heruherherheir"]
[2,null,null,null,null,null,null,null,{"$f":"IF(ISBLANK(H37),\"\",(E37-D37)/365*H37)","v":""}]
[2,null,null,null,null,null,null,null,{"$f":"IF(ISBLANK(H38),\"\",(E38-D38)/365*H38)","v":""}]
[2,null,null,null,null,null,null,null,{"$f":"IF(ISBLANK(H39),\"\",(E39-D39)/365*H39)","v":""}]
[2,null,null,null,null,null,null,null,{"$f":"IF(ISBLANK(H40),\"\",(E40-D40)/365*H40)","v":""}]
[2,null,null,null,null,null,null,null,{"$f":"IF(ISBLANK(H41),\"\",(E41-D41)/365*H41)","v":""}]
[2,null,null,null,null,null,"Subtotal Applicable Years:",null,{"$f":"SUM(I37:I41)","v":0}]
[2,null,null,null,null,null,"Weighted Value:",null,1]
[2,null,null,null,null,null,"Creditable Years:",null,{"$f":"ROUNDDOWN(I42*I43,0)","v":0},{"$f":"I44","v":0}]
[2]
[1,null,"B.  Creditable Experience Determination (Continued)"]
[1]
[2,null,null,"Type 3: Discretionary"]
[2,null,null,"Type 3.1: Professional-level teaching & administrative experience in K-12 (e.g., teacher, librarian, principal, superintendent, etc.) ",null,null,null,null,null,"Creditable\nYears",null,"reorjhioehrio"]
[2,null,null,"Start Date","End Date","Position/\nRank","Institution","FTE ","Applicable\nYears",null,null,"heruherherheir"]
[2,null,null,null,null,null,null,null,{"$f":"IF(ISBLANK(H51),\"\",(E51-D51)/365*H51)","v":""}]
[2,null,null,null,null,null,null,null,{"$f":"IF(ISBLANK(H52),\"\",(E52-D52)/365*H52)","v":""}]
[2,null,null,null,null,null,null,null,{"$f":"IF(ISBLANK(H53),\"\",(E53-D53)/365*H53)","v":""}]
[2,null,null,null,null,null,null,null,{"$f":"IF(ISBLANK(H54),\"\",(E54-D54)/365*H54)","v":""}]
[2,null,null,null,null,null,null,null,{"$f":"IF(ISBLANK(H55),\"\",(E55-D55)/365*H55)","v":""}]
[2,null,null,null,null,null,"Subtotal Applicable Years:",null,{"$f":"SUM(I51:I55)","v":0}]
[2,null,null,null,null,null,"Weighted Value:",null,0.5]
[2,null,null,null,null,null,"Creditable Years:",null,{"$f":"ROUNDDOWN(I56*I57,0)","v":0},{"$f":"I58","v":0}]
[2]
[3,null,null,"Type 3.2: Professional level experience outside education ONLY if work experience is directly related to the MSUAASF position upon hire",null,null,null,null,null,"Creditable\nYears",null,"reorjhioehrio"]
[3,null,null,"Start Date","End Date","Position/\nRank","Institution","FTE ","Applicable\nYears",null,null,"heruherherheir"]
[3,null,null,null,null,null,null,null,{"$f":"IF(ISBLANK(H62),\"\",(E62-D62)/365*H62)","v":""}]
[3,null,null,null,null,null,null,null,{"$f":"IF(ISBLANK(H63),\"\",(E63-D63)/365*H63)","v":""}]
[3,null,null,null,null,null,null,null,{"$f":"IF(ISBLANK(H64),\"\",(E64-D64)/365*H64)","v":""}]
[3,null,null,null,null,null,null,null,{"$f":"IF(ISBLANK(H65),\"\",(E65-D65)/365*H65)","v":""}]
[3,null,null,null,null,null,null,null,{"$f":"IF(ISBLANK(H66),\"\",(E66-D66)/365*H66)","v":""}]
[3,null,null,null,null,null,"Subtotal Applicable Years:",null,{"$f":"SUM(I62:I66)","v":0}]
[3,null,null,null,null,null,"Weighted Value:",null,1]
[3,null,null,null,null,null,"Creditable Years:",null,{"$f":"ROUNDDOWN(I67*I68,0)","v":0},{"$f":"I69","v":0}]
[3]
[1,null,"B.  Creditable Experience Determination (Continued)"]
[1]
[3,null,null,"Type 3.3: Clerical/Technical/Paraprofessional/Lower-Level Professional experience within/or outside Minnesota State institutions ONLY if the work experience is directly related to the MSUAASF position upon hire",null,null,null,null,null,"Creditable\nYears",null,"uehrehruehrueihewu"]
[3,null,null,"Start Date","End Date","Position/\nRank","Institution","FTE ","Applicable\nYears",null,null,"heruherherheir"]
[3,null,null,null,null,null,null,null,{"$f":"IF(ISBLANK(H75),\"\",(E75-D75)/365*H75)","v":""}]
[3,null,null,null,null,null,null,null,{"$f":"IF(ISBLANK(H76),\"\",(E76-D76)/365*H76)","v":""}]
[3,null,null,null,null,null,null,null,{"$f":"IF(ISBLANK(H77),\"\",(E77-D77)/365*H77)","v":""}]
[3,null,null,null,null,null,null,null,{"$f":"IF(ISBLANK(H78),\"\",(E78-D78)/365*H78)","v":""}]
[3,null,null,null,null,null,null,null,{"$f":"IF(ISBLANK(H79),\"\",(E79-D79)/365*H79)","v":""}]
[3,null,null,null,null,null,"Subtotal Applicable Years:",null,{"$f":"SUM(I75:I79)","v":0}]
[3,null,null,null,null,null,"Weighted Value:",null,0.5]
[3,null,null,null,null,null,"Creditable Years:",null,{"$f":"ROUNDDOWN(I80*I81,0)","v":0},{"$f":"I82","v":0}]
[3]
[3,null,null,"Type 3.4: Graduate/teaching assistantships Experience within/or outside Minnesota State institutions ONLY if the work experience is directly related to the MSUAASF position upon hire",null,null,null,null,null,"Creditable\nYears",null,"reorjhioehrio"]
[3,null,null,"Start Date","End Date","Position/\nRank","Institution","FTE ","Applicable\nYears",null,null,"heruherherheir"]
[3,null,null,null,null,null,null,null,{"$f":"IF(ISBLANK(H86),\"\",(E86-D86)/365*H86)","v":""}]
[3,null,null,null,null,null,null,null,{"$f":"IF(ISBLANK(H87),\"\",(E87-D87)/365*H87)","v":""}]
[3,null,null,null,null,null,null,null,{"$f":"IF(ISBLANK(H88),\"\",(E88-D88)/365*H88)","v":""}]
[3,null,null,null,null,null,null,null,{"$f":"IF(ISBLANK(H89),\"\",(E89-D89)/365*H89)","v":""}]
[3,null,null,null,null,null,null,null,{"$f":"IF(ISBLANK(H90),\"\",(E90-D90)/365*H90)","v":""}]
[3,null,null,null,null,null,"Subtotal Applicable Years:",null,{"$f":"SUM(I86:I90)","v":0}]
[3,null,null,null,null,null,"Weighted Value:",null,0.5]
[3,null,null,null,null,null,"Creditable Years:",null,{"$f":"ROUNDDOWN(I91*I92,0)","v":0},{"$f":"I93","v":0}]
[3]
[1,null,"B.  Creditable Experience Determination (Continued)"]
[1]
[4,null,null,"Type 3.5: Volunteer Experience: Professional-level experience ONLY if:\na) the work experience is directly related to the MSUAASF position upon hire and\nb) if percent time is listed and \nc) volunteer work does not overlap with other experience credited \n",null,null,null,null,null,"Creditable\nYears",null,"reorjhioehriojekthekhehernejrhejr"]
[4,null,null,"Start Date","End Date","Position/\nRank","Institution","FTE ","Applicable\nYears",null,null,"heruherherheir"]
[4,null,null,null,null,null,null,null,{"$f":"IF(ISBLANK(H99),\"\",(E99-D99)/365*H99)","v":""}]
[4,null,null,null,null,null,null,null,{"$f":"IF(ISBLANK(H100),\"\",(E100-D100)/365*H100)","v":""}]
[4,null,null,null,null,null,null,null,{"$f":"IF(ISBLANK(H101),\"\",(E101-D101)/365*H101)","v":""}]
[4,null,null,null,null,null,null,null,{"$f":"IF(ISBLANK(H102),\"\",(E102-D102)/365*H102)","v":""}]
[4,null,null,null,null,null,null,null,{"$f":"IF(ISBLANK(H103),\"\",(E103-D103)/365*H103)","v":""}]
[4,null,null,null,null,null,"Subtotal Applicable Years:",null,{"$f":"SUM(I99:I103)","v":0}]
[4,null,null,null,null,null,"Weighted Value:",null,1]
[4,null,null,null,null,null,"Creditable Years:",null,{"$f":"ROUNDDOWN(I104*I105,0)","v":0},{"$f":"I106","v":0}]
[4]
[4,null,null,"Type 3.6: Minnesota Statute 192.261 requires recognition of years of military service which resulted from conscription (drafted) and which interrupted service to Minnesota State",null,null,null,null,null,"Creditable\nYears",null,"reorjhioehriojekt"]
[4,null,null,"Start Date","End Date","Position/\nRank","Institution","FTE ","Applicable\nYears",null,null,"heruherherheir"]
[4,null,null,null,null,null,null,null,{"$f":"IF(ISBLANK(H110),\"\",(E110-D110)/365*H110)","v":""}]
[4,null,null,null,null,null,null,null,{"$f":"IF(ISBLANK(H111),\"\",(E111-D111)/365*H111)","v":""}]
[4,null,null,null,null,null,null,null,{"$f":"IF(ISBLANK(H112),\"\",(E112-D112)/365*H112)","v":""}]
[4,null,null,null,null,null,null,null,{"$f":"IF(ISBLANK(H113),\"\",(E113-D113)/365*H113)","v":""}]
[4,null,null,null,null,null,null,null,{"$f":"IF(ISBLANK(H114),\"\",(E114-D114)/365*H114)","v":""}]
[4,null,null,null,null,null,"Subtotal Applicable Years:",null,{"$f":"SUM(I110:I114)","v":0}]
[4,null,null,null,null,null,"Weighted Value:",null,1]
[4,null,null,null,null,null,"Creditable Years:",null,{"$f":"ROUNDDOWN(I115*I116,0)","v":0},{"$f":"I117","v":0}]
[4]
[4,null,null,"Total Creditable Years Experience:\n(Sum of Type 1 through Type 3.6)",null,null,null,null,null,{"$f":"ROUNDDOWN(SUM($J$33:$J$117),0)","v":0}]
[4]
[4,null,null,"Total Creditable Years Minnesota State Experience:\n(Type 1 Total)",null,null,null,null,null,{"$f":"ROUNDDOWN(J33,0)","v":0}]
[4]
[4]
[4]
[4,null,"C.  Step Placement Determination Based on Creditable Years Experience"]
[4]
[4,null,null,null,"Type","Step","Salary",{"$f":"IF($F$128=\"\",\"\",IF($F$128>10,\"Contact System Office for approval above Step 10. Attach Approval.\",\"\"))","v":""}]
[4,null,null,null,"Target",{"$f":"IF(ISBLANK($J$3),\"\",\nIF(ISERROR(VLOOKUP(CONCATENATE($J$3,$J$119),'(HIDE) Sheet1'!$P:$AC,IF($J$121>=10,14,SUM($J$121,4)),FALSE)),\nIF($J$3=\"A\",VLOOKUP(CONCATENATE($J$3,22),'(HIDE) Sheet1'!$P:$AC,IF($J$121>=10,14,SUM($J$121,4)),FALSE),\nIF($J$3=\"B\",VLOOKUP(CONCATENATE($J$3,32),'(HIDE) Sheet1'!$P:$AC,IF($J$121>=10,14,SUM($J$121,4)),FALSE),\nIF($J$3=\"C\",VLOOKUP(CONCATENATE($J$3,36),'(HIDE) Sheet1'!$P:$AC,IF($J$121>=10,14,SUM($J$121,4)),FALSE),\nIF($J$3=\"D\",VLOOKUP(CONCATENATE($J$3,42),'(HIDE) Sheet1'!$P:$AC,IF($J$121>=10,14,SUM($J$121,4)),FALSE),\nIF($J$3=\"E\",VLOOKUP(CONCATENATE($J$3,34),'(HIDE) Sheet1'!$P:$AC,IF($J$121>=10,14,SUM($J$121,4)),FALSE),VLOOKUP(CONCATENATE($J$3,$J$119),'(HIDE) Sheet1'!$P:$AC,IF($J$121>=10,14,SUM($J$121,4)),FALSE)))))),VLOOKUP(CONCATENATE($J$3,$J$119),'(HIDE) Sheet1'!$P:$AC,IF($J$121>=10,14,SUM($J$121,4)),FALSE)))","v":""},{"$f":"IF($F$128=\"\",\"\",\nIF($J$3=\"\",\"\",\nIF($F$5='(HIDE) MASTER-Chart'!$J$2,\nIF($J$3=\"A\",VLOOKUP($F$128,'(HIDE) MASTER-Chart'!$B:$G,2,FALSE),\nIF($J$3=\"B\",VLOOKUP($F$128,'(HIDE) MASTER-Chart'!$B:$G,3,FALSE),\nIF($J$3=\"C\",VLOOKUP($F$128,'(HIDE) MASTER-Chart'!$B:$G,4,FALSE),\nIF($J$3=\"D\",VLOOKUP($F$128,'(HIDE) MASTER-Chart'!$B:$G,5,FALSE),\nIF($J$3=\"E\",VLOOKUP($F$128,'(HIDE) MASTER-Chart'!$B:$G,6,FALSE)))))),\nIF($F$5='(HIDE) MASTER-Chart'!$J$3,\nIF($J$3=\"A\",VLOOKUP($F$128,'(HIDE) MASTER-Chart'!$M:$R,2,FALSE),\nIF($J$3=\"B\",VLOOKUP($F$128,'(HIDE) MASTER-Chart'!$M:$R,3,FALSE),\nIF($J$3=\"C\",VLOOKUP($F$128,'(HIDE) MASTER-Chart'!$M:$R,4,FALSE),\nIF($J$3=\"D\",VLOOKUP($F$128,'(HIDE) MASTER-Chart'!$M:$R,5,FALSE),\nIF($J$3=\"E\",VLOOKUP($F$128,'(HIDE) MASTER-Chart'!$M:$R,6,FALSE))))))))))","v":""}]
[4,null,null,null,"Minimum",{"$f":"IF(ISBLANK($J$3),\"\",IF(ISERROR(VLOOKUP(CONCATENATE($J$3,$J$119),'(HIDE) Sheet1'!$A:$N,IF($J$121>=10,14,SUM($J$121,4)),FALSE)),IF($J$3=\"A\",VLOOKUP(CONCATENATE($J$3,22),'(HIDE) Sheet1'!$A:$N,IF($J$121>=10,14,SUM($J$121,4)),FALSE),IF($J$3=\"B\",VLOOKUP(CONCATENATE($J$3,32),'(HIDE) Sheet1'!$A:$N,IF($J$121>=10,14,SUM($J$121,4)),FALSE),IF($J$3=\"C\",VLOOKUP(CONCATENATE($J$3,36),'(HIDE) Sheet1'!$A:$N,IF($J$121>=10,14,SUM($J$121,4)),FALSE),IF($J$3=\"D\",VLOOKUP(CONCATENATE($J$3,42),'(HIDE) Sheet1'!$A:$N,IF($J$121>=10,14,SUM($J$121,4)),FALSE),IF($J$3=\"E\",VLOOKUP(CONCATENATE($J$3,34),'(HIDE) Sheet1'!$A:$N,IF($J$121>=10,14,SUM($J$121,4)),FALSE),VLOOKUP(CONCATENATE($J$3,$J$119),'(HIDE) Sheet1'!$A:$N,IF($J$121>=10,14,SUM($J$121,4)),FALSE)))))),VLOOKUP(CONCATENATE($J$3,$J$119),'(HIDE) Sheet1'!$A:$N,IF($J$121>=10,14,SUM($J$121,4)),FALSE)))","v":""},{"$f":"IF($F$129=\"\",\"\",\nIF($J$3=\"\",\"\",\nIF($F$5='(HIDE) MASTER-Chart'!$J$2,\nIF($J$3=\"A\",VLOOKUP($F$129,'(HIDE) MASTER-Chart'!$B:$G,2,FALSE),\nIF($J$3=\"B\",VLOOKUP($F$129,'(HIDE) MASTER-Chart'!$B:$G,3,FALSE),\nIF($J$3=\"C\",VLOOKUP($F$129,'(HIDE) MASTER-Chart'!$B:$G,4,FALSE),\nIF($J$3=\"D\",VLOOKUP($F$129,'(HIDE) MASTER-Chart'!$B:$G,5,FALSE),\nIF($J$3=\"E\",VLOOKUP($F$129,'(HIDE) MASTER-Chart'!$B:$G,6,FALSE)))))),\nIF($F$5='(HIDE) MASTER-Chart'!$J$3,\nIF($J$3=\"A\",VLOOKUP($F$129,'(HIDE) MASTER-Chart'!$M:$R,2,FALSE),\nIF($J$3=\"B\",VLOOKUP($F$129,'(HIDE) MASTER-Chart'!$M:$R,3,FALSE),\nIF($J$3=\"C\",VLOOKUP($F$129,'(HIDE) MASTER-Chart'!$M:$R,4,FALSE),\nIF($J$3=\"D\",VLOOKUP($F$129,'(HIDE) MASTER-Chart'!$M:$R,5,FALSE),\nIF($J$3=\"E\",VLOOKUP($F$129,'(HIDE) MASTER-Chart'!$M:$R,6,FALSE))))))))))","v":""}]
[4]
[4,null,null,"NOTE:"]
[4,null,null,"1. At or below target - may not be more than two steps lower than target,"]
[4,null,null,"2. Above target up to and including step 10 - university must retain market justification, or"]
[4,null,null,"3. Above target over step 10 - university must receive prior approval from Minnesota State system office"]
[4]
[4]
[4]
[5,null,"D.  Approvals"]
[5]
[5,null,null,"I attest that all statements and representations set forth above are true and accurate. Inaccurate statements or misrepresentations concerning my work experience may lead the University to take one or more of the following actions: withdrawal of an offer of employment; modification of starting salary; and in the event that I become an employee, disciplinary action up to and including discharge."]
[5]
[5]
[5]
[5]
[5]
[5,null,null,"Candidate Signature",null,null,null,null,"Date",null,null,null,null,null,null,null,null,null,null,null,null,"Date"]
[5]
[5]
[5,null,null,"Evaluator 1 Signature\n(Supervisor or VP)",null,null,null,null,"Date",null,null,"fnwrfhjewerhfie",null,null,null,null,null,null,null,null,null,"Date"]
[5]
[5]
[5,null,null,"Evaluator 2 Signature\n(CHRO/Designee)",null,null,null,null,"Date",null,null,"fnwrfhjewerhfie",null,null,null,null,null,null,null,null,null,"Date"]
[5]
[5]
[5]
[5,null,null,null,"Director / Vice President Use Only"]
[5,null,null,null,"PRF Number"]
[5]
[5,null,null,null,"Position Number"]
[5,null,null,null,"Position Number"]
[5,null,null,null,"Appt Status"]
[5,null,null,null,"Appt Status"]
[5]
[5]
[5]
[5]
[5]
[5]
[5]
[5]
[5]
[null,null,null,"Retain this form and all attached documentation in Human Resources.  Last Revision 11/2016."]

{"sheet":"Guidelines","index":4,"n_rows":77,"n_cols":9,"rows_kept":77,"cut":false,"hidden":false,"merged":[[76,0,76,10],[71,0,71,3],[71,4,71,7],[71,8,71,10],[72,0,72,3],[72,4,72,7],[72,8,72,10],[69,0,69,3],[69,4,69,7],[69,8,69,10],[70,0,70,3],[70,4,70,7],[70,8,70,10],[61,0,61,3],[67,0,67,3],[67,4,67,7],[67,8,67,10],[68,0,68,3],[68,4,68,7],[68,8,68,10],[64,8,64,10],[66,0,66,3],[66,4,66,7],[66,8,66,10],[62,0,62,3],[63,0,63,3],[64,0,64,3],[64,4,64,7],[61,4,61,7],[62,4,62,7],[63,4,63,7],[61,8,61,10],[62,8,62,10],[63,8,63,10],[54,0,56,7],[54,8,56,10],[58,0,58,3],[59,0,59,3],[60,0,60,3],[58,8,58,10],[58,4,58,7],[59,8,59,10],[60,8,60,10],[59,4,59,7],[60,4,60,7],[44,0,46,7],[44,8,46,10],[47,0,49,7],[47,8,49,10],[50,0,53,7],[50,8,53,10],[42,0,43,7],[33,8,33,10],[42,8,43,10],[16,0,17,10],[19,0,21,10],[23,0,25,10],[27,0,29,10],[33,0,33,7],[34,0,37,7],[34,8,37,10],[38,0,39,7],[38,8,39,10],[40,0,41,7],[40,8,41,10],[0,0,0,10],[2,0,3,10],[6,0,8,10],[10,0,12,10],[14,0,14,10]]}
["MSUAASF Creditable Work Experience: Guidelines"]
[]
["Note: These guidelines are intended to be used in conjunction with the MSUAASF Creditable Work Experience: Worksheet."]
[]
[]
["Criteria: "]
["·         Generally, the process for analyzing creditable work experience applies to initial hires into \n      MSUAASF, even if the candidate is coming from Minnesota State MAPE/MSCF/IFO positions, for \n      example, or if a former Minnesota State employee is re-hired after an unpaid break in service. "]
[]
[]
[]
["·         Years of work experience are expressed in terms of full-time equivalent (FTE) service with full-\n      time twelve-month workload equal to one (1) FTE year. No more than 1:00 FTE is credited in any \n      twelve month period. "]
[]
[]
[]
["·         No experience credit is accrued for time spent on leaves of absence without pay."]
[]
["·         Years of Service in teaching positions or administrative positions (i.e., Resident Hall Director, \n      Coaching, etc.) that are seasonal in nature are equal to one (1) FTE year."]
[]
[]
["·         Aggregate total creditable work experience for all categories is rounded down to the number of \n      full years completed. For example, a total of 7.67 FTE years is rounded down to seven (7) years\n      of total creditable experience for salary grid placement."]
[]
[]
[]
["·         Each period of work experience must be reviewed against the Categories of Creditable Work \n      experience for inclusion of exclusion. (See below.) Although most categories are valued at 100%, \n      some categories are valued at 50%. "]
[]
[]
[]
["·         All allowable full-time work experience is credited on a full-time equivalent (FTE) basis. Part-\n      time work is counted on a pro-rated basis. Academic and Non-Academic Experience is valued\n      according to the following formulas:  "]
[]
[]
[]
["Categories of Creditable Work:"]
[]
["Category (Each category coincides with a Type listed on the Worksheet)",null,null,null,null,null,null,null,"Percentage Credited"]
["Type 1 – Professional-level teaching & administrative experience WITHIN all Minnesota State colleges & universities. Includes: Years in Equal or Higher MSUAASF, MnSCU Academic Professional, MnSCU Academic Supervisor and/or MnSCU Administrator ranges. ",null,null,null,null,null,null,null,"FTE x 1.00 (fully-credited)"]
[]
[]
[]
["Type 2 – Professional-level teaching & administrative experience within higher education, OUTSIDE Minnesota State.",null,null,null,null,null,null,null,"FTE x 1.00 (fully-credited)"]
[]
["Type 3.1 - Professional-level teaching & administrative experience in K-12 (e.g., teacher, librarian, principal, superintendent, etc.)",null,null,null,null,null,null,null,"FTE x .50 (credited at 50%)"]
[]
["Type 3.2 - Professional-level OUTSIDE of education ONLY if the work experience is directly related to MSUAASF position upon hire.",null,null,null,null,null,null,null,"FTE x 1.00 (fully-credited)"]
[]
["Type 3.3 – Clerical/Technical/Paraprofessional/Lower-Level Professional experience WITHIN or OUTSIDE Minnesota State institutions ONLY if the work experience is directly related to MSUAASF position upon hire.",null,null,null,null,null,null,null,"FTE x .50 (credited at 50%)"]
[]
[]
["Type 3.4 – Graduate/teaching assistantships experience WITHIN or OUTSIDE Minnesota State institutions ONLY if the work experience is directly related to MSUAASF position upon hire.",null,null,null,null,null,null,null,"FTE x .50 (credited at 50%)"]
[]
[]
["Type 3.5 – Volunteer Experience: Professional-level volunteer experience ONLY if a) the work experience is directly related to MSUAASF position upon hire and b) if percent time is listed and c) volunteer work does not overlap with other experience credited.",null,null,null,null,null,null,null,"FTE x 1.00 (fully-credited)"]
[]
[]
[]
["Type 3.6 – Minnesota Statute §192.261 requires recognition of years of military service which resulted from conscription and which interrupted service in the Minnesota State Colleges and Universities system. ",null,null,null,null,null,null,null,"FTE x 1.00 (fully-credited)"]
[]
[]
[]
["Academic Experience",null,null,null,null,null,null,null,"Applicable FTE Credit"]
["Full-time Academic Year",null,null,null,"Equals",null,null,null,"1.00 FTE"]
["Part-time Academic Year",null,null,null,"Percent time employed equals",null,null,null,"Portion of 1.00 FTE"]
["Full-time Academic Quarter",null,null,null,"Equals ",null,null,null,".33 FTE"]
["Part-time Academic Quarter",null,null,null,"Percent time employed X .33 equals",null,null,null,"Portion of .33 FTE"]
["Full-time Academic Semester",null,null,null,"Equals",null,null,null,".50 FTE"]
["Part-time Academic Semester",null,null,null,"Percent time employed X .50 equals",null,null,null,"Portion of .50 FTE"]
[]
["Non-Academic Experience",null,null,null,null,null,null,null,"Applicable FTE Credit"]
["Full-time twelve months",null,null,null,"Equals",null,null,null,"1.00 FTE"]
["Part-time twelve months",null,null,null,"Percent time employed equals",null,null,null,"Portion of 1.00 FTE"]
["Full-time Academic Quarter",null,null,null,"Equals ",null,null,null,".25 FTE"]
["Part-time Academic Quarter",null,null,null,"Percent time employed X .25 equals",null,null,null,"Portion of .25 FTE"]
["Full-time Academic Semester",null,null,null,"Equals",null,null,null,".33 FTE"]
["Part-time Academic Semester",null,null,null,"Percent time employed X .33 equals",null,null,null,"Portion of .33 FTE"]
[]
[]
[]
["2016-11-10"]

{"sheet":"Printable Grid-RangeA","index":5,"n_rows":41,"n_cols":26,"rows_kept":41,"cut":false,"hidden":false,"merged":[[40,1,40,2],[40,3,40,4],[40,5,40,6],[40,7,40,8],[40,9,40,10],[40,11,40,12],[39,1,39,2],[39,3,39,4],[39,5,39,6],[39,7,39,8],[39,9,39,10],[39,11,39,12],[38,1,38,2],[38,3,38,4],[38,5,38,6],[38,7,38,8],[38,9,38,10],[38,11,38,12],[37,1,37,2],[37,3,37,4],[37,5,37,6],[37,7,37,8],[37,9,37,10],[37,11,37,12],[36,1,36,2],[36,3,36,4],[36,5,36,6],[36,7,36,8],[36,9,36,10],[36,11,36,12],[35,1,35,2],[35,3,35,4],[35,5,35,6],[35,7,35,8],[35,9,35,10],[35,11,35,12],[34,1,34,2],[34,3,34,4],[34,5,34,6],[34,7,34,8],[34,9,34,10],[34,11,34,12],[33,1,33,2],[33,3,33,4],[33,5,33,6],[33,7,33,8],[33,9,33,10],[33,11,33,12],[32,1,32,2],[32,3,32,4],[32,5,32,6],[32,7,32,8],[32,9,32,10],[32,11,32,12],[31,1,31,2],[31,3,31,4],[31,5,31,6],[31,7,31,8],[31,9,31,10],[31,11,31,12],[30,1,30,2],[30,3,30,4],[30,5,30,6],[30,7,30,8],[30,9,30,10],[30,11,30,12],[29,1,29,2],[29,3,29,4],[29,5,29,6],[29,7,29,8],[29,9,29,10],[29,11,29,12],[28,1,28,2],[28,3,28,4],[28,5,28,6],[28,7,28,8],[28,9,28,10],[28,11,28,12],[27,1,27,2],[27,3,27,4],[27,5,27,6],[27,7,27,8],[27,9,27,10],[27,11,27,12],[26,1,26,2],[26,3,26,4],[26,5,26,6],[26,7,26,8],[26,9,26,10],[26,11,26,12],[25,1,25,2],[25,3,25,4],[25,5,25,6],[25,7,25,8],[25,9,25,10],[25,11,25,12],[24,1,24,2],[24,3,24,4],[24,5,24,6],[24,7,24,8],[24,9,24,10],[24,11,24,12],[23,1,23,2],[23,3,23,4],[23,5,23,6],[23,7,23,8],[23,9,23,10],[23,11,23,12],[22,1,22,2],[22,3,22,4],[22,5,22,6],[22,7,22,8],[22,9,22,10],[22,11,22,12],[21,1,21,2],[21,3,21,4],[21,5,21,6],[21,7,21,8],[21,9,21,10],[21,11,21,12],[20,1,20,2],[20,3,20,4],[20,5,20,6],[20,7,20,8],[20,9,20,10],[20,11,20,12],[19,1,19,2],[19,3,19,4],[19,5,19,6],[19,7,19,8],[19,9,19,10],[19,11,19,12],[18,1,18,2],[18,3,18,4],[18,5,18,6],[18,7,18,8],[18,9,18,10],[18,11,18,12],[17,1,17,2],[17,3,17,4],[17,5,17,6],[17,7,17,8],[17,9,17,10],[17,11,17,12],[16,1,16,2],[16,3,16,4],[16,5,16,6],[16,7,16,8],[16,9,16,10],[16,11,16,12],[15,1,15,2],[15,3,15,4],[15,5,15,6],[15,7,15,8],[15,9,15,10],[15,11,15,12],[14,1,14,2],[14,3,14,4],[14,5,14,6],[14,7,14,8],[14,9,14,10],[14,11,14,12],[13,1,13,2],[13,3,13,4],[13,5,13,6],[13,7,13,8],[13,9,13,10],[13,11,13,12],[12,1,12,2],[12,3,12,4],[12,5,12,6],[12,7,12,8],[12,9,12,10],[12,11,12,12],[11,1,11,2],[11,3,11,4],[11,5,11,6],[11,7,11,8],[11,9,11,10],[11,11,11,12],[8,11,8,12],[7,1,7,2],[7,3,7,4],[7,5,7,6],[7,7,7,8],[7,9,7,10],[7,11,7,12],[10,1,10,2],[10,3,10,4],[10,5,10,6],[10,7,10,8],[10,9,10,10],[10,11,10,12],[9,1,9,2],[9,3,9,4],[9,5,9,6],[9,7,9,8],[9,9,9,10],[9,11,9,12],[8,1,8,2],[8,3,8,4],[8,5,8,6],[8,7,8,8],[8,9,8,10],[4,1,4,2],[4,3,4,4],[4,5,4,6],[4,7,4,8],[4,9,4,10],[4,16,4,17],[4,18,4,19],[6,1,6,2],[6,3,6,4],[6,5,6,6],[6,7,6,8],[6,9,6,10],[6,11,6,12],[5,1,5,2],[5,3,5,4],[5,5,5,6],[5,7,5,8],[5,9,5,10],[5,11,5,12],[4,20,4,21],[4,22,4,23],[4,24,4,25],[0,14,0,17],[0,18,0,21],[0,22,0,24],[3,14,3,25],[4,11,4,12],[4,14,4,15]]}
[null,null,null,null,null,null,null,null,null,null,null,null,null,null,"MSUAASF",null,null,null,"RANGE A",null,null,null,"7/1/2023 (FY24)"]
[null,null,null,null,null,null,null,null,null,null,null,null,null,null,null,null,{"$f":"'(HIDE) MASTER-Chart'!$C$7","v":35383},null,"to",null,{"$f":"'(HIDE) MASTER-Chart'!$C$22","v":54911},null," ",null," "]
[]
["TOTAL",null,null,null,null,null,null,null,null,null,null,null,null,null,"Years in Equal or Higher MSUAASF, MnSCU Academic Professional, MnSCU Academic Supervisor  and/or MnSCU Administrator Ranges"]
["YRS EXP","0-1",null,"2 - 3",null,"4 - 5",null,"6 - 7",null,"8 - 9",null,"10 +",null,null,"0-1",null,"2 - 3",null,"4 - 5",null,"6 - 7",null,"8 - 9",null,"10 +"]
[" ",6,null,null,null,null,null,null,null,null,null,null,null,"TARGET",{"$f":"IFERROR(\nIF($W$1='(HIDE) MASTER-Chart'!$J$2,\nVLOOKUP(B6,'(HIDE) MASTER-Chart'!$B:$G,2,FALSE),\nVLOOKUP(B6,'(HIDE) MASTER-Chart'!$M:$R,2,FALSE)),\"\")","v":36325},{"$f":"IF(ISBLANK(B6),\"\",CONCATENATE(\"(\",B6,\")\"))","v":"(6)"},{"$f":"IFERROR(\nIF($W$1='(HIDE) MASTER-Chart'!$J$2,\nVLOOKUP(D6,'(HIDE) MASTER-Chart'!$B:$G,2,FALSE),\nVLOOKUP(D6,'(HIDE) MASTER-Chart'!$M:$R,2,FALSE)),\"\")","v":""},{"$f":"IF(ISBLANK(D6),\"\",CONCATENATE(\"(\",D6,\")\"))","v":""},{"$f":"IFERROR(\nIF($W$1='(HIDE) MASTER-Chart'!$J$2,\nVLOOKUP(F6,'(HIDE) MASTER-Chart'!$B:$G,2,FALSE),\nVLOOKUP(F6,'(HIDE) MASTER-Chart'!$M:$R,2,FALSE)),\"\")","v":""},{"$f":"IF(ISBLANK(F6),\"\",CONCATENATE(\"(\",F6,\")\"))","v":""},{"$f":"IFERROR(\nIF($W$1='(HIDE) MASTER-Chart'!$J$2,\nVLOOKUP(H6,'(HIDE) MASTER-Chart'!$B:$G,2,FALSE),\nVLOOKUP(H6,'(HIDE) MASTER-Chart'!$M:$R,2,FALSE)),\"\")","v":""},{"$f":"IF(ISBLANK(H6),\"\",CONCATENATE(\"(\",H6,\")\"))","v":""},{"$f":"IFERROR(\nIF($W$1='(HIDE) MASTER-Chart'!$J$2,\nVLOOKUP(J6,'(HIDE) MASTER-Chart'!$B:$G,2,FALSE),\nVLOOKUP(J6,'(HIDE) MASTER-Chart'!$M:$R,2,FALSE)),\"\")","v":""},{"$f":"IF(ISBLANK(J6),\"\",CONCATENATE(\"(\",J6,\")\"))","v":""},{"$f":"IFERROR(\nIF($W$1='(HIDE) MASTER-Chart'!$J$2,\nVLOOKUP(L6,'(HIDE) MASTER-Chart'!$B:$G,2,FALSE),\nVLOOKUP(L6,'(HIDE) MASTER-Chart'!$M:$R,2,FALSE)),\"\")","v":""},{"$f":"IF(ISBLANK(L6),\"\",CONCATENATE(\"(\",L6,\")\"))","v":""}]
["0 - 1",5,null,null,null,null,null,null,null,null,null,null,null,"2 STEP",{"$f":"IFERROR(\nIF($W$1='(HIDE) MASTER-Chart'!$J$2,\nVLOOKUP(B7,'(HIDE) MASTER-Chart'!$B:$G,2,FALSE),\nVLOOKUP(B7,'(HIDE) MASTER-Chart'!$M:$R,2,FALSE)),\"\")","v":35383},{"$f":"IF(ISBLANK(B7),\"\",CONCATENATE(\"(\",B7,\")\"))","v":"(5)"},{"$f":"IFERROR(\nIF($W$1='(HIDE) MASTER-Chart'!$J$2,\nVLOOKUP(D7,'(HIDE) MASTER-Chart'!$B:$G,2,FALSE),\nVLOOKUP(D7,'(HIDE) MASTER-Chart'!$M:$R,2,FALSE)),\"\")","v":""},"",{"$f":"IFERROR(\nIF($W$1='(HIDE) MASTER-Chart'!$J$2,\nVLOOKUP(F7,'(HIDE) MASTER-Chart'!$B:$G,2,FALSE),\nVLOOKUP(F7,'(HIDE) MASTER-Chart'!$M:$R,2,FALSE)),\"\")","v":""},"",{"$f":"IFERROR(\nIF($W$1='(HIDE) MASTER-Chart'!$J$2,\nVLOOKUP(H7,'(HIDE) MASTER-Chart'!$B:$G,2,FALSE),\nVLOOKUP(H7,'(HIDE) MASTER-Chart'!$M:$R,2,FALSE)),\"\")","v":""},"",{"$f":"IFERROR(\nIF($W$1='(HIDE) MASTER-Chart'!$J$2,\nVLOOKUP(J7,'(HIDE) MASTER-Chart'!$B:$G,2,FALSE),\nVLOOKUP(J7,'(HIDE) MASTER-Chart'!$M:$R,2,FALSE)),\"\")","v":""},"",{"$f":"IFERROR(\nIF($W$1='(HIDE) MASTER-Chart'!$J$2,\nVLOOKUP(L7,'(HIDE) MASTER-Chart'!$B:$G,2,FALSE),\nVLOOKUP(L7,'(HIDE) MASTER-Chart'!$M:$R,2,FALSE)),\"\")","v":""},""]
[null,null,null,null,null,null,null,null,null,null,null,null,null,null," ",null," ",null," ",null," ",null," ",null," "]
[null,7,null,7,null,null,null,null,null,null,null,null,null,"TARGET",{"$f":"IFERROR(\nIF($W$1='(HIDE) MASTER-Chart'!$J$2,\nVLOOKUP(B9,'(HIDE) MASTER-Chart'!$B:$G,2,FALSE),\nVLOOKUP(B9,'(HIDE) MASTER-Chart'!$M:$R,2,FALSE)),\"\")","v":37402},{"$f":"IF(ISBLANK(B9),\"\",CONCATENATE(\"(\",B9,\")\"))","v":"(7)"},{"$f":"IFERROR(\nIF($W$1='(HIDE) MASTER-Chart'!$J$2,\nVLOOKUP(D9,'(HIDE) MASTER-Chart'!$B:$G,2,FALSE),\nVLOOKUP(D9,'(HIDE) MASTER-Chart'!$M:$R,2,FALSE)),\"\")","v":37402},{"$f":"IF(ISBLANK(D9),\"\",CONCATENATE(\"(\",D9,\")\"))","v":"(7)"},{"$f":"IFERROR(\nIF($W$1='(HIDE) MASTER-Chart'!$J$2,\nVLOOKUP(F9,'(HIDE) MASTER-Chart'!$B:$G,2,FALSE),\nVLOOKUP(F9,'(HIDE) MASTER-Chart'!$M:$R,2,FALSE)),\"\")","v":""},{"$f":"IF(ISBLANK(F9),\"\",CONCATENATE(\"(\",F9,\")\"))","v":""},{"$f":"IFERROR(\nIF($W$1='(HIDE) MASTER-Chart'!$J$2,\nVLOOKUP(H9,'(HIDE) MASTER-Chart'!$B:$G,2,FALSE),\nVLOOKUP(H9,'(HIDE) MASTER-Chart'!$M:$R,2,FALSE)),\"\")","v":""},{"$f":"IF(ISBLANK(H9),\"\",CONCATENATE(\"(\",H9,\")\"))","v":""},{"$f":"IFERROR(\nIF($W$1='(HIDE) MASTER-Chart'!$J$2,\nVLOOKUP(J9,'(HIDE) MASTER-Chart'!$B:$G,2,FALSE),\nVLOOKUP(J9,'(HIDE) MASTER-Chart'!$M:$R,2,FALSE)),\"\")","v":""},{"$f":"IF(ISBLANK(J9),\"\",CONCATENATE(\"(\",J9,\")\"))","v":""},{"$f":"IFERROR(\nIF($W$1='(HIDE) MASTER-Chart'!$J$2,\nVLOOKUP(L9,'(HIDE) MASTER-Chart'!$B:$G,2,FALSE),\nVLOOKUP(L9,'(HIDE) MASTER-Chart'!$M:$R,2,FALSE)),\"\")","v":""},{"$f":"IF(ISBLANK(L9),\"\",CONCATENATE(\"(\",L9,\")\"))","v":""}]
["2 - 3",5,null,5,null,null,null,null,null,null,null,null,null,"2 STEP",{"$f":"IFERROR(\nIF($W$1='(HIDE) MASTER-Chart'!$J$2,\nVLOOKUP(B10,'(HIDE) MASTER-Chart'!$B:$G,2,FALSE),\nVLOOKUP(B10,'(HIDE) MASTER-Chart'!$M:$R,2,FALSE)),\"\")","v":35383},{"$f":"IF(ISBLANK(B10),\"\",CONCATENATE(\"(\",B10,\")\"))","v":"(5)"},{"$f":"IFERROR(\nIF($W$1='(HIDE) MASTER-Chart'!$J$2,\nVLOOKUP(D10,'(HIDE) MASTER-Chart'!$B:$G,2,FALSE),\nVLOOKUP(D10,'(HIDE) MASTER-Chart'!$M:$R,2,FALSE)),\"\")","v":35383},"(5)",{"$f":"IFERROR(\nIF($W$1='(HIDE) MASTER-Chart'!$J$2,\nVLOOKUP(F10,'(HIDE) MASTER-Chart'!$B:$G,2,FALSE),\nVLOOKUP(F10,'(HIDE) MASTER-Chart'!$M:$R,2,FALSE)),\"\")","v":""},"",{"$f":"IFERROR(\nIF($W$1='(HIDE) MASTER-Chart'!$J$2,\nVLOOKUP(H10,'(HIDE) MASTER-Chart'!$B:$G,2,FALSE),\nVLOOKUP(H10,'(HIDE) MASTER-Chart'!$M:$R,2,FALSE)),\"\")","v":""},"",{"$f":"IFERROR(\nIF($W$1='(HIDE) MASTER-Chart'!$J$2,\nVLOOKUP(J10,'(HIDE) MASTER-Chart'!$B:$G,2,FALSE),\nVLOOKUP(J10,'(HIDE) MASTER-Chart'!$M:$R,2,FALSE)),\"\")","v":""},"",{"$f":"IFERROR(\nIF($W$1='(HIDE) MASTER-Chart'!$J$2,\nVLOOKUP(L10,'(HIDE) MASTER-Chart'!$B:$G,2,FALSE),\nVLOOKUP(L10,'(HIDE) MASTER-Chart'!$M:$R,2,FALSE)),\"\")","v":""},""]
[null,null,null,null,null,null,null,null,null,null,null,null,null,null," ",null," ",null," ",null," ",null," ",null," "]
[null,8,null,8,null,9,null,null,null,null,null,null,null,"TARGET",{"$f":"IFERROR(\nIF($W$1='(HIDE) MASTER-Chart'!$J$2,\nVLOOKUP(B12,'(HIDE) MASTER-Chart'!$B:$G,2,FALSE),\nVLOOKUP(B12,'(HIDE) MASTER-Chart'!$M:$R,2,FALSE)),\"\")","v":38526},{"$f":"IF(ISBLANK(B12),\"\",CONCATENATE(\"(\",B12,\")\"))","v":"(8)"},{"$f":"IFERROR(\nIF($W$1='(HIDE) MASTER-Chart'!$J$2,\nVLOOKUP(D12,'(HIDE) MASTER-Chart'!$B:$G,2,FALSE),\nVLOOKUP(D12,'(HIDE) MASTER-Chart'!$M:$R,2,FALSE)),\"\")","v":38526},{"$f":"IF(ISBLANK(D12),\"\",CONCATENATE(\"(\",D12,\")\"))","v":"(8)"},{"$f":"IFERROR(\nIF($W$1='(HIDE) MASTER-Chart'!$J$2,\nVLOOKUP(F12,'(HIDE) MASTER-Chart'!$B:$G,2,FALSE),\nVLOOKUP(F12,'(HIDE) MASTER-Chart'!$M:$R,2,FALSE)),\"\")","v":39797},{"$f":"IF(ISBLANK(F12),\"\",CONCATENATE(\"(\",F12,\")\"))","v":"(9)"},{"$f":"IFERROR(\nIF($W$1='(HIDE) MASTER-Chart'!$J$2,\nVLOOKUP(H12,'(HIDE) MASTER-Chart'!$B:$G,2,FALSE),\nVLOOKUP(H12,'(HIDE) MASTER-Chart'!$M:$R,2,FALSE)),\"\")","v":""},{"$f":"IF(ISBLANK(H12),\"\",CONCATENATE(\"(\",H12,\")\"))","v":""},{"$f":"IFERROR(\nIF($W$1='(HIDE) MASTER-Chart'!$J$2,\nVLOOKUP(J12,'(HIDE) MASTER-Chart'!$B:$G,2,FALSE),\nVLOOKUP(J12,'(HIDE) MASTER-Chart'!$M:$R,2,FALSE)),\"\")","v":""},{"$f":"IF(ISBLANK(J12),\"\",CONCATENATE(\"(\",J12,\")\"))","v":""},{"$f":"IFERROR(\nIF($W$1='(HIDE) MASTER-Chart'!$J$2,\nVLOOKUP(L12,'(HIDE) MASTER-Chart'!$B:$G,2,FALSE),\nVLOOKUP(L12,'(HIDE) MASTER-Chart'!$M:$R,2,FALSE)),\"\")","v":""},{"$f":"IF(ISBLANK(L12),\"\",CONCATENATE(\"(\",L12,\")\"))","v":""}]
["4 - 5",6,null,6,null,7,null,null,null,null,null,null,null,"2 STEP",{"$f":"IFERROR(\nIF($W$1='(HIDE) MASTER-Chart'!$J$2,\nVLOOKUP(B13,'(HIDE) MASTER-Chart'!$B:$G,2,FALSE),\nVLOOKUP(B13,'(HIDE) MASTER-Chart'!$M:$R,2,FALSE)),\"\")","v":36325},{"$f":"IF(ISBLANK(B13),\"\",CONCATENATE(\"(\",B13,\")\"))","v":"(6)"},{"$f":"IFERROR(\nIF($W$1='(HIDE) MASTER-Chart'!$J$2,\nVLOOKUP(D13,'(HIDE) MASTER-Chart'!$B:$G,2,FALSE),\nVLOOKUP(D13,'(HIDE) MASTER-Chart'!$M:$R,2,FALSE)),\"\")","v":36325},"(6)",{"$f":"IFERROR(\nIF($W$1='(HIDE) MASTER-Chart'!$J$2,\nVLOOKUP(F13,'(HIDE) MASTER-Chart'!$B:$G,2,FALSE),\nVLOOKUP(F13,'(HIDE) MASTER-Chart'!$M:$R,2,FALSE)),\"\")","v":37402},"(7)",{"$f":"IFERROR(\nIF($W$1='(HIDE) MASTER-Chart'!$J$2,\nVLOOKUP(H13,'(HIDE) MASTER-Chart'!$B:$G,2,FALSE),\nVLOOKUP(H13,'(HIDE) MASTER-Chart'!$M:$R,2,FALSE)),\"\")","v":""},"",{"$f":"IFERROR(\nIF($W$1='(HIDE) MASTER-Chart'!$J$2,\nVLOOKUP(J13,'(HIDE) MASTER-Chart'!$B:$G,2,FALSE),\nVLOOKUP(J13,'(HIDE) MASTER-Chart'!$M:$R,2,FALSE)),\"\")","v":""},"",{"$f":"IFERROR(\nIF($W$1='(HIDE) MASTER-Chart'!$J$2,\nVLOOKUP(L13,'(HIDE) MASTER-Chart'!$B:$G,2,FALSE),\nVLOOKUP(L13,'(HIDE) MASTER-Chart'!$M:$R,2,FALSE)),\"\")","v":""},""]
[null,null,null,null,null,null,null,null,null,null,null,null,null,null," ",null," ",null," ",null," ",null," ",null," "]
[null,9,null,9,null,10,null,10,null,null,null,null,null,"TARGET",{"$f":"IFERROR(\nIF($W$1='(HIDE) MASTER-Chart'!$J$2,\nVLOOKUP(B15,'(HIDE) MASTER-Chart'!$B:$G,2,FALSE),\nVLOOKUP(B15,'(HIDE) MASTER-Chart'!$M:$R,2,FALSE)),\"\")","v":39797},{"$f":"IF(ISBLANK(B15),\"\",CONCATENATE(\"(\",B15,\")\"))","v":"(9)"},{"$f":"IFERROR(\nIF($W$1='(HIDE) MASTER-Chart'!$J$2,\nVLOOKUP(D15,'(HIDE) MASTER-Chart'!$B:$G,2,FALSE),\nVLOOKUP(D15,'(HIDE) MASTER-Chart'!$M:$R,2,FALSE)),\"\")","v":39797},{"$f":"IF(ISBLANK(D15),\"\",CONCATENATE(\"(\",D15,\")\"))","v":"(9)"},{"$f":"IFERROR(\nIF($W$1='(HIDE) MASTER-Chart'!$J$2,\nVLOOKUP(F15,'(HIDE) MASTER-Chart'!$B:$G,2,FALSE),\nVLOOKUP(F15,'(HIDE) MASTER-Chart'!$M:$R,2,FALSE)),\"\")","v":41072},{"$f":"IF(ISBLANK(F15),\"\",CONCATENATE(\"(\",F15,\")\"))","v":"(10)"},{"$f":"IFERROR(\nIF($W$1='(HIDE) MASTER-Chart'!$J$2,\nVLOOKUP(H15,'(HIDE) MASTER-Chart'!$B:$G,2,FALSE),\nVLOOKUP(H15,'(HIDE) MASTER-Chart'!$M:$R,2,FALSE)),\"\")","v":41072},{"$f":"IF(ISBLANK(H15),\"\",CONCATENATE(\"(\",H15,\")\"))","v":"(10)"},{"$f":"IFERROR(\nIF($W$1='(HIDE) MASTER-Chart'!$J$2,\nVLOOKUP(J15,'(HIDE) MASTER-Chart'!$B:$G,2,FALSE),\nVLOOKUP(J15,'(HIDE) MASTER-Chart'!$M:$R,2,FALSE)),\"\")","v":""},{"$f":"IF(ISBLANK(J15),\"\",CONCATENATE(\"(\",J15,\")\"))","v":""},{"$f":"IFERROR(\nIF($W$1='(HIDE) MASTER-Chart'!$J$2,\nVLOOKUP(L15,'(HIDE) MASTER-Chart'!$B:$G,2,FALSE),\nVLOOKUP(L15,'(HIDE) MASTER-Chart'!$M:$R,2,FALSE)),\"\")","v":""},{"$f":"IF(ISBLANK(L15),\"\",CONCATENATE(\"(\",L15,\")\"))","v":""}]
["6 - 7",7,null,7,null,8,null,8,null,null,null,null,null,"2 STEP",{"$f":"IFERROR(\nIF($W$1='(HIDE) MASTER-Chart'!$J$2,\nVLOOKUP(B16,'(HIDE) MASTER-Chart'!$B:$G,2,FALSE),\nVLOOKUP(B16,'(HIDE) MASTER-Chart'!$M:$R,2,FALSE)),\"\")","v":37402},{"$f":"IF(ISBLANK(B16),\"\",CONCATENATE(\"(\",B16,\")\"))","v":"(7)"},{"$f":"IFERROR(\nIF($W$1='(HIDE) MASTER-Chart'!$J$2,\nVLOOKUP(D16,'(HIDE) MASTER-Chart'!$B:$G,2,FALSE),\nVLOOKUP(D16,'(HIDE) MASTER-Chart'!$M:$R,2,FALSE)),\"\")","v":37402},"(7)",{"$f":"IFERROR(\nIF($W$1='(HIDE) MASTER-Chart'!$J$2,\nVLOOKUP(F16,'(HIDE) MASTER-Chart'!$B:$G,2,FALSE),\nVLOOKUP(F16,'(HIDE) MASTER-Chart'!$M:$R,2,FALSE)),\"\")","v":38526},"(8)",{"$f":"IFERROR(\nIF($W$1='(HIDE) MASTER-Chart'!$J$2,\nVLOOKUP(H16,'(HIDE) MASTER-Chart'!$B:$G,2,FALSE),\nVLOOKUP(H16,'(HIDE) MASTER-Chart'!$M:$R,2,FALSE)),\"\")","v":38526},"(8)",{"$f":"IFERROR(\nIF($W$1='(HIDE) MASTER-Chart'!$J$2,\nVLOOKUP(J16,'(HIDE) MASTER-Chart'!$B:$G,2,FALSE),\nVLOOKUP(J16,'(HIDE) MASTER-Chart'!$M:$R,2,FALSE)),\"\")","v":""},"",{"$f":"IFERROR(\nIF($W$1='(HIDE) MASTER-Chart'!$J$2,\nVLOOKUP(L16,'(HIDE) MASTER-Chart'!$B:$G,2,FALSE),\nVLOOKUP(L16,'(HIDE) MASTER-Chart'!$M:$R,2,FALSE)),\"\")","v":""},""]
[null,null,null,null,null,null,null,null,null,null,null,null,null,null," ",null," ",null," ",null," ",null," ",null," "]
[null,10,null,10,null,11,null,11,null,12,null,null,null,"TARGET",{"$f":"IFERROR(\nIF($W$1='(HIDE) MASTER-Chart'!$J$2,\nVLOOKUP(B18,'(HIDE) MASTER-Chart'!$B:$G,2,FALSE),\nVLOOKUP(B18,'(HIDE) MASTER-Chart'!$M:$R,2,FALSE)),\"\")","v":41072},{"$f":"IF(ISBLANK(B18),\"\",CONCATENATE(\"(\",B18,\")\"))","v":"(10)"},{"$f":"IFERROR(\nIF($W$1='(HIDE) MASTER-Chart'!$J$2,\nVLOOKUP(D18,'(HIDE) MASTER-Chart'!$B:$G,2,FALSE),\nVLOOKUP(D18,'(HIDE) MASTER-Chart'!$M:$R,2,FALSE)),\"\")","v":41072},{"$f":"IF(ISBLANK(D18),\"\",CONCATENATE(\"(\",D18,\")\"))","v":"(10)"},{"$f":"IFERROR(\nIF($W$1='(HIDE) MASTER-Chart'!$J$2,\nVLOOKUP(F18,'(HIDE) MASTER-Chart'!$B:$G,2,FALSE),\nVLOOKUP(F18,'(HIDE) MASTER-Chart'!$M:$R,2,FALSE)),\"\")","v":42349},{"$f":"IF(ISBLANK(F18),\"\",CONCATENATE(\"(\",F18,\")\"))","v":"(11)"},{"$f":"IFERROR(\nIF($W$1='(HIDE) MASTER-Chart'!$J$2,\nVLOOKUP(H18,'(HIDE) MASTER-Chart'!$B:$G,2,FALSE),\nVLOOKUP(H18,'(HIDE) MASTER-Chart'!$M:$R,2,FALSE)),\"\")","v":42349},{"$f":"IF(ISBLANK(H18),\"\",CONCATENATE(\"(\",H18,\")\"))","v":"(11)"},{"$f":"IFERROR(\nIF($W$1='(HIDE) MASTER-Chart'!$J$2,\nVLOOKUP(J18,'(HIDE) MASTER-Chart'!$B:$G,2,FALSE),\nVLOOKUP(J18,'(HIDE) MASTER-Chart'!$M:$R,2,FALSE)),\"\")","v":43627},{"$f":"IF(ISBLANK(J18),\"\",CONCATENATE(\"(\",J18,\")\"))","v":"(12)"},{"$f":"IFERROR(\nIF($W$1='(HIDE) MASTER-Chart'!$J$2,\nVLOOKUP(L18,'(HIDE) MASTER-Chart'!$B:$G,2,FALSE),\nVLOOKUP(L18,'(HIDE) MASTER-Chart'!$M:$R,2,FALSE)),\"\")","v":""},{"$f":"IF(ISBLANK(L18),\"\",CONCATENATE(\"(\",L18,\")\"))","v":""}]
[" 8 - 9",8,null,8,null,9,null,9,null,10,null,null,null,"2 STEP",{"$f":"IFERROR(\nIF($W$1='(HIDE) MASTER-Chart'!$J$2,\nVLOOKUP(B19,'(HIDE) MASTER-Chart'!$B:$G,2,FALSE),\nVLOOKUP(B19,'(HIDE) MASTER-Chart'!$M:$R,2,FALSE)),\"\")","v":38526},{"$f":"IF(ISBLANK(B19),\"\",CONCATENATE(\"(\",B19,\")\"))","v":"(8)"},{"$f":"IFERROR(\nIF($W$1='(HIDE) MASTER-Chart'!$J$2,\nVLOOKUP(D19,'(HIDE) MASTER-Chart'!$B:$G,2,FALSE),\nVLOOKUP(D19,'(HIDE) MASTER-Chart'!$M:$R,2,FALSE)),\"\")","v":38526},"(8)",{"$f":"IFERROR(\nIF($W$1='(HIDE) MASTER-Chart'!$J$2,\nVLOOKUP(F19,'(HIDE) MASTER-Chart'!$B:$G,2,FALSE),\nVLOOKUP(F19,'(HIDE) MASTER-Chart'!$M:$R,2,FALSE)),\"\")","v":39797},"(9)",{"$f":"IFERROR(\nIF($W$1='(HIDE) MASTER-Chart'!$J$2,\nVLOOKUP(H19,'(HIDE) MASTER-Chart'!$B:$G,2,FALSE),\nVLOOKUP(H19,'(HIDE) MASTER-Chart'!$M:$R,2,FALSE)),\"\")","v":39797},"(9)",{"$f":"IFERROR(\nIF($W$1='(HIDE) MASTER-Chart'!$J$2,\nVLOOKUP(J19,'(HIDE) MASTER-Chart'!$B:$G,2,FALSE),\nVLOOKUP(J19,'(HIDE) MASTER-Chart'!$M:$R,2,FALSE)),\"\")","v":41072},"(10)",{"$f":"IFERROR(\nIF($W$1='(HIDE) MASTER-Chart'!$J$2,\nVLOOKUP(L19,'(HIDE) MASTER-Chart'!$B:$G,2,FALSE),\nVLOOKUP(L19,'(HIDE) MASTER-Chart'!$M:$R,2,FALSE)),\"\")","v":""},""]
[null,null,null,null,null,null,null,null,null,null,null,null,null,null," ",null," ",null," ",null," ",null," ",null," "]
[null,11,null,11,null,12,null,12,null,13,null,13,null,"TARGET",{"$f":"IFERROR(\nIF($W$1='(HIDE) MASTER-Chart'!$J$2,\nVLOOKUP(B21,'(HIDE) MASTER-Chart'!$B:$G,2,FALSE),\nVLOOKUP(B21,'(HIDE) MASTER-Chart'!$M:$R,2,FALSE)),\"\")","v":42349},{"$f":"IF(ISBLANK(B21),\"\",CONCATENATE(\"(\",B21,\")\"))","v":"(11)"},{"$f":"IFERROR(\nIF($W$1='(HIDE) MASTER-Chart'!$J$2,\nVLOOKUP(D21,'(HIDE) MASTER-Chart'!$B:$G,2,FALSE),\nVLOOKUP(D21,'(HIDE) MASTER-Chart'!$M:$R,2,FALSE)),\"\")","v":42349},{"$f":"IF(ISBLANK(D21),\"\",CONCATENATE(\"(\",D21,\")\"))","v":"(11)"},{"$f":"IFERROR(\nIF($W$1='(HIDE) MASTER-Chart'!$J$2,\nVLOOKUP(F21,'(HIDE) MASTER-Chart'!$B:$G,2,FALSE),\nVLOOKUP(F21,'(HIDE) MASTER-Chart'!$M:$R,2,FALSE)),\"\")","v":43627},{"$f":"IF(ISBLANK(F21),\"\",CONCATENATE(\"(\",F21,\")\"))","v":"(12)"},{"$f":"IFERROR(\nIF($W$1='(HIDE) MASTER-Chart'!$J$2,\nVLOOKUP(H21,'(HIDE) MASTER-Chart'!$B:$G,2,FALSE),\nVLOOKUP(H21,'(HIDE) MASTER-Chart'!$M:$R,2,FALSE)),\"\")","v":43627},{"$f":"IF(ISBLANK(H21),\"\",CONCATENATE(\"(\",H21,\")\"))","v":"(12)"},{"$f":"IFERROR(\nIF($W$1='(HIDE) MASTER-Chart'!$J$2,\nVLOOKUP(J21,'(HIDE) MASTER-Chart'!$B:$G,2,FALSE),\nVLOOKUP(J21,'(HIDE) MASTER-Chart'!$M:$R,2,FALSE)),\"\")","v":44896},{"$f":"IF(ISBLANK(J21),\"\",CONCATENATE(\"(\",J21,\")\"))","v":"(13)"},{"$f":"IFERROR(\nIF($W$1='(HIDE) MASTER-Chart'!$J$2,\nVLOOKUP(L21,'(HIDE) MASTER-Chart'!$B:$G,2,FALSE),\nVLOOKUP(L21,'(HIDE) MASTER-Chart'!$M:$R,2,FALSE)),\"\")","v":44896},{"$f":"IF(ISBLANK(L21),\"\",CONCATENATE(\"(\",L21,\")\"))","v":"(13)"}]
["10 - 11",9,null,9,null,10,null,10,null,11,null,11,null,"2 STEP",{"$f":"IFERROR(\nIF($W$1='(HIDE) MASTER-Chart'!$J$2,\nVLOOKUP(B22,'(HIDE) MASTER-Chart'!$B:$G,2,FALSE),\nVLOOKUP(B22,'(HIDE) MASTER-Chart'!$M:$R,2,FALSE)),\"\")","v":39797},{"$f":"IF(ISBLANK(B22),\"\",CONCATENATE(\"(\",B22,\")\"))","v":"(9)"},{"$f":"IFERROR(\nIF($W$1='(HIDE) MASTER-Chart'!$J$2,\nVLOOKUP(D22,'(HIDE) MASTER-Chart'!$B:$G,2,FALSE),\nVLOOKUP(D22,'(HIDE) MASTER-Chart'!$M:$R,2,FALSE)),\"\")","v":39797},"(9)",{"$f":"IFERROR(\nIF($W$1='(HIDE) MASTER-Chart'!$J$2,\nVLOOKUP(F22,'(HIDE) MASTER-Chart'!$B:$G,2,FALSE),\nVLOOKUP(F22,'(HIDE) MASTER-Chart'!$M:$R,2,FALSE)),\"\")","v":41072},"(10)",{"$f":"IFERROR(\nIF($W$1='(HIDE) MASTER-Chart'!$J$2,\nVLOOKUP(H22,'(HIDE) MASTER-Chart'!$B:$G,2,FALSE),\nVLOOKUP(H22,'(HIDE) MASTER-Chart'!$M:$R,2,FALSE)),\"\")","v":41072},"(10)",{"$f":"IFERROR(\nIF($W$1='(HIDE) MASTER-Chart'!$J$2,\nVLOOKUP(J22,'(HIDE) MASTER-Chart'!$B:$G,2,FALSE),\nVLOOKUP(J22,'(HIDE) MASTER-Chart'!$M:$R,2,FALSE)),\"\")","v":42349},"(11)",{"$f":"IFERROR(\nIF($W$1='(HIDE) MASTER-Chart'!$J$2,\nVLOOKUP(L22,'(HIDE) MASTER-Chart'!$B:$G,2,FALSE),\nVLOOKUP(L22,'(HIDE) MASTER-Chart'!$M:$R,2,FALSE)),\"\")","v":42349},"(11)"]
[null,null,null,null,null,null,null,null,null,null,null,null,null,null," ",null," ",null," ",null," ",null," ",null," "]
[null,11,null,12,null,13,null,13,null,14,null,14,null,"TARGET",{"$f":"IFERROR(\nIF($W$1='(HIDE) MASTER-Chart'!$J$2,\nVLOOKUP(B24,'(HIDE) MASTER-Chart'!$B:$G,2,FALSE),\nVLOOKUP(B24,'(HIDE) MASTER-Chart'!$M:$R,2,FALSE)),\"\")","v":42349},{"$f":"IF(ISBLANK(B24),\"\",CONCATENATE(\"(\",B24,\")\"))","v":"(11)"},{"$f":"IFERROR(\nIF($W$1='(HIDE) MASTER-Chart'!$J$2,\nVLOOKUP(D24,'(HIDE) MASTER-Chart'!$B:$G,2,FALSE),\nVLOOKUP(D24,'(HIDE) MASTER-Chart'!$M:$R,2,FALSE)),\"\")","v":43627},{"$f":"IF(ISBLANK(D24),\"\",CONCATENATE(\"(\",D24,\")\"))","v":"(12)"},{"$f":"IFERROR(\nIF($W$1='(HIDE) MASTER-Chart'!$J$2,\nVLOOKUP(F24,'(HIDE) MASTER-Chart'!$B:$G,2,FALSE),\nVLOOKUP(F24,'(HIDE) MASTER-Chart'!$M:$R,2,FALSE)),\"\")","v":44896},{"$f":"IF(ISBLANK(F24),\"\",CONCATENATE(\"(\",F24,\")\"))","v":"(13)"},{"$f":"IFERROR(\nIF($W$1='(HIDE) MASTER-Chart'!$J$2,\nVLOOKUP(H24,'(HIDE) MASTER-Chart'!$B:$G,2,FALSE),\nVLOOKUP(H24,'(HIDE) MASTER-Chart'!$M:$R,2,FALSE)),\"\")","v":44896},{"$f":"IF(ISBLANK(H24),\"\",CONCATENATE(\"(\",H24,\")\"))","v":"(13)"},{"$f":"IFERROR(\nIF($W$1='(HIDE) MASTER-Chart'!$J$2,\nVLOOKUP(J24,'(HIDE) MASTER-Chart'!$B:$G,2,FALSE),\nVLOOKUP(J24,'(HIDE) MASTER-Chart'!$M:$R,2,FALSE)),\"\")","v":46197},{"$f":"IF(ISBLANK(J24),\"\",CONCATENATE(\"(\",J24,\")\"))","v":"(14)"},{"$f":"IFERROR(\nIF($W$1='(HIDE) MASTER-Chart'!$J$2,\nVLOOKUP(L24,'(HIDE) MASTER-Chart'!$B:$G,2,FALSE),\nVLOOKUP(L24,'(HIDE) MASTER-Chart'!$M:$R,2,FALSE)),\"\")","v":46197},{"$f":"IF(ISBLANK(L24),\"\",CONCATENATE(\"(\",L24,\")\"))","v":"(14)"}]
["12 - 13",9,null,10,null,11,null,11,null,12,null,12,null,"2 STEP",{"$f":"IFERROR(\nIF($W$1='(HIDE) MASTER-Chart'!$J$2,\nVLOOKUP(B25,'(HIDE) MASTER-Chart'!$B:$G,2,FALSE),\nVLOOKUP(B25,'(HIDE) MASTER-Chart'!$M:$R,2,FALSE)),\"\")","v":39797},{"$f":"IF(ISBLANK(B25),\"\",CONCATENATE(\"(\",B25,\")\"))","v":"(9)"},{"$f":"IFERROR(\nIF($W$1='(HIDE) MASTER-Chart'!$J$2,\nVLOOKUP(D25,'(HIDE) MASTER-Chart'!$B:$G,2,FALSE),\nVLOOKUP(D25,'(HIDE) MASTER-Chart'!$M:$R,2,FALSE)),\"\")","v":41072},"(10)",{"$f":"IFERROR(\nIF($W$1='(HIDE) MASTER-Chart'!$J$2,\nVLOOKUP(F25,'(HIDE) MASTER-Chart'!$B:$G,2,FALSE),\nVLOOKUP(F25,'(HIDE) MASTER-Chart'!$M:$R,2,FALSE)),\"\")","v":42349},"(11)",{"$f":"IFERROR(\nIF($W$1='(HIDE) MASTER-Chart'!$J$2,\nVLOOKUP(H25,'(HIDE) MASTER-Chart'!$B:$G,2,FALSE),\nVLOOKUP(H25,'(HIDE) MASTER-Chart'!$M:$R,2,FALSE)),\"\")","v":42349},"(11)",{"$f":"IFERROR(\nIF($W$1='(HIDE) MASTER-Chart'!$J$2,\nVLOOKUP(J25,'(HIDE) MASTER-Chart'!$B:$G,2,FALSE),\nVLOOKUP(J25,'(HIDE) MASTER-Chart'!$M:$R,2,FALSE)),\"\")","v":43627},"(12)",{"$f":"IFERROR(\nIF($W$1='(HIDE) MASTER-Chart'!$J$2,\nVLOOKUP(L25,'(HIDE) MASTER-Chart'!$B:$G,2,FALSE),\nVLOOKUP(L25,'(HIDE) MASTER-Chart'!$M:$R,2,FALSE)),\"\")","v":43627},"(12)"]
[null,null,null,null,null,null,null,null,null,null,null,null,null,null," ",null," ",null," ",null," ",null," ",null," "]
[null,12,null,13,null,13,null,14,null,14,null,15,null,"TARGET",{"$f":"IFERROR(\nIF($W$1='(HIDE) MASTER-Chart'!$J$2,\nVLOOKUP(B27,'(HIDE) MASTER-Chart'!$B:$G,2,FALSE),\nVLOOKUP(B27,'(HIDE) MASTER-Chart'!$M:$R,2,FALSE)),\"\")","v":43627},{"$f":"IF(ISBLANK(B27),\"\",CONCATENATE(\"(\",B27,\")\"))","v":"(12)"},{"$f":"IFERROR(\nIF($W$1='(HIDE) MASTER-Chart'!$J$2,\nVLOOKUP(D27,'(HIDE) MASTER-Chart'!$B:$G,2,FALSE),\nVLOOKUP(D27,'(HIDE) MASTER-Chart'!$M:$R,2,FALSE)),\"\")","v":44896},{"$f":"IF(ISBLANK(D27),\"\",CONCATENATE(\"(\",D27,\")\"))","v":"(13)"},{"$f":"IFERROR(\nIF($W$1='(HIDE) MASTER-Chart'!$J$2,\nVLOOKUP(F27,'(HIDE) MASTER-Chart'!$B:$G,2,FALSE),\nVLOOKUP(F27,'(HIDE) MASTER-Chart'!$M:$R,2,FALSE)),\"\")","v":44896},{"$f":"IF(ISBLANK(F27),\"\",CONCATENATE(\"(\",F27,\")\"))","v":"(13)"},{"$f":"IFERROR(\nIF($W$1='(HIDE) MASTER-Chart'!$J$2,\nVLOOKUP(H27,'(HIDE) MASTER-Chart'!$B:$G,2,FALSE),\nVLOOKUP(H27,'(HIDE) MASTER-Chart'!$M:$R,2,FALSE)),\"\")","v":46197},{"$f":"IF(ISBLANK(H27),\"\",CONCATENATE(\"(\",H27,\")\"))","v":"(14)"},{"$f":"IFERROR(\nIF($W$1='(HIDE) MASTER-Chart'!$J$2,\nVLOOKUP(J27,'(HIDE) MASTER-Chart'!$B:$G,2,FALSE),\nVLOOKUP(J27,'(HIDE) MASTER-Chart'!$M:$R,2,FALSE)),\"\")","v":46197},{"$f":"IF(ISBLANK(J27),\"\",CONCATENATE(\"(\",J27,\")\"))","v":"(14)"},{"$f":"IFERROR(\nIF($W$1='(HIDE) MASTER-Chart'!$J$2,\nVLOOKUP(L27,'(HIDE) MASTER-Chart'!$B:$G,2,FALSE),\nVLOOKUP(L27,'(HIDE) MASTER-Chart'!$M:$R,2,FALSE)),\"\")","v":47535},{"$f":"IF(ISBLANK(L27),\"\",CONCATENATE(\"(\",L27,\")\"))","v":"(15)"}]
["14 - 15",10,null,11,null,11,null,12,null,12,null,13,null,"2 STEP",{"$f":"IFERROR(\nIF($W$1='(HIDE) MASTER-Chart'!$J$2,\nVLOOKUP(B28,'(HIDE) MASTER-Chart'!$B:$G,2,FALSE),\nVLOOKUP(B28,'(HIDE) MASTER-Chart'!$M:$R,2,FALSE)),\"\")","v":41072},{"$f":"IF(ISBLANK(B28),\"\",CONCATENATE(\"(\",B28,\")\"))","v":"(10)"},{"$f":"IFERROR(\nIF($W$1='(HIDE) MASTER-Chart'!$J$2,\nVLOOKUP(D28,'(HIDE) MASTER-Chart'!$B:$G,2,FALSE),\nVLOOKUP(D28,'(HIDE) MASTER-Chart'!$M:$R,2,FALSE)),\"\")","v":42349},"(11)",{"$f":"IFERROR(\nIF($W$1='(HIDE) MASTER-Chart'!$J$2,\nVLOOKUP(F28,'(HIDE) MASTER-Chart'!$B:$G,2,FALSE),\nVLOOKUP(F28,'(HIDE) MASTER-Chart'!$M:$R,2,FALSE)),\"\")","v":42349},"(11)",{"$f":"IFERROR(\nIF($W$1='(HIDE) MASTER-Chart'!$J$2,\nVLOOKUP(H28,'(HIDE) MASTER-Chart'!$B:$G,2,FALSE),\nVLOOKUP(H28,'(HIDE) MASTER-Chart'!$M:$R,2,FALSE)),\"\")","v":43627},"(12)",{"$f":"IFERROR(\nIF($W$1='(HIDE) MASTER-Chart'!$J$2,\nVLOOKUP(J28,'(HIDE) MASTER-Chart'!$B:$G,2,FALSE),\nVLOOKUP(J28,'(HIDE) MASTER-Chart'!$M:$R,2,FALSE)),\"\")","v":43627},"(12)",{"$f":"IFERROR(\nIF($W$1='(HIDE) MASTER-Chart'!$J$2,\nVLOOKUP(L28,'(HIDE) MASTER-Chart'!$B:$G,2,FALSE),\nVLOOKUP(L28,'(HIDE) MASTER-Chart'!$M:$R,2,FALSE)),\"\")","v":44896},"(13)"]
[null,null,null,null,null,null,null,null,null,null,null,null,null,null," ",null," ",null," ",null," ",null," ",null," "]
[null,13,null,14,null,14,null,15,null,15,null,16,null,"TARGET",{"$f":"IFERROR(\nIF($W$1='(HIDE) MASTER-Chart'!$J$2,\nVLOOKUP(B30,'(HIDE) MASTER-Chart'!$B:$G,2,FALSE),\nVLOOKUP(B30,'(HIDE) MASTER-Chart'!$M:$R,2,FALSE)),\"\")","v":44896},{"$f":"IF(ISBLANK(B30),\"\",CONCATENATE(\"(\",B30,\")\"))","v":"(13)"},{"$f":"IFERROR(\nIF($W$1='(HIDE) MASTER-Chart'!$J$2,\nVLOOKUP(D30,'(HIDE) MASTER-Chart'!$B:$G,2,FALSE),\nVLOOKUP(D30,'(HIDE) MASTER-Chart'!$M:$R,2,FALSE)),\"\")","v":46197},{"$f":"IF(ISBLANK(D30),\"\",CONCATENATE(\"(\",D30,\")\"))","v":"(14)"},{"$f":"IFERROR(\nIF($W$1='(HIDE) MASTER-Chart'!$J$2,\nVLOOKUP(F30,'(HIDE) MASTER-Chart'!$B:$G,2,FALSE),\nVLOOKUP(F30,'(HIDE) MASTER-Chart'!$M:$R,2,FALSE)),\"\")","v":46197},{"$f":"IF(ISBLANK(F30),\"\",CONCATENATE(\"(\",F30,\")\"))","v":"(14)"},{"$f":"IFERROR(\nIF($W$1='(HIDE) MASTER-Chart'!$J$2,\nVLOOKUP(H30,'(HIDE) MASTER-Chart'!$B:$G,2,FALSE),\nVLOOKUP(H30,'(HIDE) MASTER-Chart'!$M:$R,2,FALSE)),\"\")","v":47535},{"$f":"IF(ISBLANK(H30),\"\",CONCATENATE(\"(\",H30,\")\"))","v":"(15)"},{"$f":"IFERROR(\nIF($W$1='(HIDE) MASTER-Chart'!$J$2,\nVLOOKUP(J30,'(HIDE) MASTER-Chart'!$B:$G,2,FALSE),\nVLOOKUP(J30,'(HIDE) MASTER-Chart'!$M:$R,2,FALSE)),\"\")","v":47535},{"$f":"IF(ISBLANK(J30),\"\",CONCATENATE(\"(\",J30,\")\"))","v":"(15)"},{"$f":"IFERROR(\nIF($W$1='(HIDE) MASTER-Chart'!$J$2,\nVLOOKUP(L30,'(HIDE) MASTER-Chart'!$B:$G,2,FALSE),\nVLOOKUP(L30,'(HIDE) MASTER-Chart'!$M:$R,2,FALSE)),\"\")","v":48915},{"$f":"IF(ISBLANK(L30),\"\",CONCATENATE(\"(\",L30,\")\"))","v":"(16)"}]
["16 - 17",11,null,12,null,12,null,13,null,13,null,14,null,"2 STEP",{"$f":"IFERROR(\nIF($W$1='(HIDE) MASTER-Chart'!$J$2,\nVLOOKUP(B31,'(HIDE) MASTER-Chart'!$B:$G,2,FALSE),\nVLOOKUP(B31,'(HIDE) MASTER-Chart'!$M:$R,2,FALSE)),\"\")","v":42349},{"$f":"IF(ISBLANK(B31),\"\",CONCATENATE(\"(\",B31,\")\"))","v":"(11)"},{"$f":"IFERROR(\nIF($W$1='(HIDE) MASTER-Chart'!$J$2,\nVLOOKUP(D31,'(HIDE) MASTER-Chart'!$B:$G,2,FALSE),\nVLOOKUP(D31,'(HIDE) MASTER-Chart'!$M:$R,2,FALSE)),\"\")","v":43627},"(12)",{"$f":"IFERROR(\nIF($W$1='(HIDE) MASTER-Chart'!$J$2,\nVLOOKUP(F31,'(HIDE) MASTER-Chart'!$B:$G,2,FALSE),\nVLOOKUP(F31,'(HIDE) MASTER-Chart'!$M:$R,2,FALSE)),\"\")","v":43627},"(12)",{"$f":"IFERROR(\nIF($W$1='(HIDE) MASTER-Chart'!$J$2,\nVLOOKUP(H31,'(HIDE) MASTER-Chart'!$B:$G,2,FALSE),\nVLOOKUP(H31,'(HIDE) MASTER-Chart'!$M:$R,2,FALSE)),\"\")","v":44896},"(13)",{"$f":"IFERROR(\nIF($W$1='(HIDE) MASTER-Chart'!$J$2,\nVLOOKUP(J31,'(HIDE) MASTER-Chart'!$B:$G,2,FALSE),\nVLOOKUP(J31,'(HIDE) MASTER-Chart'!$M:$R,2,FALSE)),\"\")","v":44896},"(13)",{"$f":"IFERROR(\nIF($W$1='(HIDE) MASTER-Chart'!$J$2,\nVLOOKUP(L31,'(HIDE) MASTER-Chart'!$B:$G,2,FALSE),\nVLOOKUP(L31,'(HIDE) MASTER-Chart'!$M:$R,2,FALSE)),\"\")","v":46197},"(14)"]
[null,null,null,null,null,null,null,null,null,null,null,null,null,null," ",null," ",null," ",null," ",null," ",null," "]
[null,14,null,14,null,15,null,15,null,16,null,16,null,"TARGET",{"$f":"IFERROR(\nIF($W$1='(HIDE) MASTER-Chart'!$J$2,\nVLOOKUP(B33,'(HIDE) MASTER-Chart'!$B:$G,2,FALSE),\nVLOOKUP(B33,'(HIDE) MASTER-Chart'!$M:$R,2,FALSE)),\"\")","v":46197},{"$f":"IF(ISBLANK(B33),\"\",CONCATENATE(\"(\",B33,\")\"))","v":"(14)"},{"$f":"IFERROR(\nIF($W$1='(HIDE) MASTER-Chart'!$J$2,\nVLOOKUP(D33,'(HIDE) MASTER-Chart'!$B:$G,2,FALSE),\nVLOOKUP(D33,'(HIDE) MASTER-Chart'!$M:$R,2,FALSE)),\"\")","v":46197},{"$f":"IF(ISBLANK(D33),\"\",CONCATENATE(\"(\",D33,\")\"))","v":"(14)"},{"$f":"IFERROR(\nIF($W$1='(HIDE) MASTER-Chart'!$J$2,\nVLOOKUP(F33,'(HIDE) MASTER-Chart'!$B:$G,2,FALSE),\nVLOOKUP(F33,'(HIDE) MASTER-Chart'!$M:$R,2,FALSE)),\"\")","v":47535},{"$f":"IF(ISBLANK(F33),\"\",CONCATENATE(\"(\",F33,\")\"))","v":"(15)"},{"$f":"IFERROR(\nIF($W$1='(HIDE) MASTER-Chart'!$J$2,\nVLOOKUP(H33,'(HIDE) MASTER-Chart'!$B:$G,2,FALSE),\nVLOOKUP(H33,'(HIDE) MASTER-Chart'!$M:$R,2,FALSE)),\"\")","v":47535},{"$f":"IF(ISBLANK(H33),\"\",CONCATENATE(\"(\",H33,\")\"))","v":"(15)"},{"$f":"IFERROR(\nIF($W$1='(HIDE) MASTER-Chart'!$J$2,\nVLOOKUP(J33,'(HIDE) MASTER-Chart'!$B:$G,2,FALSE),\nVLOOKUP(J33,'(HIDE) MASTER-Chart'!$M:$R,2,FALSE)),\"\")","v":48915},{"$f":"IF(ISBLANK(J33),\"\",CONCATENATE(\"(\",J33,\")\"))","v":"(16)"},{"$f":"IFERROR(\nIF($W$1='(HIDE) MASTER-Chart'!$J$2,\nVLOOKUP(L33,'(HIDE) MASTER-Chart'!$B:$G,2,FALSE),\nVLOOKUP(L33,'(HIDE) MASTER-Chart'!$M:$R,2,FALSE)),\"\")","v":48915},{"$f":"IF(ISBLANK(L33),\"\",CONCATENATE(\"(\",L33,\")\"))","v":"(16)"}]
["18 - 19",12,null,12,null,13,null,13,null,14,null,14,null,"2 STEP",{"$f":"IFERROR(\nIF($W$1='(HIDE) MASTER-Chart'!$J$2,\nVLOOKUP(B34,'(HIDE) MASTER-Chart'!$B:$G,2,FALSE),\nVLOOKUP(B34,'(HIDE) MASTER-Chart'!$M:$R,2,FALSE)),\"\")","v":43627},{"$f":"IF(ISBLANK(B34),\"\",CONCATENATE(\"(\",B34,\")\"))","v":"(12)"},{"$f":"IFERROR(\nIF($W$1='(HIDE) MASTER-Chart'!$J$2,\nVLOOKUP(D34,'(HIDE) MASTER-Chart'!$B:$G,2,FALSE),\nVLOOKUP(D34,'(HIDE) MASTER-Chart'!$M:$R,2,FALSE)),\"\")","v":43627},"(12)",{"$f":"IFERROR(\nIF($W$1='(HIDE) MASTER-Chart'!$J$2,\nVLOOKUP(F34,'(HIDE) MASTER-Chart'!$B:$G,2,FALSE),\nVLOOKUP(F34,'(HIDE) MASTER-Chart'!$M:$R,2,FALSE)),\"\")","v":44896},"(13)",{"$f":"IFERROR(\nIF($W$1='(HIDE) MASTER-Chart'!$J$2,\nVLOOKUP(H34,'(HIDE) MASTER-Chart'!$B:$G,2,FALSE),\nVLOOKUP(H34,'(HIDE) MASTER-Chart'!$M:$R,2,FALSE)),\"\")","v":44896},"(13)",{"$f":"IFERROR(\nIF($W$1='(HIDE) MASTER-Chart'!$J$2,\nVLOOKUP(J34,'(HIDE) MASTER-Chart'!$B:$G,2,FALSE),\nVLOOKUP(J34,'(HIDE) MASTER-Chart'!$M:$R,2,FALSE)),\"\")","v":46197},"(14)",{"$f":"IFERROR(\nIF($W$1='(HIDE) MASTER-Chart'!$J$2,\nVLOOKUP(L34,'(HIDE) MASTER-Chart'!$B:$G,2,FALSE),\nVLOOKUP(L34,'(HIDE) MASTER-Chart'!$M:$R,2,FALSE)),\"\")","v":46197},"(14)"]
[null,null,null,null,null,null,null,null,null,null,null,null,null,null," ",null," ",null," ",null," ",null," ",null," "]
[null,15,null,15,null,16,null,16,null,16,null,16,null,"TARGET",{"$f":"IFERROR(\nIF($W$1='(HIDE) MASTER-Chart'!$J$2,\nVLOOKUP(B36,'(HIDE) MASTER-Chart'!$B:$G,2,FALSE),\nVLOOKUP(B36,'(HIDE) MASTER-Chart'!$M:$R,2,FALSE)),\"\")","v":47535},{"$f":"IF(ISBLANK(B36),\"\",CONCATENATE(\"(\",B36,\")\"))","v":"(15)"},{"$f":"IFERROR(\nIF($W$1='(HIDE) MASTER-Chart'!$J$2,\nVLOOKUP(D36,'(HIDE) MASTER-Chart'!$B:$G,2,FALSE),\nVLOOKUP(D36,'(HIDE) MASTER-Chart'!$M:$R,2,FALSE)),\"\")","v":47535},{"$f":"IF(ISBLANK(D36),\"\",CONCATENATE(\"(\",D36,\")\"))","v":"(15)"},{"$f":"IFERROR(\nIF($W$1='(HIDE) MASTER-Chart'!$J$2,\nVLOOKUP(F36,'(HIDE) MASTER-Chart'!$B:$G,2,FALSE),\nVLOOKUP(F36,'(HIDE) MASTER-Chart'!$M:$R,2,FALSE)),\"\")","v":48915},{"$f":"IF(ISBLANK(F36),\"\",CONCATENATE(\"(\",F36,\")\"))","v":"(16)"},{"$f":"IFERROR(\nIF($W$1='(HIDE) MASTER-Chart'!$J$2,\nVLOOKUP(H36,'(HIDE) MASTER-Chart'!$B:$G,2,FALSE),\nVLOOKUP(H36,'(HIDE) MASTER-Chart'!$M:$R,2,FALSE)),\"\")","v":48915},{"$f":"IF(ISBLANK(H36),\"\",CONCATENATE(\"(\",H36,\")\"))","v":"(16)"},{"$f":"IFERROR(\nIF($W$1='(HIDE) MASTER-Chart'!$J$2,\nVLOOKUP(J36,'(HIDE) MASTER-Chart'!$B:$G,2,FALSE),\nVLOOKUP(J36,'(HIDE) MASTER-Chart'!$M:$R,2,FALSE)),\"\")","v":48915},{"$f":"IF(ISBLANK(J36),\"\",CONCATENATE(\"(\",J36,\")\"))","v":"(16)"},{"$f":"IFERROR(\nIF($W$1='(HIDE) MASTER-Chart'!$J$2,\nVLOOKUP(L36,'(HIDE) MASTER-Chart'!$B:$G,2,FALSE),\nVLOOKUP(L36,'(HIDE) MASTER-Chart'!$M:$R,2,FALSE)),\"\")","v":48915},{"$f":"IF(ISBLANK(L36),\"\",CONCATENATE(\"(\",L36,\")\"))","v":"(16)"}]
["20 - 21",13,null,13,null,14,null,14,null,14,null,14,null,"2 STEP",{"$f":"IFERROR(\nIF($W$1='(HIDE) MASTER-Chart'!$J$2,\nVLOOKUP(B37,'(HIDE) MASTER-Chart'!$B:$G,2,FALSE),\nVLOOKUP(B37,'(HIDE) MASTER-Chart'!$M:$R,2,FALSE)),\"\")","v":44896},{"$f":"IF(ISBLANK(B37),\"\",CONCATENATE(\"(\",B37,\")\"))","v":"(13)"},{"$f":"IFERROR(\nIF($W$1='(HIDE) MASTER-Chart'!$J$2,\nVLOOKUP(D37,'(HIDE) MASTER-Chart'!$B:$G,2,FALSE),\nVLOOKUP(D37,'(HIDE) MASTER-Chart'!$M:$R,2,FALSE)),\"\")","v":44896},"(13)",{"$f":"IFERROR(\nIF($W$1='(HIDE) MASTER-Chart'!$J$2,\nVLOOKUP(F37,'(HIDE) MASTER-Chart'!$B:$G,2,FALSE),\nVLOOKUP(F37,'(HIDE) MASTER-Chart'!$M:$R,2,FALSE)),\"\")","v":46197},"(14)",{"$f":"IFERROR(\nIF($W$1='(HIDE) MASTER-Chart'!$J$2,\nVLOOKUP(H37,'(HIDE) MASTER-Chart'!$B:$G,2,FALSE),\nVLOOKUP(H37,'(HIDE) MASTER-Chart'!$M:$R,2,FALSE)),\"\")","v":46197},"(14)",{"$f":"IFERROR(\nIF($W$1='(HIDE) MASTER-Chart'!$J$2,\nVLOOKUP(J37,'(HIDE) MASTER-Chart'!$B:$G,2,FALSE),\nVLOOKUP(J37,'(HIDE) MASTER-Chart'!$M:$R,2,FALSE)),\"\")","v":46197},"(14)",{"$f":"IFERROR(\nIF($W$1='(HIDE) MASTER-Chart'!$J$2,\nVLOOKUP(L37,'(HIDE) MASTER-Chart'!$B:$G,2,FALSE),\nVLOOKUP(L37,'(HIDE) MASTER-Chart'!$M:$R,2,FALSE)),\"\")","v":46197},"(14)"]
[null,null,null,null,null,null,null,null,null,null,null,null,null,null," ",null," ",null," ",null," ",null," ",null," "]
[null,16,null,16,null,16,null,16,null,16,null,16,null,"TARGET",{"$f":"IFERROR(\nIF($W$1='(HIDE) MASTER-Chart'!$J$2,\nVLOOKUP(B39,'(HIDE) MASTER-Chart'!$B:$G,2,FALSE),\nVLOOKUP(B39,'(HIDE) MASTER-Chart'!$M:$R,2,FALSE)),\"\")","v":48915},{"$f":"IF(ISBLANK(B39),\"\",CONCATENATE(\"(\",B39,\")\"))","v":"(16)"},{"$f":"IFERROR(\nIF($W$1='(HIDE) MASTER-Chart'!$J$2,\nVLOOKUP(D39,'(HIDE) MASTER-Chart'!$B:$G,2,FALSE),\nVLOOKUP(D39,'(HIDE) MASTER-Chart'!$M:$R,2,FALSE)),\"\")","v":48915},{"$f":"IF(ISBLANK(D39),\"\",CONCATENATE(\"(\",D39,\")\"))","v":"(16)"},{"$f":"IFERROR(\nIF($W$1='(HIDE) MASTER-Chart'!$J$2,\nVLOOKUP(F39,'(HIDE) MASTER-Chart'!$B:$G,2,FALSE),\nVLOOKUP(F39,'(HIDE) MASTER-Chart'!$M:$R,2,FALSE)),\"\")","v":48915},{"$f":"IF(ISBLANK(F39),\"\",CONCATENATE(\"(\",F39,\")\"))","v":"(16)"},{"$f":"IFERROR(\nIF($W$1='(HIDE) MASTER-Chart'!$J$2,\nVLOOKUP(H39,'(HIDE) MASTER-Chart'!$B:$G,2,FALSE),\nVLOOKUP(H39,'(HIDE) MASTER-Chart'!$M:$R,2,FALSE)),\"\")","v":48915},{"$f":"IF(ISBLANK(H39),\"\",CONCATENATE(\"(\",H39,\")\"))","v":"(16)"},{"$f":"IFERROR(\nIF($W$1='(HIDE) MASTER-Chart'!$J$2,\nVLOOKUP(J39,'(HIDE) MASTER-Chart'!$B:$G,2,FALSE),\nVLOOKUP(J39,'(HIDE) MASTER-Chart'!$M:$R,2,FALSE)),\"\")","v":48915},{"$f":"IF(ISBLANK(J39),\"\",CONCATENATE(\"(\",J39,\")\"))","v":"(16)"},{"$f":"IFERROR(\nIF($W$1='(HIDE) MASTER-Chart'!$J$2,\nVLOOKUP(L39,'(HIDE) MASTER-Chart'!$B:$G,2,FALSE),\nVLOOKUP(L39,'(HIDE) MASTER-Chart'!$M:$R,2,FALSE)),\"\")","v":48915},{"$f":"IF(ISBLANK(L39),\"\",CONCATENATE(\"(\",L39,\")\"))","v":"(16)"}]
["22 +",14,null,14,null,14,null,14,null,14,null,14,null,"2 STEP",{"$f":"IFERROR(\nIF($W$1='(HIDE) MASTER-Chart'!$J$2,\nVLOOKUP(B40,'(HIDE) MASTER-Chart'!$B:$G,2,FALSE),\nVLOOKUP(B40,'(HIDE) MASTER-Chart'!$M:$R,2,FALSE)),\"\")","v":46197},{"$f":"IF(ISBLANK(B40),\"\",CONCATENATE(\"(\",B40,\")\"))","v":"(14)"},{"$f":"IFERROR(\nIF($W$1='(HIDE) MASTER-Chart'!$J$2,\nVLOOKUP(D40,'(HIDE) MASTER-Chart'!$B:$G,2,FALSE),\nVLOOKUP(D40,'(HIDE) MASTER-Chart'!$M:$R,2,FALSE)),\"\")","v":46197},"(14)",{"$f":"IFERROR(\nIF($W$1='(HIDE) MASTER-Chart'!$J$2,\nVLOOKUP(F40,'(HIDE) MASTER-Chart'!$B:$G,2,FALSE),\nVLOOKUP(F40,'(HIDE) MASTER-Chart'!$M:$R,2,FALSE)),\"\")","v":46197},"(14)",{"$f":"IFERROR(\nIF($W$1='(HIDE) MASTER-Chart'!$J$2,\nVLOOKUP(H40,'(HIDE) MASTER-Chart'!$B:$G,2,FALSE),\nVLOOKUP(H40,'(HIDE) MASTER-Chart'!$M:$R,2,FALSE)),\"\")","v":46197},"(14)",{"$f":"IFERROR(\nIF($W$1='(HIDE) MASTER-Chart'!$J$2,\nVLOOKUP(J40,'(HIDE) MASTER-Chart'!$B:$G,2,FALSE),\nVLOOKUP(J40,'(HIDE) MASTER-Chart'!$M:$R,2,FALSE)),\"\")","v":46197},"(14)",{"$f":"IFERROR(\nIF($W$1='(HIDE) MASTER-Chart'!$J$2,\nVLOOKUP(L40,'(HIDE) MASTER-Chart'!$B:$G,2,FALSE),\nVLOOKUP(L40,'(HIDE) MASTER-Chart'!$M:$R,2,FALSE)),\"\")","v":46197},"(14)"]
[null,null,null,null,null,null,null,null,null,null,null,null,null,null," ",null," ",null," ",null," ",null," ",null," "]

{"sheet":"Printable Grid-RangeB","index":6,"n_rows":56,"n_cols":26,"rows_kept":56,"cut":false,"hidden":false,"merged":[[55,1,55,2],[55,3,55,4],[55,5,55,6],[55,7,55,8],[55,9,55,10],[55,11,55,12],[54,1,54,2],[54,3,54,4],[54,5,54,6],[54,7,54,8],[54,9,54,10],[54,11,54,12],[53,1,53,2],[53,3,53,4],[53,5,53,6],[53,7,53,8],[53,9,53,10],[53,11,53,12],[52,1,52,2],[52,3,52,4],[52,5,52,6],[52,7,52,8],[52,9,52,10],[52,11,52,12],[51,1,51,2],[51,3,51,4],[51,5,51,6],[51,7,51,8],[51,9,51,10],[51,11,51,12],[50,1,50,2],[50,3,50,4],[50,5,50,6],[50,7,50,8],[50,9,50,10],[50,11,50,12],[49,1,49,2],[49,3,49,4],[49,5,49,6],[49,7,49,8],[49,9,49,10],[49,11,49,12],[48,1,48,2],[48,3,48,4],[48,5,48,6],[48,7,48,8],[48,9,48,10],[48,11,48,12],[47,1,47,2],[47,3,47,4],[47,5,47,6],[47,7,47,8],[47,9,47,10],[47,11,47,12],[46,1,46,2],[46,3,46,4],[46,5,46,6],[46,7,46,8],[46,9,46,10],[46,11,46,12],[45,1,45,2],[45,3,45,4],[45,5,45,6],[45,7,45,8],[45,9,45,10],[45,11,45,12],[44,1,44,2],[44,3,44,4],[44,5,44,6],[44,7,44,8],[44,9,44,10],[44,11,44,12],[43,1,43,2],[43,3,43,4],[43,5,43,6],[43,7,43,8],[43,9,43,10],[43,11,43,12],[42,1,42,2],[42,3,42,4],[42,5,42,6],[42,7,42,8],[42,9,42,10],[42,11,42,12],[41,1,41,2],[41,3,41,4],[41,5,41,6],[41,7,41,8],[41,9,41,10],[41,11,41,12],[40,1,40,2],[40,3,40,4],[40,5,40,6],[40,7,40,8],[40,9,40,10],[40,11,40,12],[39,1,39,2],[39,3,39,4],[39,5,39,6],[39,7,39,8],[39,9,39,10],[39,11,39,12],[38,1,38,2],[38,3,38,4],[38,5,38,6],[38,7,38,8],[38,9,38,10],[38,11,38,12],[37,1,37,2],[37,3,37,4],[37,5,37,6],[37,7,37,8],[37,9,37,10],[37,11,37,12],[36,1,36,2],[36,3,36,4],[36,5,36,6],[36,7,36,8],[36,9,36,10],[36,11,36,12],[35,1,35,2],[35,3,35,4],[35,5,35,6],[35,7,35,8],[35,9,35,10],[35,11,35,12],[34,1,34,2],[34,3,34,4],[34,5,34,6],[34,7,34,8],[34,9,34,10],[34,11,34,12],[33,1,33,2],[33,3,33,4],[33,5,33,6],[33,7,33,8],[33,9,33,10],[33,11,33,12],[32,1,32,2],[32,3,32,4],[32,5,32,6],[32,7,32,8],[32,9,32,10],[32,11,32,12],[31,1,31,2],[31,3,31,4],[31,5,31,6],[31,7,31,8],[31,9,31,10],[31,11,31,12],[30,1,30,2],[30,3,30,4],[30,5,30,6],[30,7,30,8],[30,9,30,10],[30,11,30,12],[29,1,29,2],[29,3,29,4],[29,5,29,6],[29,7,29,8],[29,9,29,10],[29,11,29,12],[28,1,28,2],[28,3,28,4],[28,5,28,6],[28,7,28,8],[28,9,28,10],[28,11,28,12],[27,1,27,2],[27,3,27,4],[27,5,27,6],[27,7,27,8],[27,9,27,10],[27,11,27,12],[26,1,26,2],[26,3,26,4],[26,5,26,6],[26,7,26,8],[26,9,26,10],[26,11,26,12],[25,1,25,2],[25,3,25,4],[25,5,25,6],[25,7,25,8],[25,9,25,10],[25,11,25,12],[24,1,24,2],[24,3,24,4],[24,5,24,6],[24,7,24,8],[24,9,24,10],[24,11,24,12],[23,1,23,2],[23,3,23,4],[23,5,23,6],[23,7,23,8],[23,9,23,10],[23,11,23,12],[22,1,22,2],[22,3,22,4],[22,5,22,6],[22,7,22,8],[22,9,22,10],[22,11,22,12],[21,1,21,2],[21,3,21,4],[21,5,21,6],[21,7,21,8],[21,9,21,10],[21,11,21,12],[20,1,20,2],[20,3,20,4],[20,5,20,6],[20,7,20,8],[20,9,20,10],[20,11,20,12],[19,1,19,2],[19,3,19,4],[19,5,19,6],[19,7,19,8],[19,9,19,10],[19,11,19,12],[18,1,18,2],[18,3,18,4],[18,5,18,6],[18,7,18,8],[18,9,18,10],[18,11,18,12],[17,1,17,2],[17,3,17,4],[17,5,17,6],[17,7,17,8],[17,9,17,10],[17,11,17,12],[16,1,16,2],[16,3,16,4],[16,5,16,6],[16,7,16,8],[16,9,16,10],[16,11,16,12],[15,1,15,2],[15,3,15,4],[15,5,15,6],[15,7,15,8],[15,9,15,10],[15,11,15,12],[14,1,14,2],[14,3,14,4],[14,5,14,6],[14,7,14,8],[14,9,14,10],[14,11,14,12],[13,1,13,2],[13,3,13,4],[13,5,13,6],[13,7,13,8],[13,9,13,10],[13,11,13,12],[12,1,12,2],[12,3,12,4],[12,5,12,6],[12,7,12,8],[12,9,12,10],[12,11,12,12],[11,1,11,2],[11,3,11,4],[11,5,11,6],[11,7,11,8],[11,9,11,10],[11,11,11,12],[10,1,10,2],[10,3,10,4],[10,5,10,6],[10,7,10,8],[10,9,10,10],[10,11,10,12],[9,1,9,2],[9,3,9,4],[9,5,9,6],[9,7,9,8],[9,9,9,10],[9,11,9,12],[8,1,8,2],[8,3,8,4],[8,5,8,6],[8,7,8,8],[8,9,8,10],[8,11,8,12],[7,1,7,2],[7,3,7,4],[7,5,7,6],[7,7,7,8],[7,9,7,10],[7,11,7,12],[6,1,6,2],[6,3,6,4],[6,5,6,6],[6,7,6,8],[6,9,6,10],[6,11,6,12],[5,1,5,2],[5,3,5,4],[5,5,5,6],[5,7,5,8],[5,9,5,10],[5,11,5,12],[4,14,4,15],[4,16,4,17],[4,18,4,19],[4,20,4,21],[4,22,4,23],[4,24,4,25],[0,14,0,17],[0,18,0,21],[0,22,0,24],[3,14,3,25],[4,1,4,2],[4,3,4,4],[4,5,4,6],[4,7,4,8],[4,9,4,10],[4,11,4,12]]}
[null,null,null,null,null,null,null,null,null,null,null,null,null,null,"MSUAASF",null,null,null,"RANGE B",null,null,null,"7/1/2023 (FY24)"]
[null,null,null,null,null,null,null,null,null,null,null,null,null,null,null,null,{"$f":"'(HIDE) MASTER-Chart'!$D$3","v":37943},null,"to",null,{"$f":"'(HIDE) MASTER-Chart'!$D$22","v":66029}]
[]
["TOTAL",null,null,null,null,null,null,null,null,null,null,null,null," ","Years in Equal or Higher MSUAASF, MnSCU Academic Professional, MnSCU Academic Supervisor  and/or MnSCU Administrator Ranges"]
["YRS EXP","0 - 1",null,"2 - 3",null,"4 - 5",null,"6 - 7",null,"8 - 9",null,"10 - 11",null," ","0 - 1",null,"2 - 3",null,"4 - 5",null,"6 - 7",null,"8 - 9",null,"10 - 11"]
[" ",4,null,null,null,null,null,null,null,null,null,null,null,"TARGET",{"$f":"IFERROR(\nIF($W$1='(HIDE) MASTER-Chart'!$J$2,\nVLOOKUP(B6,'(HIDE) MASTER-Chart'!$B:$G,3,FALSE),\nVLOOKUP(B6,'(HIDE) MASTER-Chart'!$M:$R,3,FALSE)),\"\")","v":41311},{"$f":"IF(ISBLANK(B6),\"\",CONCATENATE(\"(\",B6,\")\"))","v":"(4)"},{"$f":"IFERROR(\nIF($W$1='(HIDE) MASTER-Chart'!$J$2,\nVLOOKUP(D6,'(HIDE) MASTER-Chart'!$B:$G,3,FALSE),\nVLOOKUP(D6,'(HIDE) MASTER-Chart'!$M:$R,3,FALSE)),\"\")","v":""},{"$f":"IF(ISBLANK(D6),\"\",CONCATENATE(\"(\",D6,\")\"))","v":""},{"$f":"IFERROR(\nIF($W$1='(HIDE) MASTER-Chart'!$J$2,\nVLOOKUP(F6,'(HIDE) MASTER-Chart'!$B:$G,3,FALSE),\nVLOOKUP(F6,'(HIDE) MASTER-Chart'!$M:$R,3,FALSE)),\"\")","v":""},{"$f":"IF(ISBLANK(F6),\"\",CONCATENATE(\"(\",F6,\")\"))","v":""},{"$f":"IFERROR(\nIF($W$1='(HIDE) MASTER-Chart'!$J$2,\nVLOOKUP(H6,'(HIDE) MASTER-Chart'!$B:$G,3,FALSE),\nVLOOKUP(H6,'(HIDE) MASTER-Chart'!$M:$R,3,FALSE)),\"\")","v":""},{"$f":"IF(ISBLANK(H6),\"\",CONCATENATE(\"(\",H6,\")\"))","v":""},{"$f":"IFERROR(\nIF($W$1='(HIDE) MASTER-Chart'!$J$2,\nVLOOKUP(J6,'(HIDE) MASTER-Chart'!$B:$G,3,FALSE),\nVLOOKUP(J6,'(HIDE) MASTER-Chart'!$M:$R,3,FALSE)),\"\")","v":""},{"$f":"IF(ISBLANK(J6),\"\",CONCATENATE(\"(\",J6,\")\"))","v":""},{"$f":"IFERROR(\nIF($W$1='(HIDE) MASTER-Chart'!$J$2,\nVLOOKUP(L6,'(HIDE) MASTER-Chart'!$B:$G,3,FALSE),\nVLOOKUP(L6,'(HIDE) MASTER-Chart'!$M:$R,3,FALSE)),\"\")","v":""},{"$f":"IF(ISBLANK(L6),\"\",CONCATENATE(\"(\",L6,\")\"))","v":""}]
["0 - 1",2,null,null,null,null,null,null,null,null,null,null,null,"2 STEP",{"$f":"IFERROR(\nIF($W$1='(HIDE) MASTER-Chart'!$J$2,\nVLOOKUP(B7,'(HIDE) MASTER-Chart'!$B:$G,3,FALSE),\nVLOOKUP(B7,'(HIDE) MASTER-Chart'!$M:$R,3,FALSE)),\"\")","v":38952},{"$f":"IF(ISBLANK(B7),\"\",CONCATENATE(\"(\",B7,\")\"))","v":"(2)"},{"$f":"IFERROR(\nIF($W$1='(HIDE) MASTER-Chart'!$J$2,\nVLOOKUP(D7,'(HIDE) MASTER-Chart'!$B:$G,3,FALSE),\nVLOOKUP(D7,'(HIDE) MASTER-Chart'!$M:$R,3,FALSE)),\"\")","v":""},"",{"$f":"IFERROR(\nIF($W$1='(HIDE) MASTER-Chart'!$J$2,\nVLOOKUP(F7,'(HIDE) MASTER-Chart'!$B:$G,3,FALSE),\nVLOOKUP(F7,'(HIDE) MASTER-Chart'!$M:$R,3,FALSE)),\"\")","v":""},"",{"$f":"IFERROR(\nIF($W$1='(HIDE) MASTER-Chart'!$J$2,\nVLOOKUP(H7,'(HIDE) MASTER-Chart'!$B:$G,3,FALSE),\nVLOOKUP(H7,'(HIDE) MASTER-Chart'!$M:$R,3,FALSE)),\"\")","v":""},"",{"$f":"IFERROR(\nIF($W$1='(HIDE) MASTER-Chart'!$J$2,\nVLOOKUP(J7,'(HIDE) MASTER-Chart'!$B:$G,3,FALSE),\nVLOOKUP(J7,'(HIDE) MASTER-Chart'!$M:$R,3,FALSE)),\"\")","v":""},"",{"$f":"IFERROR(\nIF($W$1='(HIDE) MASTER-Chart'!$J$2,\nVLOOKUP(L7,'(HIDE) MASTER-Chart'!$B:$G,3,FALSE),\nVLOOKUP(L7,'(HIDE) MASTER-Chart'!$M:$R,3,FALSE)),\"\")","v":""},""]
[null,null,null,null,null,null,null,null,null,null,null,null,null," "," ",null," ",null," ",null," ",null," ",null," "]
[null,5,null,5,null,null,null,null,null,null,null,null,null,"TARGET",{"$f":"IFERROR(\nIF($W$1='(HIDE) MASTER-Chart'!$J$2,\nVLOOKUP(B9,'(HIDE) MASTER-Chart'!$B:$G,3,FALSE),\nVLOOKUP(B9,'(HIDE) MASTER-Chart'!$M:$R,3,FALSE)),\"\")","v":42668},{"$f":"IF(ISBLANK(B9),\"\",CONCATENATE(\"(\",B9,\")\"))","v":"(5)"},{"$f":"IFERROR(\nIF($W$1='(HIDE) MASTER-Chart'!$J$2,\nVLOOKUP(D9,'(HIDE) MASTER-Chart'!$B:$G,3,FALSE),\nVLOOKUP(D9,'(HIDE) MASTER-Chart'!$M:$R,3,FALSE)),\"\")","v":42668},{"$f":"IF(ISBLANK(D9),\"\",CONCATENATE(\"(\",D9,\")\"))","v":"(5)"},{"$f":"IFERROR(\nIF($W$1='(HIDE) MASTER-Chart'!$J$2,\nVLOOKUP(F9,'(HIDE) MASTER-Chart'!$B:$G,3,FALSE),\nVLOOKUP(F9,'(HIDE) MASTER-Chart'!$M:$R,3,FALSE)),\"\")","v":""},{"$f":"IF(ISBLANK(F9),\"\",CONCATENATE(\"(\",F9,\")\"))","v":""},{"$f":"IFERROR(\nIF($W$1='(HIDE) MASTER-Chart'!$J$2,\nVLOOKUP(H9,'(HIDE) MASTER-Chart'!$B:$G,3,FALSE),\nVLOOKUP(H9,'(HIDE) MASTER-Chart'!$M:$R,3,FALSE)),\"\")","v":""},{"$f":"IF(ISBLANK(H9),\"\",CONCATENATE(\"(\",H9,\")\"))","v":""},{"$f":"IFERROR(\nIF($W$1='(HIDE) MASTER-Chart'!$J$2,\nVLOOKUP(J9,'(HIDE) MASTER-Chart'!$B:$G,3,FALSE),\nVLOOKUP(J9,'(HIDE) MASTER-Chart'!$M:$R,3,FALSE)),\"\")","v":""},{"$f":"IF(ISBLANK(J9),\"\",CONCATENATE(\"(\",J9,\")\"))","v":""},{"$f":"IFERROR(\nIF($W$1='(HIDE) MASTER-Chart'!$J$2,\nVLOOKUP(L9,'(HIDE) MASTER-Chart'!$B:$G,3,FALSE),\nVLOOKUP(L9,'(HIDE) MASTER-Chart'!$M:$R,3,FALSE)),\"\")","v":""},{"$f":"IF(ISBLANK(L9),\"\",CONCATENATE(\"(\",L9,\")\"))","v":""}]
["2 - 3",3,null,3,null,null,null,null,null,null,null,null,null,"2 STEP",{"$f":"IFERROR(\nIF($W$1='(HIDE) MASTER-Chart'!$J$2,\nVLOOKUP(B10,'(HIDE) MASTER-Chart'!$B:$G,3,FALSE),\nVLOOKUP(B10,'(HIDE) MASTER-Chart'!$M:$R,3,FALSE)),\"\")","v":40109},"(3)",{"$f":"IFERROR(\nIF($W$1='(HIDE) MASTER-Chart'!$J$2,\nVLOOKUP(D10,'(HIDE) MASTER-Chart'!$B:$G,3,FALSE),\nVLOOKUP(D10,'(HIDE) MASTER-Chart'!$M:$R,3,FALSE)),\"\")","v":40109},"(3)",{"$f":"IFERROR(\nIF($W$1='(HIDE) MASTER-Chart'!$J$2,\nVLOOKUP(F10,'(HIDE) MASTER-Chart'!$B:$G,3,FALSE),\nVLOOKUP(F10,'(HIDE) MASTER-Chart'!$M:$R,3,FALSE)),\"\")","v":""},"",{"$f":"IFERROR(\nIF($W$1='(HIDE) MASTER-Chart'!$J$2,\nVLOOKUP(H10,'(HIDE) MASTER-Chart'!$B:$G,3,FALSE),\nVLOOKUP(H10,'(HIDE) MASTER-Chart'!$M:$R,3,FALSE)),\"\")","v":""},"",{"$f":"IFERROR(\nIF($W$1='(HIDE) MASTER-Chart'!$J$2,\nVLOOKUP(J10,'(HIDE) MASTER-Chart'!$B:$G,3,FALSE),\nVLOOKUP(J10,'(HIDE) MASTER-Chart'!$M:$R,3,FALSE)),\"\")","v":""},"",{"$f":"IFERROR(\nIF($W$1='(HIDE) MASTER-Chart'!$J$2,\nVLOOKUP(L10,'(HIDE) MASTER-Chart'!$B:$G,3,FALSE),\nVLOOKUP(L10,'(HIDE) MASTER-Chart'!$M:$R,3,FALSE)),\"\")","v":""},""]
[null,null,null,null,null,null,null,null,null,null,null,null,null," "," ",null," ",null," ",null," ",null," ",null," "]
[null,6,null,6,null,7,null,null,null,null,null,null,null,"TARGET",{"$f":"IFERROR(\nIF($W$1='(HIDE) MASTER-Chart'!$J$2,\nVLOOKUP(B12,'(HIDE) MASTER-Chart'!$B:$G,3,FALSE),\nVLOOKUP(B12,'(HIDE) MASTER-Chart'!$M:$R,3,FALSE)),\"\")","v":44022},{"$f":"IF(ISBLANK(B12),\"\",CONCATENATE(\"(\",B12,\")\"))","v":"(6)"},{"$f":"IFERROR(\nIF($W$1='(HIDE) MASTER-Chart'!$J$2,\nVLOOKUP(D12,'(HIDE) MASTER-Chart'!$B:$G,3,FALSE),\nVLOOKUP(D12,'(HIDE) MASTER-Chart'!$M:$R,3,FALSE)),\"\")","v":44022},{"$f":"IF(ISBLANK(D12),\"\",CONCATENATE(\"(\",D12,\")\"))","v":"(6)"},{"$f":"IFERROR(\nIF($W$1='(HIDE) MASTER-Chart'!$J$2,\nVLOOKUP(F12,'(HIDE) MASTER-Chart'!$B:$G,3,FALSE),\nVLOOKUP(F12,'(HIDE) MASTER-Chart'!$M:$R,3,FALSE)),\"\")","v":45378},{"$f":"IF(ISBLANK(F12),\"\",CONCATENATE(\"(\",F12,\")\"))","v":"(7)"},{"$f":"IFERROR(\nIF($W$1='(HIDE) MASTER-Chart'!$J$2,\nVLOOKUP(H12,'(HIDE) MASTER-Chart'!$B:$G,3,FALSE),\nVLOOKUP(H12,'(HIDE) MASTER-Chart'!$M:$R,3,FALSE)),\"\")","v":""},{"$f":"IF(ISBLANK(H12),\"\",CONCATENATE(\"(\",H12,\")\"))","v":""},{"$f":"IFERROR(\nIF($W$1='(HIDE) MASTER-Chart'!$J$2,\nVLOOKUP(J12,'(HIDE) MASTER-Chart'!$B:$G,3,FALSE),\nVLOOKUP(J12,'(HIDE) MASTER-Chart'!$M:$R,3,FALSE)),\"\")","v":""},{"$f":"IF(ISBLANK(J12),\"\",CONCATENATE(\"(\",J12,\")\"))","v":""},{"$f":"IFERROR(\nIF($W$1='(HIDE) MASTER-Chart'!$J$2,\nVLOOKUP(L12,'(HIDE) MASTER-Chart'!$B:$G,3,FALSE),\nVLOOKUP(L12,'(HIDE) MASTER-Chart'!$M:$R,3,FALSE)),\"\")","v":""},{"$f":"IF(ISBLANK(L12),\"\",CONCATENATE(\"(\",L12,\")\"))","v":""}]
["4 - 5",4,null,4,null,5,null,null,null,null,null,null,null,"2 STEP",{"$f":"IFERROR(\nIF($W$1='(HIDE) MASTER-Chart'!$J$2,\nVLOOKUP(B13,'(HIDE) MASTER-Chart'!$B:$G,3,FALSE),\nVLOOKUP(B13,'(HIDE) MASTER-Chart'!$M:$R,3,FALSE)),\"\")","v":41311},"(4)",{"$f":"IFERROR(\nIF($W$1='(HIDE) MASTER-Chart'!$J$2,\nVLOOKUP(D13,'(HIDE) MASTER-Chart'!$B:$G,3,FALSE),\nVLOOKUP(D13,'(HIDE) MASTER-Chart'!$M:$R,3,FALSE)),\"\")","v":41311},"(4)",{"$f":"IFERROR(\nIF($W$1='(HIDE) MASTER-Chart'!$J$2,\nVLOOKUP(F13,'(HIDE) MASTER-Chart'!$B:$G,3,FALSE),\nVLOOKUP(F13,'(HIDE) MASTER-Chart'!$M:$R,3,FALSE)),\"\")","v":42668},"(5)",{"$f":"IFERROR(\nIF($W$1='(HIDE) MASTER-Chart'!$J$2,\nVLOOKUP(H13,'(HIDE) MASTER-Chart'!$B:$G,3,FALSE),\nVLOOKUP(H13,'(HIDE) MASTER-Chart'!$M:$R,3,FALSE)),\"\")","v":""},"",{"$f":"IFERROR(\nIF($W$1='(HIDE) MASTER-Chart'!$J$2,\nVLOOKUP(J13,'(HIDE) MASTER-Chart'!$B:$G,3,FALSE),\nVLOOKUP(J13,'(HIDE) MASTER-Chart'!$M:$R,3,FALSE)),\"\")","v":""},"",{"$f":"IFERROR(\nIF($W$1='(HIDE) MASTER-Chart'!$J$2,\nVLOOKUP(L13,'(HIDE) MASTER-Chart'!$B:$G,3,FALSE),\nVLOOKUP(L13,'(HIDE) MASTER-Chart'!$M:$R,3,FALSE)),\"\")","v":""},""]
[null,null,null,null,null,null,null,null,null,null,null,null,null," "," ",null," ",null," ",null," ",null," ",null," "]
[null,7,null,7,null,8,null,8,null,null,null,null,null,"TARGET",{"$f":"IFERROR(\nIF($W$1='(HIDE) MASTER-Chart'!$J$2,\nVLOOKUP(B15,'(HIDE) MASTER-Chart'!$B:$G,3,FALSE),\nVLOOKUP(B15,'(HIDE) MASTER-Chart'!$M:$R,3,FALSE)),\"\")","v":45378},{"$f":"IF(ISBLANK(B15),\"\",CONCATENATE(\"(\",B15,\")\"))","v":"(7)"},{"$f":"IFERROR(\nIF($W$1='(HIDE) MASTER-Chart'!$J$2,\nVLOOKUP(D15,'(HIDE) MASTER-Chart'!$B:$G,3,FALSE),\nVLOOKUP(D15,'(HIDE) MASTER-Chart'!$M:$R,3,FALSE)),\"\")","v":45378},{"$f":"IF(ISBLANK(D15),\"\",CONCATENATE(\"(\",D15,\")\"))","v":"(7)"},{"$f":"IFERROR(\nIF($W$1='(HIDE) MASTER-Chart'!$J$2,\nVLOOKUP(F15,'(HIDE) MASTER-Chart'!$B:$G,3,FALSE),\nVLOOKUP(F15,'(HIDE) MASTER-Chart'!$M:$R,3,FALSE)),\"\")","v":46736},{"$f":"IF(ISBLANK(F15),\"\",CONCATENATE(\"(\",F15,\")\"))","v":"(8)"},{"$f":"IFERROR(\nIF($W$1='(HIDE) MASTER-Chart'!$J$2,\nVLOOKUP(H15,'(HIDE) MASTER-Chart'!$B:$G,3,FALSE),\nVLOOKUP(H15,'(HIDE) MASTER-Chart'!$M:$R,3,FALSE)),\"\")","v":46736},{"$f":"IF(ISBLANK(H15),\"\",CONCATENATE(\"(\",H15,\")\"))","v":"(8)"},{"$f":"IFERROR(\nIF($W$1='(HIDE) MASTER-Chart'!$J$2,\nVLOOKUP(J15,'(HIDE) MASTER-Chart'!$B:$G,3,FALSE),\nVLOOKUP(J15,'(HIDE) MASTER-Chart'!$M:$R,3,FALSE)),\"\")","v":""},{"$f":"IF(ISBLANK(J15),\"\",CONCATENATE(\"(\",J15,\")\"))","v":""},{"$f":"IFERROR(\nIF($W$1='(HIDE) MASTER-Chart'!$J$2,\nVLOOKUP(L15,'(HIDE) MASTER-Chart'!$B:$G,3,FALSE),\nVLOOKUP(L15,'(HIDE) MASTER-Chart'!$M:$R,3,FALSE)),\"\")","v":""},{"$f":"IF(ISBLANK(L15),\"\",CONCATENATE(\"(\",L15,\")\"))","v":""}]
["6 - 7",5,null,5,null,6,null,6,null,null,null,null,null,"2 STEP",{"$f":"IFERROR(\nIF($W$1='(HIDE) MASTER-Chart'!$J$2,\nVLOOKUP(B16,'(HIDE) MASTER-Chart'!$B:$G,3,FALSE),\nVLOOKUP(B16,'(HIDE) MASTER-Chart'!$M:$R,3,FALSE)),\"\")","v":42668},"(5)",{"$f":"IFERROR(\nIF($W$1='(HIDE) MASTER-Chart'!$J$2,\nVLOOKUP(D16,'(HIDE) MASTER-Chart'!$B:$G,3,FALSE),\nVLOOKUP(D16,'(HIDE) MASTER-Chart'!$M:$R,3,FALSE)),\"\")","v":42668},"(5)",{"$f":"IFERROR(\nIF($W$1='(HIDE) MASTER-Chart'!$J$2,\nVLOOKUP(F16,'(HIDE) MASTER-Chart'!$B:$G,3,FALSE),\nVLOOKUP(F16,'(HIDE) MASTER-Chart'!$M:$R,3,FALSE)),\"\")","v":44022},"(6)",{"$f":"IFERROR(\nIF($W$1='(HIDE) MASTER-Chart'!$J$2,\nVLOOKUP(H16,'(HIDE) MASTER-Chart'!$B:$G,3,FALSE),\nVLOOKUP(H16,'(HIDE) MASTER-Chart'!$M:$R,3,FALSE)),\"\")","v":44022},"(6)",{"$f":"IFERROR(\nIF($W$1='(HIDE) MASTER-Chart'!$J$2,\nVLOOKUP(J16,'(HIDE) MASTER-Chart'!$B:$G,3,FALSE),\nVLOOKUP(J16,'(HIDE) MASTER-Chart'!$M:$R,3,FALSE)),\"\")","v":""},"",{"$f":"IFERROR(\nIF($W$1='(HIDE) MASTER-Chart'!$J$2,\nVLOOKUP(L16,'(HIDE) MASTER-Chart'!$B:$G,3,FALSE),\nVLOOKUP(L16,'(HIDE) MASTER-Chart'!$M:$R,3,FALSE)),\"\")","v":""},""]
[null,null,null,null,null,null,null,null,null,null,null,null,null," "," ",null," ",null," ",null," ",null," ",null," "]
[null,7,null,8,null,8,null,9,null,9,null,null,null,"TARGET",{"$f":"IFERROR(\nIF($W$1='(HIDE) MASTER-Chart'!$J$2,\nVLOOKUP(B18,'(HIDE) MASTER-Chart'!$B:$G,3,FALSE),\nVLOOKUP(B18,'(HIDE) MASTER-Chart'!$M:$R,3,FALSE)),\"\")","v":45378},{"$f":"IF(ISBLANK(B18),\"\",CONCATENATE(\"(\",B18,\")\"))","v":"(7)"},{"$f":"IFERROR(\nIF($W$1='(HIDE) MASTER-Chart'!$J$2,\nVLOOKUP(D18,'(HIDE) MASTER-Chart'!$B:$G,3,FALSE),\nVLOOKUP(D18,'(HIDE) MASTER-Chart'!$M:$R,3,FALSE)),\"\")","v":46736},{"$f":"IF(ISBLANK(D18),\"\",CONCATENATE(\"(\",D18,\")\"))","v":"(8)"},{"$f":"IFERROR(\nIF($W$1='(HIDE) MASTER-Chart'!$J$2,\nVLOOKUP(F18,'(HIDE) MASTER-Chart'!$B:$G,3,FALSE),\nVLOOKUP(F18,'(HIDE) MASTER-Chart'!$M:$R,3,FALSE)),\"\")","v":46736},{"$f":"IF(ISBLANK(F18),\"\",CONCATENATE(\"(\",F18,\")\"))","v":"(8)"},{"$f":"IFERROR(\nIF($W$1='(HIDE) MASTER-Chart'!$J$2,\nVLOOKUP(H18,'(HIDE) MASTER-Chart'!$B:$G,3,FALSE),\nVLOOKUP(H18,'(HIDE) MASTER-Chart'!$M:$R,3,FALSE)),\"\")","v":48088},{"$f":"IF(ISBLANK(H18),\"\",CONCATENATE(\"(\",H18,\")\"))","v":"(9)"},{"$f":"IFERROR(\nIF($W$1='(HIDE) MASTER-Chart'!$J$2,\nVLOOKUP(J18,'(HIDE) MASTER-Chart'!$B:$G,3,FALSE),\nVLOOKUP(J18,'(HIDE) MASTER-Chart'!$M:$R,3,FALSE)),\"\")","v":48088},{"$f":"IF(ISBLANK(J18),\"\",CONCATENATE(\"(\",J18,\")\"))","v":"(9)"},{"$f":"IFERROR(\nIF($W$1='(HIDE) MASTER-Chart'!$J$2,\nVLOOKUP(L18,'(HIDE) MASTER-Chart'!$B:$G,3,FALSE),\nVLOOKUP(L18,'(HIDE) MASTER-Chart'!$M:$R,3,FALSE)),\"\")","v":""},{"$f":"IF(ISBLANK(L18),\"\",CONCATENATE(\"(\",L18,\")\"))","v":""}]
[" 8 - 9",5,null,6,null,6,null,7,null,7,null,null,null,"2 STEP",{"$f":"IFERROR(\nIF($W$1='(HIDE) MASTER-Chart'!$J$2,\nVLOOKUP(B19,'(HIDE) MASTER-Chart'!$B:$G,3,FALSE),\nVLOOKUP(B19,'(HIDE) MASTER-Chart'!$M:$R,3,FALSE)),\"\")","v":42668},"(5)",{"$f":"IFERROR(\nIF($W$1='(HIDE) MASTER-Chart'!$J$2,\nVLOOKUP(D19,'(HIDE) MASTER-Chart'!$B:$G,3,FALSE),\nVLOOKUP(D19,'(HIDE) MASTER-Chart'!$M:$R,3,FALSE)),\"\")","v":44022},"(6)",{"$f":"IFERROR(\nIF($W$1='(HIDE) MASTER-Chart'!$J$2,\nVLOOKUP(F19,'(HIDE) MASTER-Chart'!$B:$G,3,FALSE),\nVLOOKUP(F19,'(HIDE) MASTER-Chart'!$M:$R,3,FALSE)),\"\")","v":44022},"(6)",{"$f":"IFERROR(\nIF($W$1='(HIDE) MASTER-Chart'!$J$2,\nVLOOKUP(H19,'(HIDE) MASTER-Chart'!$B:$G,3,FALSE),\nVLOOKUP(H19,'(HIDE) MASTER-Chart'!$M:$R,3,FALSE)),\"\")","v":45378},"(7)",{"$f":"IFERROR(\nIF($W$1='(HIDE) MASTER-Chart'!$J$2,\nVLOOKUP(J19,'(HIDE) MASTER-Chart'!$B:$G,3,FALSE),\nVLOOKUP(J19,'(HIDE) MASTER-Chart'!$M:$R,3,FALSE)),\"\")","v":45378},"(7)",{"$f":"IFERROR(\nIF($W$1='(HIDE) MASTER-Chart'!$J$2,\nVLOOKUP(L19,'(HIDE) MASTER-Chart'!$B:$G,3,FALSE),\nVLOOKUP(L19,'(HIDE) MASTER-Chart'!$M:$R,3,FALSE)),\"\")","v":""},""]
[null,null,null,null,null,null,null,null,null,null,null,null,null," "," ",null," ",null," ",null," ",null," ",null," "]
[null,8,null,9,null,9,null,10,null,10,null,11,null,"TARGET",{"$f":"IFERROR(\nIF($W$1='(HIDE) MASTER-Chart'!$J$2,\nVLOOKUP(B21,'(HIDE) MASTER-Chart'!$B:$G,3,FALSE),\nVLOOKUP(B21,'(HIDE) MASTER-Chart'!$M:$R,3,FALSE)),\"\")","v":46736},{"$f":"IF(ISBLANK(B21),\"\",CONCATENATE(\"(\",B21,\")\"))","v":"(8)"},{"$f":"IFERROR(\nIF($W$1='(HIDE) MASTER-Chart'!$J$2,\nVLOOKUP(D21,'(HIDE) MASTER-Chart'!$B:$G,3,FALSE),\nVLOOKUP(D21,'(HIDE) MASTER-Chart'!$M:$R,3,FALSE)),\"\")","v":48088},{"$f":"IF(ISBLANK(D21),\"\",CONCATENATE(\"(\",D21,\")\"))","v":"(9)"},{"$f":"IFERROR(\nIF($W$1='(HIDE) MASTER-Chart'!$J$2,\nVLOOKUP(F21,'(HIDE) MASTER-Chart'!$B:$G,3,FALSE),\nVLOOKUP(F21,'(HIDE) MASTER-Chart'!$M:$R,3,FALSE)),\"\")","v":48088},{"$f":"IF(ISBLANK(F21),\"\",CONCATENATE(\"(\",F21,\")\"))","v":"(9)"},{"$f":"IFERROR(\nIF($W$1='(HIDE) MASTER-Chart'!$J$2,\nVLOOKUP(H21,'(HIDE) MASTER-Chart'!$B:$G,3,FALSE),\nVLOOKUP(H21,'(HIDE) MASTER-Chart'!$M:$R,3,FALSE)),\"\")","v":49487},{"$f":"IF(ISBLANK(H21),\"\",CONCATENATE(\"(\",H21,\")\"))","v":"(10)"},{"$f":"IFERROR(\nIF($W$1='(HIDE) MASTER-Chart'!$J$2,\nVLOOKUP(J21,'(HIDE) MASTER-Chart'!$B:$G,3,FALSE),\nVLOOKUP(J21,'(HIDE) MASTER-Chart'!$M:$R,3,FALSE)),\"\")","v":49487},{"$f":"IF(ISBLANK(J21),\"\",CONCATENATE(\"(\",J21,\")\"))","v":"(10)"},{"$f":"IFERROR(\nIF($W$1='(HIDE) MASTER-Chart'!$J$2,\nVLOOKUP(L21,'(HIDE) MASTER-Chart'!$B:$G,3,FALSE),\nVLOOKUP(L21,'(HIDE) MASTER-Chart'!$M:$R,3,FALSE)),\"\")","v":50925},{"$f":"IF(ISBLANK(L21),\"\",CONCATENATE(\"(\",L21,\")\"))","v":"(11)"}]
["10 - 11",6,null,7,null,7,null,8,null,8,null,9,null,"2 STEP",{"$f":"IFERROR(\nIF($W$1='(HIDE) MASTER-Chart'!$J$2,\nVLOOKUP(B22,'(HIDE) MASTER-Chart'!$B:$G,3,FALSE),\nVLOOKUP(B22,'(HIDE) MASTER-Chart'!$M:$R,3,FALSE)),\"\")","v":44022},"(6)",{"$f":"IFERROR(\nIF($W$1='(HIDE) MASTER-Chart'!$J$2,\nVLOOKUP(D22,'(HIDE) MASTER-Chart'!$B:$G,3,FALSE),\nVLOOKUP(D22,'(HIDE) MASTER-Chart'!$M:$R,3,FALSE)),\"\")","v":45378},"(7)",{"$f":"IFERROR(\nIF($W$1='(HIDE) MASTER-Chart'!$J$2,\nVLOOKUP(F22,'(HIDE) MASTER-Chart'!$B:$G,3,FALSE),\nVLOOKUP(F22,'(HIDE) MASTER-Chart'!$M:$R,3,FALSE)),\"\")","v":45378},"(7)",{"$f":"IFERROR(\nIF($W$1='(HIDE) MASTER-Chart'!$J$2,\nVLOOKUP(H22,'(HIDE) MASTER-Chart'!$B:$G,3,FALSE),\nVLOOKUP(H22,'(HIDE) MASTER-Chart'!$M:$R,3,FALSE)),\"\")","v":46736},"(8)",{"$f":"IFERROR(\nIF($W$1='(HIDE) MASTER-Chart'!$J$2,\nVLOOKUP(J22,'(HIDE) MASTER-Chart'!$B:$G,3,FALSE),\nVLOOKUP(J22,'(HIDE) MASTER-Chart'!$M:$R,3,FALSE)),\"\")","v":46736},"(8)",{"$f":"IFERROR(\nIF($W$1='(HIDE) MASTER-Chart'!$J$2,\nVLOOKUP(L22,'(HIDE) MASTER-Chart'!$B:$G,3,FALSE),\nVLOOKUP(L22,'(HIDE) MASTER-Chart'!$M:$R,3,FALSE)),\"\")","v":48088},"(9)"]
[null,null,null,null,null,null,null,null,null,null,null,null,null," "," ",null," ",null," ",null," ",null," ",null," "]
[null,9,null,10,null,10,null,10,null,11,null,11,null,"TARGET",{"$f":"IFERROR(\nIF($W$1='(HIDE) MASTER-Chart'!$J$2,\nVLOOKUP(B24,'(HIDE) MASTER-Chart'!$B:$G,3,FALSE),\nVLOOKUP(B24,'(HIDE) MASTER-Chart'!$M:$R,3,FALSE)),\"\")","v":48088},{"$f":"IF(ISBLANK(B24),\"\",CONCATENATE(\"(\",B24,\")\"))","v":"(9)"},{"$f":"IFERROR(\nIF($W$1='(HIDE) MASTER-Chart'!$J$2,\nVLOOKUP(D24,'(HIDE) MASTER-Chart'!$B:$G,3,FALSE),\nVLOOKUP(D24,'(HIDE) MASTER-Chart'!$M:$R,3,FALSE)),\"\")","v":49487},{"$f":"IF(ISBLANK(D24),\"\",CONCATENATE(\"(\",D24,\")\"))","v":"(10)"},{"$f":"IFERROR(\nIF($W$1='(HIDE) MASTER-Chart'!$J$2,\nVLOOKUP(F24,'(HIDE) MASTER-Chart'!$B:$G,3,FALSE),\nVLOOKUP(F24,'(HIDE) MASTER-Chart'!$M:$R,3,FALSE)),\"\")","v":49487},{"$f":"IF(ISBLANK(F24),\"\",CONCATENATE(\"(\",F24,\")\"))","v":"(10)"},{"$f":"IFERROR(\nIF($W$1='(HIDE) MASTER-Chart'!$J$2,\nVLOOKUP(H24,'(HIDE) MASTER-Chart'!$B:$G,3,FALSE),\nVLOOKUP(H24,'(HIDE) MASTER-Chart'!$M:$R,3,FALSE)),\"\")","v":49487},{"$f":"IF(ISBLANK(H24),\"\",CONCATENATE(\"(\",H24,\")\"))","v":"(10)"},{"$f":"IFERROR(\nIF($W$1='(HIDE) MASTER-Chart'!$J$2,\nVLOOKUP(J24,'(HIDE) MASTER-Chart'!$B:$G,3,FALSE),\nVLOOKUP(J24,'(HIDE) MASTER-Chart'!$M:$R,3,FALSE)),\"\")","v":50925},{"$f":"IF(ISBLANK(J24),\"\",CONCATENATE(\"(\",J24,\")\"))","v":"(11)"},{"$f":"IFERROR(\nIF($W$1='(HIDE) MASTER-Chart'!$J$2,\nVLOOKUP(L24,'(HIDE) MASTER-Chart'!$B:$G,3,FALSE),\nVLOOKUP(L24,'(HIDE) MASTER-Chart'!$M:$R,3,FALSE)),\"\")","v":50925},{"$f":"IF(ISBLANK(L24),\"\",CONCATENATE(\"(\",L24,\")\"))","v":"(11)"}]
["12 - 13",7,null,8,null,8,null,8,null,9,null,9,null,"2 STEP",{"$f":"IFERROR(\nIF($W$1='(HIDE) MASTER-Chart'!$J$2,\nVLOOKUP(B25,'(HIDE) MASTER-Chart'!$B:$G,3,FALSE),\nVLOOKUP(B25,'(HIDE) MASTER-Chart'!$M:$R,3,FALSE)),\"\")","v":45378},"(7)",{"$f":"IFERROR(\nIF($W$1='(HIDE) MASTER-Chart'!$J$2,\nVLOOKUP(D25,'(HIDE) MASTER-Chart'!$B:$G,3,FALSE),\nVLOOKUP(D25,'(HIDE) MASTER-Chart'!$M:$R,3,FALSE)),\"\")","v":46736},"(8)",{"$f":"IFERROR(\nIF($W$1='(HIDE) MASTER-Chart'!$J$2,\nVLOOKUP(F25,'(HIDE) MASTER-Chart'!$B:$G,3,FALSE),\nVLOOKUP(F25,'(HIDE) MASTER-Chart'!$M:$R,3,FALSE)),\"\")","v":46736},"(8)",{"$f":"IFERROR(\nIF($W$1='(HIDE) MASTER-Chart'!$J$2,\nVLOOKUP(H25,'(HIDE) MASTER-Chart'!$B:$G,3,FALSE),\nVLOOKUP(H25,'(HIDE) MASTER-Chart'!$M:$R,3,FALSE)),\"\")","v":46736},"(8)",{"$f":"IFERROR(\nIF($W$1='(HIDE) MASTER-Chart'!$J$2,\nVLOOKUP(J25,'(HIDE) MASTER-Chart'!$B:$G,3,FALSE),\nVLOOKUP(J25,'(HIDE) MASTER-Chart'!$M:$R,3,FALSE)),\"\")","v":48088},"(9)",{"$f":"IFERROR(\nIF($W$1='(HIDE) MASTER-Chart'!$J$2,\nVLOOKUP(L25,'(HIDE) MASTER-Chart'!$B:$G,3,FALSE),\nVLOOKUP(L25,'(HIDE) MASTER-Chart'!$M:$R,3,FALSE)),\"\")","v":48088},"(9)"]
[null,null,null,null,null,null,null,null,null,null,null,null,null," "," ",null," ",null," ",null," ",null," ",null," "]
[null,10,null,10,null,11,null,11,null,12,null,12,null,"TARGET",{"$f":"IFERROR(\nIF($W$1='(HIDE) MASTER-Chart'!$J$2,\nVLOOKUP(B27,'(HIDE) MASTER-Chart'!$B:$G,3,FALSE),\nVLOOKUP(B27,'(HIDE) MASTER-Chart'!$M:$R,3,FALSE)),\"\")","v":49487},{"$f":"IF(ISBLANK(B27),\"\",CONCATENATE(\"(\",B27,\")\"))","v":"(10)"},{"$f":"IFERROR(\nIF($W$1='(HIDE) MASTER-Chart'!$J$2,\nVLOOKUP(D27,'(HIDE) MASTER-Chart'!$B:$G,3,FALSE),\nVLOOKUP(D27,'(HIDE) MASTER-Chart'!$M:$R,3,FALSE)),\"\")","v":49487},{"$f":"IF(ISBLANK(D27),\"\",CONCATENATE(\"(\",D27,\")\"))","v":"(10)"},{"$f":"IFERROR(\nIF($W$1='(HIDE) MASTER-Chart'!$J$2,\nVLOOKUP(F27,'(HIDE) MASTER-Chart'!$B:$G,3,FALSE),\nVLOOKUP(F27,'(HIDE) MASTER-Chart'!$M:$R,3,FALSE)),\"\")","v":50925},{"$f":"IF(ISBLANK(F27),\"\",CONCATENATE(\"(\",F27,\")\"))","v":"(11)"},{"$f":"IFERROR(\nIF($W$1='(HIDE) MASTER-Chart'!$J$2,\nVLOOKUP(H27,'(HIDE) MASTER-Chart'!$B:$G,3,FALSE),\nVLOOKUP(H27,'(HIDE) MASTER-Chart'!$M:$R,3,FALSE)),\"\")","v":50925},{"$f":"IF(ISBLANK(H27),\"\",CONCATENATE(\"(\",H27,\")\"))","v":"(11)"},{"$f":"IFERROR(\nIF($W$1='(HIDE) MASTER-Chart'!$J$2,\nVLOOKUP(J27,'(HIDE) MASTER-Chart'!$B:$G,3,FALSE),\nVLOOKUP(J27,'(HIDE) MASTER-Chart'!$M:$R,3,FALSE)),\"\")","v":52409},{"$f":"IF(ISBLANK(J27),\"\",CONCATENATE(\"(\",J27,\")\"))","v":"(12)"},{"$f":"IFERROR(\nIF($W$1='(HIDE) MASTER-Chart'!$J$2,\nVLOOKUP(L27,'(HIDE) MASTER-Chart'!$B:$G,3,FALSE),\nVLOOKUP(L27,'(HIDE) MASTER-Chart'!$M:$R,3,FALSE)),\"\")","v":52409},{"$f":"IF(ISBLANK(L27),\"\",CONCATENATE(\"(\",L27,\")\"))","v":"(12)"}]
["14 - 15",8,null,8,null,9,null,9,null,10,null,10,null,"2 STEP",{"$f":"IFERROR(\nIF($W$1='(HIDE) MASTER-Chart'!$J$2,\nVLOOKUP(B28,'(HIDE) MASTER-Chart'!$B:$G,3,FALSE),\nVLOOKUP(B28,'(HIDE) MASTER-Chart'!$M:$R,3,FALSE)),\"\")","v":46736},"(8)",{"$f":"IFERROR(\nIF($W$1='(HIDE) MASTER-Chart'!$J$2,\nVLOOKUP(D28,'(HIDE) MASTER-Chart'!$B:$G,3,FALSE),\nVLOOKUP(D28,'(HIDE) MASTER-Chart'!$M:$R,3,FALSE)),\"\")","v":46736},"(8)",{"$f":"IFERROR(\nIF($W$1='(HIDE) MASTER-Chart'!$J$2,\nVLOOKUP(F28,'(HIDE) MASTER-Chart'!$B:$G,3,FALSE),\nVLOOKUP(F28,'(HIDE) MASTER-Chart'!$M:$R,3,FALSE)),\"\")","v":48088},"(9)",{"$f":"IFERROR(\nIF($W$1='(HIDE) MASTER-Chart'!$J$2,\nVLOOKUP(H28,'(HIDE) MASTER-Chart'!$B:$G,3,FALSE),\nVLOOKUP(H28,'(HIDE) MASTER-Chart'!$M:$R,3,FALSE)),\"\")","v":48088},"(9)",{"$f":"IFERROR(\nIF($W$1='(HIDE) MASTER-Chart'!$J$2,\nVLOOKUP(J28,'(HIDE) MASTER-Chart'!$B:$G,3,FALSE),\nVLOOKUP(J28,'(HIDE) MASTER-Chart'!$M:$R,3,FALSE)),\"\")","v":49487},"(10)",{"$f":"IFERROR(\nIF($W$1='(HIDE) MASTER-Chart'!$J$2,\nVLOOKUP(L28,'(HIDE) MASTER-Chart'!$B:$G,3,FALSE),\nVLOOKUP(L28,'(HIDE) MASTER-Chart'!$M:$R,3,FALSE)),\"\")","v":49487},"(10)"]
[null,null,null,null,null,null,null,null,null,null,null,null,null," "," ",null," ",null," ",null," ",null," ",null," "]
[null,11,null,11,null,11,null,12,null,12,null,13,null,"TARGET",{"$f":"IFERROR(\nIF($W$1='(HIDE) MASTER-Chart'!$J$2,\nVLOOKUP(B30,'(HIDE) MASTER-Chart'!$B:$G,3,FALSE),\nVLOOKUP(B30,'(HIDE) MASTER-Chart'!$M:$R,3,FALSE)),\"\")","v":50925},{"$f":"IF(ISBLANK(B30),\"\",CONCATENATE(\"(\",B30,\")\"))","v":"(11)"},{"$f":"IFERROR(\nIF($W$1='(HIDE) MASTER-Chart'!$J$2,\nVLOOKUP(D30,'(HIDE) MASTER-Chart'!$B:$G,3,FALSE),\nVLOOKUP(D30,'(HIDE) MASTER-Chart'!$M:$R,3,FALSE)),\"\")","v":50925},{"$f":"IF(ISBLANK(D30),\"\",CONCATENATE(\"(\",D30,\")\"))","v":"(11)"},{"$f":"IFERROR(\nIF($W$1='(HIDE) MASTER-Chart'!$J$2,\nVLOOKUP(F30,'(HIDE) MASTER-Chart'!$B:$G,3,FALSE),\nVLOOKUP(F30,'(HIDE) MASTER-Chart'!$M:$R,3,FALSE)),\"\")","v":50925},{"$f":"IF(ISBLANK(F30),\"\",CONCATENATE(\"(\",F30,\")\"))","v":"(11)"},{"$f":"IFERROR(\nIF($W$1='(HIDE) MASTER-Chart'!$J$2,\nVLOOKUP(H30,'(HIDE) MASTER-Chart'!$B:$G,3,FALSE),\nVLOOKUP(H30,'(HIDE) MASTER-Chart'!$M:$R,3,FALSE)),\"\")","v":52409},{"$f":"IF(ISBLANK(H30),\"\",CONCATENATE(\"(\",H30,\")\"))","v":"(12)"},{"$f":"IFERROR(\nIF($W$1='(HIDE) MASTER-Chart'!$J$2,\nVLOOKUP(J30,'(HIDE) MASTER-Chart'!$B:$G,3,FALSE),\nVLOOKUP(J30,'(HIDE) MASTER-Chart'!$M:$R,3,FALSE)),\"\")","v":52409},{"$f":"IF(ISBLANK(J30),\"\",CONCATENATE(\"(\",J30,\")\"))","v":"(12)"},{"$f":"IFERROR(\nIF($W$1='(HIDE) MASTER-Chart'!$J$2,\nVLOOKUP(L30,'(HIDE) MASTER-Chart'!$B:$G,3,FALSE),\nVLOOKUP(L30,'(HIDE) MASTER-Chart'!$M:$R,3,FALSE)),\"\")","v":53934},{"$f":"IF(ISBLANK(L30),\"\",CONCATENATE(\"(\",L30,\")\"))","v":"(13)"}]
["16 - 17",9,null,9,null,9,null,10,null,10,null,11,null,"2 STEP",{"$f":"IFERROR(\nIF($W$1='(HIDE) MASTER-Chart'!$J$2,\nVLOOKUP(B31,'(HIDE) MASTER-Chart'!$B:$G,3,FALSE),\nVLOOKUP(B31,'(HIDE) MASTER-Chart'!$M:$R,3,FALSE)),\"\")","v":48088},"(9)",{"$f":"IFERROR(\nIF($W$1='(HIDE) MASTER-Chart'!$J$2,\nVLOOKUP(D31,'(HIDE) MASTER-Chart'!$B:$G,3,FALSE),\nVLOOKUP(D31,'(HIDE) MASTER-Chart'!$M:$R,3,FALSE)),\"\")","v":48088},"(9)",{"$f":"IFERROR(\nIF($W$1='(HIDE) MASTER-Chart'!$J$2,\nVLOOKUP(F31,'(HIDE) MASTER-Chart'!$B:$G,3,FALSE),\nVLOOKUP(F31,'(HIDE) MASTER-Chart'!$M:$R,3,FALSE)),\"\")","v":48088},"(9)",{"$f":"IFERROR(\nIF($W$1='(HIDE) MASTER-Chart'!$J$2,\nVLOOKUP(H31,'(HIDE) MASTER-Chart'!$B:$G,3,FALSE),\nVLOOKUP(H31,'(HIDE) MASTER-Chart'!$M:$R,3,FALSE)),\"\")","v":49487},"(10)",{"$f":"IFERROR(\nIF($W$1='(HIDE) MASTER-Chart'!$J$2,\nVLOOKUP(J31,'(HIDE) MASTER-Chart'!$B:$G,3,FALSE),\nVLOOKUP(J31,'(HIDE) MASTER-Chart'!$M:$R,3,FALSE)),\"\")","v":49487},"(10)",{"$f":"IFERROR(\nIF($W$1='(HIDE) MASTER-Chart'!$J$2,\nVLOOKUP(L31,'(HIDE) MASTER-Chart'!$B:$G,3,FALSE),\nVLOOKUP(L31,'(HIDE) MASTER-Chart'!$M:$R,3,FALSE)),\"\")","v":50925},"(11)"]
[null,null,null,null,null,null,null,null,null,null,null,null,null," "," ",null," ",null," ",null," ",null," ",null," "]
[null,11,null,12,null,12,null,13,null,13,null,13,null,"TARGET",{"$f":"IFERROR(\nIF($W$1='(HIDE) MASTER-Chart'!$J$2,\nVLOOKUP(B33,'(HIDE) MASTER-Chart'!$B:$G,3,FALSE),\nVLOOKUP(B33,'(HIDE) MASTER-Chart'!$M:$R,3,FALSE)),\"\")","v":50925},{"$f":"IF(ISBLANK(B33),\"\",CONCATENATE(\"(\",B33,\")\"))","v":"(11)"},{"$f":"IFERROR(\nIF($W$1='(HIDE) MASTER-Chart'!$J$2,\nVLOOKUP(D33,'(HIDE) MASTER-Chart'!$B:$G,3,FALSE),\nVLOOKUP(D33,'(HIDE) MASTER-Chart'!$M:$R,3,FALSE)),\"\")","v":52409},{"$f":"IF(ISBLANK(D33),\"\",CONCATENATE(\"(\",D33,\")\"))","v":"(12)"},{"$f":"IFERROR(\nIF($W$1='(HIDE) MASTER-Chart'!$J$2,\nVLOOKUP(F33,'(HIDE) MASTER-Chart'!$B:$G,3,FALSE),\nVLOOKUP(F33,'(HIDE) MASTER-Chart'!$M:$R,3,FALSE)),\"\")","v":52409},{"$f":"IF(ISBLANK(F33),\"\",CONCATENATE(\"(\",F33,\")\"))","v":"(12)"},{"$f":"IFERROR(\nIF($W$1='(HIDE) MASTER-Chart'!$J$2,\nVLOOKUP(H33,'(HIDE) MASTER-Chart'!$B:$G,3,FALSE),\nVLOOKUP(H33,'(HIDE) MASTER-Chart'!$M:$R,3,FALSE)),\"\")","v":53934},{"$f":"IF(ISBLANK(H33),\"\",CONCATENATE(\"(\",H33,\")\"))","v":"(13)"},{"$f":"IFERROR(\nIF($W$1='(HIDE) MASTER-Chart'!$J$2,\nVLOOKUP(J33,'(HIDE) MASTER-Chart'!$B:$G,3,FALSE),\nVLOOKUP(J33,'(HIDE) MASTER-Chart'!$M:$R,3,FALSE)),\"\")","v":53934},{"$f":"IF(ISBLANK(J33),\"\",CONCATENATE(\"(\",J33,\")\"))","v":"(13)"},{"$f":"IFERROR(\nIF($W$1='(HIDE) MASTER-Chart'!$J$2,\nVLOOKUP(L33,'(HIDE) MASTER-Chart'!$B:$G,3,FALSE),\nVLOOKUP(L33,'(HIDE) MASTER-Chart'!$M:$R,3,FALSE)),\"\")","v":53934},{"$f":"IF(ISBLANK(L33),\"\",CONCATENATE(\"(\",L33,\")\"))","v":"(13)"}]
["18 - 19",9,null,10,null,10,null,11,null,11,null,11,null,"2 STEP",{"$f":"IFERROR(\nIF($W$1='(HIDE) MASTER-Chart'!$J$2,\nVLOOKUP(B34,'(HIDE) MASTER-Chart'!$B:$G,3,FALSE),\nVLOOKUP(B34,'(HIDE) MASTER-Chart'!$M:$R,3,FALSE)),\"\")","v":48088},"(9)",{"$f":"IFERROR(\nIF($W$1='(HIDE) MASTER-Chart'!$J$2,\nVLOOKUP(D34,'(HIDE) MASTER-Chart'!$B:$G,3,FALSE),\nVLOOKUP(D34,'(HIDE) MASTER-Chart'!$M:$R,3,FALSE)),\"\")","v":49487},"(10)",{"$f":"IFERROR(\nIF($W$1='(HIDE) MASTER-Chart'!$J$2,\nVLOOKUP(F34,'(HIDE) MASTER-Chart'!$B:$G,3,FALSE),\nVLOOKUP(F34,'(HIDE) MASTER-Chart'!$M:$R,3,FALSE)),\"\")","v":49487},"(10)",{"$f":"IFERROR(\nIF($W$1='(HIDE) MASTER-Chart'!$J$2,\nVLOOKUP(H34,'(HIDE) MASTER-Chart'!$B:$G,3,FALSE),\nVLOOKUP(H34,'(HIDE) MASTER-Chart'!$M:$R,3,FALSE)),\"\")","v":50925},"(11)",{"$f":"IFERROR(\nIF($W$1='(HIDE) MASTER-Chart'!$J$2,\nVLOOKUP(J34,'(HIDE) MASTER-Chart'!$B:$G,3,FALSE),\nVLOOKUP(J34,'(HIDE) MASTER-Chart'!$M:$R,3,FALSE)),\"\")","v":50925},"(11)",{"$f":"IFERROR(\nIF($W$1='(HIDE) MASTER-Chart'!$J$2,\nVLOOKUP(L34,'(HIDE) MASTER-Chart'!$B:$G,3,FALSE),\nVLOOKUP(L34,'(HIDE) MASTER-Chart'!$M:$R,3,FALSE)),\"\")","v":50925},"(11)"]
[null,null,null,null,null,null,null,null,null,null,null,null,null," "," ",null," ",null," ",null," ",null," ",null," "]
[null,12,null,12,null,13,null,13,null,14,null,14,null,"TARGET",{"$f":"IFERROR(\nIF($W$1='(HIDE) MASTER-Chart'!$J$2,\nVLOOKUP(B36,'(HIDE) MASTER-Chart'!$B:$G,3,FALSE),\nVLOOKUP(B36,'(HIDE) MASTER-Chart'!$M:$R,3,FALSE)),\"\")","v":52409},{"$f":"IF(ISBLANK(B36),\"\",CONCATENATE(\"(\",B36,\")\"))","v":"(12)"},{"$f":"IFERROR(\nIF($W$1='(HIDE) MASTER-Chart'!$J$2,\nVLOOKUP(D36,'(HIDE) MASTER-Chart'!$B:$G,3,FALSE),\nVLOOKUP(D36,'(HIDE) MASTER-Chart'!$M:$R,3,FALSE)),\"\")","v":52409},{"$f":"IF(ISBLANK(D36),\"\",CONCATENATE(\"(\",D36,\")\"))","v":"(12)"},{"$f":"IFERROR(\nIF($W$1='(HIDE) MASTER-Chart'!$J$2,\nVLOOKUP(F36,'(HIDE) MASTER-Chart'!$B:$G,3,FALSE),\nVLOOKUP(F36,'(HIDE) MASTER-Chart'!$M:$R,3,FALSE)),\"\")","v":53934},{"$f":"IF(ISBLANK(F36),\"\",CONCATENATE(\"(\",F36,\")\"))","v":"(13)"},{"$f":"IFERROR(\nIF($W$1='(HIDE) MASTER-Chart'!$J$2,\nVLOOKUP(H36,'(HIDE) MASTER-Chart'!$B:$G,3,FALSE),\nVLOOKUP(H36,'(HIDE) MASTER-Chart'!$M:$R,3,FALSE)),\"\")","v":53934},{"$f":"IF(ISBLANK(H36),\"\",CONCATENATE(\"(\",H36,\")\"))","v":"(13)"},{"$f":"IFERROR(\nIF($W$1='(HIDE) MASTER-Chart'!$J$2,\nVLOOKUP(J36,'(HIDE) MASTER-Chart'!$B:$G,3,FALSE),\nVLOOKUP(J36,'(HIDE) MASTER-Chart'!$M:$R,3,FALSE)),\"\")","v":55504},{"$f":"IF(ISBLANK(J36),\"\",CONCATENATE(\"(\",J36,\")\"))","v":"(14)"},{"$f":"IFERROR(\nIF($W$1='(HIDE) MASTER-Chart'!$J$2,\nVLOOKUP(L36,'(HIDE) MASTER-Chart'!$B:$G,3,FALSE),\nVLOOKUP(L36,'(HIDE) MASTER-Chart'!$M:$R,3,FALSE)),\"\")","v":55504},{"$f":"IF(ISBLANK(L36),\"\",CONCATENATE(\"(\",L36,\")\"))","v":"(14)"}]
["20 - 21",10,null,10,null,11,null,11,null,12,null,12,null,"2 STEP",{"$f":"IFERROR(\nIF($W$1='(HIDE) MASTER-Chart'!$J$2,\nVLOOKUP(B37,'(HIDE) MASTER-Chart'!$B:$G,3,FALSE),\nVLOOKUP(B37,'(HIDE) MASTER-Chart'!$M:$R,3,FALSE)),\"\")","v":49487},"(10)",{"$f":"IFERROR(\nIF($W$1='(HIDE) MASTER-Chart'!$J$2,\nVLOOKUP(D37,'(HIDE) MASTER-Chart'!$B:$G,3,FALSE),\nVLOOKUP(D37,'(HIDE) MASTER-Chart'!$M:$R,3,FALSE)),\"\")","v":49487},"(10)",{"$f":"IFERROR(\nIF($W$1='(HIDE) MASTER-Chart'!$J$2,\nVLOOKUP(F37,'(HIDE) MASTER-Chart'!$B:$G,3,FALSE),\nVLOOKUP(F37,'(HIDE) MASTER-Chart'!$M:$R,3,FALSE)),\"\")","v":50925},"(11)",{"$f":"IFERROR(\nIF($W$1='(HIDE) MASTER-Chart'!$J$2,\nVLOOKUP(H37,'(HIDE) MASTER-Chart'!$B:$G,3,FALSE),\nVLOOKUP(H37,'(HIDE) MASTER-Chart'!$M:$R,3,FALSE)),\"\")","v":50925},"(11)",{"$f":"IFERROR(\nIF($W$1='(HIDE) MASTER-Chart'!$J$2,\nVLOOKUP(J37,'(HIDE) MASTER-Chart'!$B:$G,3,FALSE),\nVLOOKUP(J37,'(HIDE) MASTER-Chart'!$M:$R,3,FALSE)),\"\")","v":52409},"(12)",{"$f":"IFERROR(\nIF($W$1='(HIDE) MASTER-Chart'!$J$2,\nVLOOKUP(L37,'(HIDE) MASTER-Chart'!$B:$G,3,FALSE),\nVLOOKUP(L37,'(HIDE) MASTER-Chart'!$M:$R,3,FALSE)),\"\")","v":52409},"(12)"]
[null,null,null,null,null,null,null,null,null,null,null,null,null," "," ",null," ",null," ",null," ",null," ",null," "]
[null,13,null,13,null,14,null,14,null,14,null,15,null,"TARGET",{"$f":"IFERROR(\nIF($W$1='(HIDE) MASTER-Chart'!$J$2,\nVLOOKUP(B39,'(HIDE) MASTER-Chart'!$B:$G,3,FALSE),\nVLOOKUP(B39,'(HIDE) MASTER-Chart'!$M:$R,3,FALSE)),\"\")","v":53934},{"$f":"IF(ISBLANK(B39),\"\",CONCATENATE(\"(\",B39,\")\"))","v":"(13)"},{"$f":"IFERROR(\nIF($W$1='(HIDE) MASTER-Chart'!$J$2,\nVLOOKUP(D39,'(HIDE) MASTER-Chart'!$B:$G,3,FALSE),\nVLOOKUP(D39,'(HIDE) MASTER-Chart'!$M:$R,3,FALSE)),\"\")","v":53934},{"$f":"IF(ISBLANK(D39),\"\",CONCATENATE(\"(\",D39,\")\"))","v":"(13)"},{"$f":"IFERROR(\nIF($W$1='(HIDE) MASTER-Chart'!$J$2,\nVLOOKUP(F39,'(HIDE) MASTER-Chart'!$B:$G,3,FALSE),\nVLOOKUP(F39,'(HIDE) MASTER-Chart'!$M:$R,3,FALSE)),\"\")","v":55504},{"$f":"IF(ISBLANK(F39),\"\",CONCATENATE(\"(\",F39,\")\"))","v":"(14)"},{"$f":"IFERROR(\nIF($W$1='(HIDE) MASTER-Chart'!$J$2,\nVLOOKUP(H39,'(HIDE) MASTER-Chart'!$B:$G,3,FALSE),\nVLOOKUP(H39,'(HIDE) MASTER-Chart'!$M:$R,3,FALSE)),\"\")","v":55504},{"$f":"IF(ISBLANK(H39),\"\",CONCATENATE(\"(\",H39,\")\"))","v":"(14)"},{"$f":"IFERROR(\nIF($W$1='(HIDE) MASTER-Chart'!$J$2,\nVLOOKUP(J39,'(HIDE) MASTER-Chart'!$B:$G,3,FALSE),\nVLOOKUP(J39,'(HIDE) MASTER-Chart'!$M:$R,3,FALSE)),\"\")","v":55504},{"$f":"IF(ISBLANK(J39),\"\",CONCATENATE(\"(\",J39,\")\"))","v":"(14)"},{"$f":"IFERROR(\nIF($W$1='(HIDE) MASTER-Chart'!$J$2,\nVLOOKUP(L39,'(HIDE) MASTER-Chart'!$B:$G,3,FALSE),\nVLOOKUP(L39,'(HIDE) MASTER-Chart'!$M:$R,3,FALSE)),\"\")","v":57128},{"$f":"IF(ISBLANK(L39),\"\",CONCATENATE(\"(\",L39,\")\"))","v":"(15)"}]
["22 - 23",11,null,11,null,12,null,12,null,12,null,13,null,"2 STEP",{"$f":"IFERROR(\nIF($W$1='(HIDE) MASTER-Chart'!$J$2,\nVLOOKUP(B40,'(HIDE) MASTER-Chart'!$B:$G,3,FALSE),\nVLOOKUP(B40,'(HIDE) MASTER-Chart'!$M:$R,3,FALSE)),\"\")","v":50925},"(11)",{"$f":"IFERROR(\nIF($W$1='(HIDE) MASTER-Chart'!$J$2,\nVLOOKUP(D40,'(HIDE) MASTER-Chart'!$B:$G,3,FALSE),\nVLOOKUP(D40,'(HIDE) MASTER-Chart'!$M:$R,3,FALSE)),\"\")","v":50925},"(11)",{"$f":"IFERROR(\nIF($W$1='(HIDE) MASTER-Chart'!$J$2,\nVLOOKUP(F40,'(HIDE) MASTER-Chart'!$B:$G,3,FALSE),\nVLOOKUP(F40,'(HIDE) MASTER-Chart'!$M:$R,3,FALSE)),\"\")","v":52409},"(12)",{"$f":"IFERROR(\nIF($W$1='(HIDE) MASTER-Chart'!$J$2,\nVLOOKUP(H40,'(HIDE) MASTER-Chart'!$B:$G,3,FALSE),\nVLOOKUP(H40,'(HIDE) MASTER-Chart'!$M:$R,3,FALSE)),\"\")","v":52409},"(12)",{"$f":"IFERROR(\nIF($W$1='(HIDE) MASTER-Chart'!$J$2,\nVLOOKUP(J40,'(HIDE) MASTER-Chart'!$B:$G,3,FALSE),\nVLOOKUP(J40,'(HIDE) MASTER-Chart'!$M:$R,3,FALSE)),\"\")","v":52409},"(12)",{"$f":"IFERROR(\nIF($W$1='(HIDE) MASTER-Chart'!$J$2,\nVLOOKUP(L40,'(HIDE) MASTER-Chart'!$B:$G,3,FALSE),\nVLOOKUP(L40,'(HIDE) MASTER-Chart'!$M:$R,3,FALSE)),\"\")","v":53934},"(13)"]
[null,null,null,null,null,null,null,null,null,null,null,null,null," "," ",null," ",null," ",null," ",null," ",null," "]
[null,13,null,14,null,14,null,15,null,15,null,15,null,"TARGET",{"$f":"IFERROR(\nIF($W$1='(HIDE) MASTER-Chart'!$J$2,\nVLOOKUP(B42,'(HIDE) MASTER-Chart'!$B:$G,3,FALSE),\nVLOOKUP(B42,'(HIDE) MASTER-Chart'!$M:$R,3,FALSE)),\"\")","v":53934},{"$f":"IF(ISBLANK(B42),\"\",CONCATENATE(\"(\",B42,\")\"))","v":"(13)"},{"$f":"IFERROR(\nIF($W$1='(HIDE) MASTER-Chart'!$J$2,\nVLOOKUP(D42,'(HIDE) MASTER-Chart'!$B:$G,3,FALSE),\nVLOOKUP(D42,'(HIDE) MASTER-Chart'!$M:$R,3,FALSE)),\"\")","v":55504},{"$f":"IF(ISBLANK(D42),\"\",CONCATENATE(\"(\",D42,\")\"))","v":"(14)"},{"$f":"IFERROR(\nIF($W$1='(HIDE) MASTER-Chart'!$J$2,\nVLOOKUP(F42,'(HIDE) MASTER-Chart'!$B:$G,3,FALSE),\nVLOOKUP(F42,'(HIDE) MASTER-Chart'!$M:$R,3,FALSE)),\"\")","v":55504},{"$f":"IF(ISBLANK(F42),\"\",CONCATENATE(\"(\",F42,\")\"))","v":"(14)"},{"$f":"IFERROR(\nIF($W$1='(HIDE) MASTER-Chart'!$J$2,\nVLOOKUP(H42,'(HIDE) MASTER-Chart'!$B:$G,3,FALSE),\nVLOOKUP(H42,'(HIDE) MASTER-Chart'!$M:$R,3,FALSE)),\"\")","v":57128},{"$f":"IF(ISBLANK(H42),\"\",CONCATENATE(\"(\",H42,\")\"))","v":"(15)"},{"$f":"IFERROR(\nIF($W$1='(HIDE) MASTER-Chart'!$J$2,\nVLOOKUP(J42,'(HIDE) MASTER-Chart'!$B:$G,3,FALSE),\nVLOOKUP(J42,'(HIDE) MASTER-Chart'!$M:$R,3,FALSE)),\"\")","v":57128},{"$f":"IF(ISBLANK(J42),\"\",CONCATENATE(\"(\",J42,\")\"))","v":"(15)"},{"$f":"IFERROR(\nIF($W$1='(HIDE) MASTER-Chart'!$J$2,\nVLOOKUP(L42,'(HIDE) MASTER-Chart'!$B:$G,3,FALSE),\nVLOOKUP(L42,'(HIDE) MASTER-Chart'!$M:$R,3,FALSE)),\"\")","v":57128},{"$f":"IF(ISBLANK(L42),\"\",CONCATENATE(\"(\",L42,\")\"))","v":"(15)"}]
["24 - 25",11,null,12,null,12,null,13,null,13,null,13,null,"2 STEP",{"$f":"IFERROR(\nIF($W$1='(HIDE) MASTER-Chart'!$J$2,\nVLOOKUP(B43,'(HIDE) MASTER-Chart'!$B:$G,3,FALSE),\nVLOOKUP(B43,'(HIDE) MASTER-Chart'!$M:$R,3,FALSE)),\"\")","v":50925},"(11)",{"$f":"IFERROR(\nIF($W$1='(HIDE) MASTER-Chart'!$J$2,\nVLOOKUP(D43,'(HIDE) MASTER-Chart'!$B:$G,3,FALSE),\nVLOOKUP(D43,'(HIDE) MASTER-Chart'!$M:$R,3,FALSE)),\"\")","v":52409},"(12)",{"$f":"IFERROR(\nIF($W$1='(HIDE) MASTER-Chart'!$J$2,\nVLOOKUP(F43,'(HIDE) MASTER-Chart'!$B:$G,3,FALSE),\nVLOOKUP(F43,'(HIDE) MASTER-Chart'!$M:$R,3,FALSE)),\"\")","v":52409},"(12)",{"$f":"IFERROR(\nIF($W$1='(HIDE) MASTER-Chart'!$J$2,\nVLOOKUP(H43,'(HIDE) MASTER-Chart'!$B:$G,3,FALSE),\nVLOOKUP(H43,'(HIDE) MASTER-Chart'!$M:$R,3,FALSE)),\"\")","v":53934},"(13)",{"$f":"IFERROR(\nIF($W$1='(HIDE) MASTER-Chart'!$J$2,\nVLOOKUP(J43,'(HIDE) MASTER-Chart'!$B:$G,3,FALSE),\nVLOOKUP(J43,'(HIDE) MASTER-Chart'!$M:$R,3,FALSE)),\"\")","v":53934},"(13)",{"$f":"IFERROR(\nIF($W$1='(HIDE) MASTER-Chart'!$J$2,\nVLOOKUP(L43,'(HIDE) MASTER-Chart'!$B:$G,3,FALSE),\nVLOOKUP(L43,'(HIDE) MASTER-Chart'!$M:$R,3,FALSE)),\"\")","v":53934},"(13)"]
[null,null,null,null,null,null,null,null,null,null,null,null,null," "," ",null," ",null," ",null," ",null," ",null," "]
[null,14,null,15,null,15,null,15,null,16,null,16,null,"TARGET",{"$f":"IFERROR(\nIF($W$1='(HIDE) MASTER-Chart'!$J$2,\nVLOOKUP(B45,'(HIDE) MASTER-Chart'!$B:$G,3,FALSE),\nVLOOKUP(B45,'(HIDE) MASTER-Chart'!$M:$R,3,FALSE)),\"\")","v":55504},{"$f":"IF(ISBLANK(B45),\"\",CONCATENATE(\"(\",B45,\")\"))","v":"(14)"},{"$f":"IFERROR(\nIF($W$1='(HIDE) MASTER-Chart'!$J$2,\nVLOOKUP(D45,'(HIDE) MASTER-Chart'!$B:$G,3,FALSE),\nVLOOKUP(D45,'(HIDE) MASTER-Chart'!$M:$R,3,FALSE)),\"\")","v":57128},{"$f":"IF(ISBLANK(D45),\"\",CONCATENATE(\"(\",D45,\")\"))","v":"(15)"},{"$f":"IFERROR(\nIF($W$1='(HIDE) MASTER-Chart'!$J$2,\nVLOOKUP(F45,'(HIDE) MASTER-Chart'!$B:$G,3,FALSE),\nVLOOKUP(F45,'(HIDE) MASTER-Chart'!$M:$R,3,FALSE)),\"\")","v":57128},{"$f":"IF(ISBLANK(F45),\"\",CONCATENATE(\"(\",F45,\")\"))","v":"(15)"},{"$f":"IFERROR(\nIF($W$1='(HIDE) MASTER-Chart'!$J$2,\nVLOOKUP(H45,'(HIDE) MASTER-Chart'!$B:$G,3,FALSE),\nVLOOKUP(H45,'(HIDE) MASTER-Chart'!$M:$R,3,FALSE)),\"\")","v":57128},{"$f":"IF(ISBLANK(H45),\"\",CONCATENATE(\"(\",H45,\")\"))","v":"(15)"},{"$f":"IFERROR(\nIF($W$1='(HIDE) MASTER-Chart'!$J$2,\nVLOOKUP(J45,'(HIDE) MASTER-Chart'!$B:$G,3,FALSE),\nVLOOKUP(J45,'(HIDE) MASTER-Chart'!$M:$R,3,FALSE)),\"\")","v":58797},{"$f":"IF(ISBLANK(J45),\"\",CONCATENATE(\"(\",J45,\")\"))","v":"(16)"},{"$f":"IFERROR(\nIF($W$1='(HIDE) MASTER-Chart'!$J$2,\nVLOOKUP(L45,'(HIDE) MASTER-Chart'!$B:$G,3,FALSE),\nVLOOKUP(L45,'(HIDE) MASTER-Chart'!$M:$R,3,FALSE)),\"\")","v":58797},{"$f":"IF(ISBLANK(L45),\"\",CONCATENATE(\"(\",L45,\")\"))","v":"(16)"}]
["26 - 27",12,null,13,null,13,null,13,null,14,null,14,null,"2 STEP",{"$f":"IFERROR(\nIF($W$1='(HIDE) MASTER-Chart'!$J$2,\nVLOOKUP(B46,'(HIDE) MASTER-Chart'!$B:$G,3,FALSE),\nVLOOKUP(B46,'(HIDE) MASTER-Chart'!$M:$R,3,FALSE)),\"\")","v":52409},"(12)",{"$f":"IFERROR(\nIF($W$1='(HIDE) MASTER-Chart'!$J$2,\nVLOOKUP(D46,'(HIDE) MASTER-Chart'!$B:$G,3,FALSE),\nVLOOKUP(D46,'(HIDE) MASTER-Chart'!$M:$R,3,FALSE)),\"\")","v":53934},"(13)",{"$f":"IFERROR(\nIF($W$1='(HIDE) MASTER-Chart'!$J$2,\nVLOOKUP(F46,'(HIDE) MASTER-Chart'!$B:$G,3,FALSE),\nVLOOKUP(F46,'(HIDE) MASTER-Chart'!$M:$R,3,FALSE)),\"\")","v":53934},"(13)",{"$f":"IFERROR(\nIF($W$1='(HIDE) MASTER-Chart'!$J$2,\nVLOOKUP(H46,'(HIDE) MASTER-Chart'!$B:$G,3,FALSE),\nVLOOKUP(H46,'(HIDE) MASTER-Chart'!$M:$R,3,FALSE)),\"\")","v":53934},"(13)",{"$f":"IFERROR(\nIF($W$1='(HIDE) MASTER-Chart'!$J$2,\nVLOOKUP(J46,'(HIDE) MASTER-Chart'!$B:$G,3,FALSE),\nVLOOKUP(J46,'(HIDE) MASTER-Chart'!$M:$R,3,FALSE)),\"\")","v":55504},"(14)",{"$f":"IFERROR(\nIF($W$1='(HIDE) MASTER-Chart'!$J$2,\nVLOOKUP(L46,'(HIDE) MASTER-Chart'!$B:$G,3,FALSE),\nVLOOKUP(L46,'(HIDE) MASTER-Chart'!$M:$R,3,FALSE)),\"\")","v":55504},"(14)"]
[null,null,null,null,null,null,null,null,null,null,null,null,null," "," ",null," ",null," ",null," ",null," ",null," "]
[null,15,null,15,null,16,null,16,null,16,null,16,null,"TARGET",{"$f":"IFERROR(\nIF($W$1='(HIDE) MASTER-Chart'!$J$2,\nVLOOKUP(B48,'(HIDE) MASTER-Chart'!$B:$G,3,FALSE),\nVLOOKUP(B48,'(HIDE) MASTER-Chart'!$M:$R,3,FALSE)),\"\")","v":57128},{"$f":"IF(ISBLANK(B48),\"\",CONCATENATE(\"(\",B48,\")\"))","v":"(15)"},{"$f":"IFERROR(\nIF($W$1='(HIDE) MASTER-Chart'!$J$2,\nVLOOKUP(D48,'(HIDE) MASTER-Chart'!$B:$G,3,FALSE),\nVLOOKUP(D48,'(HIDE) MASTER-Chart'!$M:$R,3,FALSE)),\"\")","v":57128},{"$f":"IF(ISBLANK(D48),\"\",CONCATENATE(\"(\",D48,\")\"))","v":"(15)"},{"$f":"IFERROR(\nIF($W$1='(HIDE) MASTER-Chart'!$J$2,\nVLOOKUP(F48,'(HIDE) MASTER-Chart'!$B:$G,3,FALSE),\nVLOOKUP(F48,'(HIDE) MASTER-Chart'!$M:$R,3,FALSE)),\"\")","v":58797},{"$f":"IF(ISBLANK(F48),\"\",CONCATENATE(\"(\",F48,\")\"))","v":"(16)"},{"$f":"IFERROR(\nIF($W$1='(HIDE) MASTER-Chart'!$J$2,\nVLOOKUP(H48,'(HIDE) MASTER-Chart'!$B:$G,3,FALSE),\nVLOOKUP(H48,'(HIDE) MASTER-Chart'!$M:$R,3,FALSE)),\"\")","v":58797},{"$f":"IF(ISBLANK(H48),\"\",CONCATENATE(\"(\",H48,\")\"))","v":"(16)"},{"$f":"IFERROR(\nIF($W$1='(HIDE) MASTER-Chart'!$J$2,\nVLOOKUP(J48,'(HIDE) MASTER-Chart'!$B:$G,3,FALSE),\nVLOOKUP(J48,'(HIDE) MASTER-Chart'!$M:$R,3,FALSE)),\"\")","v":58797},{"$f":"IF(ISBLANK(J48),\"\",CONCATENATE(\"(\",J48,\")\"))","v":"(16)"},{"$f":"IFERROR(\nIF($W$1='(HIDE) MASTER-Chart'!$J$2,\nVLOOKUP(L48,'(HIDE) MASTER-Chart'!$B:$G,3,FALSE),\nVLOOKUP(L48,'(HIDE) MASTER-Chart'!$M:$R,3,FALSE)),\"\")","v":58797},{"$f":"IF(ISBLANK(L48),\"\",CONCATENATE(\"(\",L48,\")\"))","v":"(16)"}]
["28 - 29",13,null,13,null,14,null,14,null,14,null,14,null,"2 STEP",{"$f":"IFERROR(\nIF($W$1='(HIDE) MASTER-Chart'!$J$2,\nVLOOKUP(B49,'(HIDE) MASTER-Chart'!$B:$G,3,FALSE),\nVLOOKUP(B49,'(HIDE) MASTER-Chart'!$M:$R,3,FALSE)),\"\")","v":53934},"(13)",{"$f":"IFERROR(\nIF($W$1='(HIDE) MASTER-Chart'!$J$2,\nVLOOKUP(D49,'(HIDE) MASTER-Chart'!$B:$G,3,FALSE),\nVLOOKUP(D49,'(HIDE) MASTER-Chart'!$M:$R,3,FALSE)),\"\")","v":53934},"(13)",{"$f":"IFERROR(\nIF($W$1='(HIDE) MASTER-Chart'!$J$2,\nVLOOKUP(F49,'(HIDE) MASTER-Chart'!$B:$G,3,FALSE),\nVLOOKUP(F49,'(HIDE) MASTER-Chart'!$M:$R,3,FALSE)),\"\")","v":55504},"(14)",{"$f":"IFERROR(\nIF($W$1='(HIDE) MASTER-Chart'!$J$2,\nVLOOKUP(H49,'(HIDE) MASTER-Chart'!$B:$G,3,FALSE),\nVLOOKUP(H49,'(HIDE) MASTER-Chart'!$M:$R,3,FALSE)),\"\")","v":55504},"(14)",{"$f":"IFERROR(\nIF($W$1='(HIDE) MASTER-Chart'!$J$2,\nVLOOKUP(J49,'(HIDE) MASTER-Chart'!$B:$G,3,FALSE),\nVLOOKUP(J49,'(HIDE) MASTER-Chart'!$M:$R,3,FALSE)),\"\")","v":55504},"(14)",{"$f":"IFERROR(\nIF($W$1='(HIDE) MASTER-Chart'!$J$2,\nVLOOKUP(L49,'(HIDE) MASTER-Chart'!$B:$G,3,FALSE),\nVLOOKUP(L49,'(HIDE) MASTER-Chart'!$M:$R,3,FALSE)),\"\")","v":55504},"(14)"]
[null,null,null,null,null,null,null,null,null,null,null,null,null," "," ",null," ",null," ",null," ",null," ",null," "]
[null,15,null,16,null,16,null,16,null,16,null,16,null,"TARGET",{"$f":"IFERROR(\nIF($W$1='(HIDE) MASTER-Chart'!$J$2,\nVLOOKUP(B51,'(HIDE) MASTER-Chart'!$B:$G,3,FALSE),\nVLOOKUP(B51,'(HIDE) MASTER-Chart'!$M:$R,3,FALSE)),\"\")","v":57128},{"$f":"IF(ISBLANK(B51),\"\",CONCATENATE(\"(\",B51,\")\"))","v":"(15)"},{"$f":"IFERROR(\nIF($W$1='(HIDE) MASTER-Chart'!$J$2,\nVLOOKUP(D51,'(HIDE) MASTER-Chart'!$B:$G,3,FALSE),\nVLOOKUP(D51,'(HIDE) MASTER-Chart'!$M:$R,3,FALSE)),\"\")","v":58797},{"$f":"IF(ISBLANK(D51),\"\",CONCATENATE(\"(\",D51,\")\"))","v":"(16)"},{"$f":"IFERROR(\nIF($W$1='(HIDE) MASTER-Chart'!$J$2,\nVLOOKUP(F51,'(HIDE) MASTER-Chart'!$B:$G,3,FALSE),\nVLOOKUP(F51,'(HIDE) MASTER-Chart'!$M:$R,3,FALSE)),\"\")","v":58797},{"$f":"IF(ISBLANK(F51),\"\",CONCATENATE(\"(\",F51,\")\"))","v":"(16)"},{"$f":"IFERROR(\nIF($W$1='(HIDE) MASTER-Chart'!$J$2,\nVLOOKUP(H51,'(HIDE) MASTER-Chart'!$B:$G,3,FALSE),\nVLOOKUP(H51,'(HIDE) MASTER-Chart'!$M:$R,3,FALSE)),\"\")","v":58797},{"$f":"IF(ISBLANK(H51),\"\",CONCATENATE(\"(\",H51,\")\"))","v":"(16)"},{"$f":"IFERROR(\nIF($W$1='(HIDE) MASTER-Chart'!$J$2,\nVLOOKUP(J51,'(HIDE) MASTER-Chart'!$B:$G,3,FALSE),\nVLOOKUP(J51,'(HIDE) MASTER-Chart'!$M:$R,3,FALSE)),\"\")","v":58797},{"$f":"IF(ISBLANK(J51),\"\",CONCATENATE(\"(\",J51,\")\"))","v":"(16)"},{"$f":"IFERROR(\nIF($W$1='(HIDE) MASTER-Chart'!$J$2,\nVLOOKUP(L51,'(HIDE) MASTER-Chart'!$B:$G,3,FALSE),\nVLOOKUP(L51,'(HIDE) MASTER-Chart'!$M:$R,3,FALSE)),\"\")","v":58797},{"$f":"IF(ISBLANK(L51),\"\",CONCATENATE(\"(\",L51,\")\"))","v":"(16)"}]
["30 - 31",13,null,14,null,14,null,14,null,14,null,14,null,"2 STEP",{"$f":"IFERROR(\nIF($W$1='(HIDE) MASTER-Chart'!$J$2,\nVLOOKUP(B52,'(HIDE) MASTER-Chart'!$B:$G,3,FALSE),\nVLOOKUP(B52,'(HIDE) MASTER-Chart'!$M:$R,3,FALSE)),\"\")","v":53934},"(13)",{"$f":"IFERROR(\nIF($W$1='(HIDE) MASTER-Chart'!$J$2,\nVLOOKUP(D52,'(HIDE) MASTER-Chart'!$B:$G,3,FALSE),\nVLOOKUP(D52,'(HIDE) MASTER-Chart'!$M:$R,3,FALSE)),\"\")","v":55504},"(14)",{"$f":"IFERROR(\nIF($W$1='(HIDE) MASTER-Chart'!$J$2,\nVLOOKUP(F52,'(HIDE) MASTER-Chart'!$B:$G,3,FALSE),\nVLOOKUP(F52,'(HIDE) MASTER-Chart'!$M:$R,3,FALSE)),\"\")","v":55504},"(14)",{"$f":"IFERROR(\nIF($W$1='(HIDE) MASTER-Chart'!$J$2,\nVLOOKUP(H52,'(HIDE) MASTER-Chart'!$B:$G,3,FALSE),\nVLOOKUP(H52,'(HIDE) MASTER-Chart'!$M:$R,3,FALSE)),\"\")","v":55504},"(14)",{"$f":"IFERROR(\nIF($W$1='(HIDE) MASTER-Chart'!$J$2,\nVLOOKUP(J52,'(HIDE) MASTER-Chart'!$B:$G,3,FALSE),\nVLOOKUP(J52,'(HIDE) MASTER-Chart'!$M:$R,3,FALSE)),\"\")","v":55504},"(14)",{"$f":"IFERROR(\nIF($W$1='(HIDE) MASTER-Chart'!$J$2,\nVLOOKUP(L52,'(HIDE) MASTER-Chart'!$B:$G,3,FALSE),\nVLOOKUP(L52,'(HIDE) MASTER-Chart'!$M:$R,3,FALSE)),\"\")","v":55504},"(14)"]
[null,null,null,null,null,null,null,null,null,null,null,null,null," "," ",null," ",null," ",null," ",null," ",null," "]
[null,16,null,16,null,16,null,16,null,16,null,16,null,"TARGET",{"$f":"IFERROR(\nIF($W$1='(HIDE) MASTER-Chart'!$J$2,\nVLOOKUP(B54,'(HIDE) MASTER-Chart'!$B:$G,3,FALSE),\nVLOOKUP(B54,'(HIDE) MASTER-Chart'!$M:$R,3,FALSE)),\"\")","v":58797},{"$f":"IF(ISBLANK(B54),\"\",CONCATENATE(\"(\",B54,\")\"))","v":"(16)"},{"$f":"IFERROR(\nIF($W$1='(HIDE) MASTER-Chart'!$J$2,\nVLOOKUP(D54,'(HIDE) MASTER-Chart'!$B:$G,3,FALSE),\nVLOOKUP(D54,'(HIDE) MASTER-Chart'!$M:$R,3,FALSE)),\"\")","v":58797},{"$f":"IF(ISBLANK(D54),\"\",CONCATENATE(\"(\",D54,\")\"))","v":"(16)"},{"$f":"IFERROR(\nIF($W$1='(HIDE) MASTER-Chart'!$J$2,\nVLOOKUP(F54,'(HIDE) MASTER-Chart'!$B:$G,3,FALSE),\nVLOOKUP(F54,'(HIDE) MASTER-Chart'!$M:$R,3,FALSE)),\"\")","v":58797},{"$f":"IF(ISBLANK(F54),\"\",CONCATENATE(\"(\",F54,\")\"))","v":"(16)"},{"$f":"IFERROR(\nIF($W$1='(HIDE) MASTER-Chart'!$J$2,\nVLOOKUP(H54,'(HIDE) MASTER-Chart'!$B:$G,3,FALSE),\nVLOOKUP(H54,'(HIDE) MASTER-Chart'!$M:$R,3,FALSE)),\"\")","v":58797},{"$f":"IF(ISBLANK(H54),\"\",CONCATENATE(\"(\",H54,\")\"))","v":"(16)"},{"$f":"IFERROR(\nIF($W$1='(HIDE) MASTER-Chart'!$J$2,\nVLOOKUP(J54,'(HIDE) MASTER-Chart'!$B:$G,3,FALSE),\nVLOOKUP(J54,'(HIDE) MASTER-Chart'!$M:$R,3,FALSE)),\"\")","v":58797},{"$f":"IF(ISBLANK(J54),\"\",CONCATENATE(\"(\",J54,\")\"))","v":"(16)"},{"$f":"IFERROR(\nIF($W$1='(HIDE) MASTER-Chart'!$J$2,\nVLOOKUP(L54,'(HIDE) MASTER-Chart'!$B:$G,3,FALSE),\nVLOOKUP(L54,'(HIDE) MASTER-Chart'!$M:$R,3,FALSE)),\"\")","v":58797},{"$f":"IF(ISBLANK(L54),\"\",CONCATENATE(\"(\",L54,\")\"))","v":"(16)"}]
["32+",14,null,14,null,14,null,14,null,14,null,14,null,"2 STEP",{"$f":"IFERROR(\nIF($W$1='(HIDE) MASTER-Chart'!$J$2,\nVLOOKUP(B55,'(HIDE) MASTER-Chart'!$B:$G,3,FALSE),\nVLOOKUP(B55,'(HIDE) MASTER-Chart'!$M:$R,3,FALSE)),\"\")","v":55504},"(14)",{"$f":"IFERROR(\nIF($W$1='(HIDE) MASTER-Chart'!$J$2,\nVLOOKUP(D55,'(HIDE) MASTER-Chart'!$B:$G,3,FALSE),\nVLOOKUP(D55,'(HIDE) MASTER-Chart'!$M:$R,3,FALSE)),\"\")","v":55504},"(14)",{"$f":"IFERROR(\nIF($W$1='(HIDE) MASTER-Chart'!$J$2,\nVLOOKUP(F55,'(HIDE) MASTER-Chart'!$B:$G,3,FALSE),\nVLOOKUP(F55,'(HIDE) MASTER-Chart'!$M:$R,3,FALSE)),\"\")","v":55504},"(14)",{"$f":"IFERROR(\nIF($W$1='(HIDE) MASTER-Chart'!$J$2,\nVLOOKUP(H55,'(HIDE) MASTER-Chart'!$B:$G,3,FALSE),\nVLOOKUP(H55,'(HIDE) MASTER-Chart'!$M:$R,3,FALSE)),\"\")","v":55504},"(14)",{"$f":"IFERROR(\nIF($W$1='(HIDE) MASTER-Chart'!$J$2,\nVLOOKUP(J55,'(HIDE) MASTER-Chart'!$B:$G,3,FALSE),\nVLOOKUP(J55,'(HIDE) MASTER-Chart'!$M:$R,3,FALSE)),\"\")","v":55504},"(14)",{"$f":"IFERROR(\nIF($W$1='(HIDE) MASTER-Chart'!$J$2,\nVLOOKUP(L55,'(HIDE) MASTER-Chart'!$B:$G,3,FALSE),\nVLOOKUP(L55,'(HIDE) MASTER-Chart'!$M:$R,3,FALSE)),\"\")","v":55504},"(14)"]
[null,null,null,null,null,null,null,null,null,null,null,null,null," "," ",null," ",null," ",null," ",null," ",null," "]

{"sheet":"Printable Grid-RangeC","index":7,"n_rows":62,"n_cols":26,"rows_kept":62,"cut":false,"hidden":false,"merged":[[61,1,61,2],[61,3,61,4],[61,5,61,6],[61,7,61,8],[61,9,61,10],[61,11,61,12],[60,1,60,2],[60,3,60,4],[60,5,60,6],[60,7,60,8],[60,9,60,10],[60,11,60,12],[59,1,59,2],[59,3,59,4],[59,5,59,6],[59,7,59,8],[59,9,59,10],[59,11,59,12],[58,1,58,2],[58,3,58,4],[58,5,58,6],[58,7,58,8],[58,9,58,10],[58,11,58,12],[57,1,57,2],[57,3,57,4],[57,5,57,6],[57,7,57,8],[57,9,57,10],[57,11,57,12],[56,1,56,2],[56,3,56,4],[56,5,56,6],[56,7,56,8],[56,9,56,10],[56,11,56,12],[55,1,55,2],[55,3,55,4],[55,5,55,6],[55,7,55,8],[55,9,55,10],[55,11,55,12],[54,1,54,2],[54,3,54,4],[54,5,54,6],[54,7,54,8],[54,9,54,10],[54,11,54,12],[53,1,53,2],[53,3,53,4],[53,5,53,6],[53,7,53,8],[53,9,53,10],[53,11,53,12],[52,1,52,2],[52,3,52,4],[52,5,52,6],[52,7,52,8],[52,9,52,10],[52,11,52,12],[51,1,51,2],[51,3,51,4],[51,5,51,6],[51,7,51,8],[51,9,51,10],[51,11,51,12],[50,1,50,2],[50,3,50,4],[50,5,50,6],[50,7,50,8],[50,9,50,10],[50,11,50,12],[49,1,49,2],[49,3,49,4],[49,5,49,6],[49,7,49,8],[49,9,49,10],[49,11,49,12],[48,1,48,2],[48,3,48,4],[48,5,48,6],[48,7,48,8],[48,9,48,10],[48,11,48,12],[47,1,47,2],[47,3,47,4],[47,5,47,6],[47,7,47,8],[47,9,47,10],[47,11,47,12],[46,1,46,2],[46,3,46,4],[46,5,46,6],[46,7,46,8],[46,9,46,10],[46,11,46,12],[45,1,45,2],[45,3,45,4],[45,5,45,6],[45,7,45,8],[45,9,45,10],[45,11,45,12],[44,1,44,2],[44,3,44,4],[44,5,44,6],[44,7,44,8],[44,9,44,10],[44,11,44,12],[43,1,43,2],[43,3,43,4],[43,5,43,6],[43,7,43,8],[43,9,43,10],[43,11,43,12],[42,1,42,2],[42,3,42,4],[42,5,42,6],[42,7,42,8],[42,9,42,10],[42,11,42,12],[41,1,41,2],[41,3,41,4],[41,5,41,6],[41,7,41,8],[41,9,41,10],[41,11,41,12],[40,1,40,2],[40,3,40,4],[40,5,40,6],[40,7,40,8],[40,9,40,10],[40,11,40,12],[39,1,39,2],[39,3,39,4],[39,5,39,6],[39,7,39,8],[39,9,39,10],[39,11,39,12],[38,1,38,2],[38,3,38,4],[38,5,38,6],[38,7,38,8],[38,9,38,10],[38,11,38,12],[37,1,37,2],[37,3,37,4],[37,5,37,6],[37,7,37,8],[37,9,37,10],[37,11,37,12],[36,1,36,2],[36,3,36,4],[36,5,36,6],[36,7,36,8],[36,9,36,10],[36,11,36,12],[35,1,35,2],[35,3,35,4],[35,5,35,6],[35,7,35,8],[35,9,35,10],[35,11,35,12],[34,1,34,2],[34,3,34,4],[34,5,34,6],[34,7,34,8],[34,9,34,10],[34,11,34,12],[33,1,33,2],[33,3,33,4],[33,5,33,6],[33,7,33,8],[33,9,33,10],[33,11,33,12],[32,1,32,2],[32,3,32,4],[32,5,32,6],[32,7,32,8],[32,9,32,10],[32,11,32,12],[31,1,31,2],[31,3,31,4],[31,5,31,6],[31,7,31,8],[31,9,31,10],[31,11,31,12],[30,1,30,2],[30,3,30,4],[30,5,30,6],[30,7,30,8],[30,9,30,10],[30,11,30,12],[29,1,29,2],[29,3,29,4],[29,5,29,6],[29,7,29,8],[29,9,29,10],[29,11,29,12],[28,1,28,2],[28,3,28,4],[28,5,28,6],[28,7,28,8],[28,9,28,10],[28,11,28,12],[27,1,27,2],[27,3,27,4],[27,5,27,6],[27,7,27,8],[27,9,27,10],[27,11,27,12],[26,1,26,2],[26,3,26,4],[26,5,26,6],[26,7,26,8],[26,9,26,10],[26,11,26,12],[25,1,25,2],[25,3,25,4],[25,5,25,6],[25,7,25,8],[25,9,25,10],[25,11,25,12],[24,1,24,2],[24,3,24,4],[24,5,24,6],[24,7,24,8],[24,9,24,10],[24,11,24,12],[23,1,23,2],[23,3,23,4],[23,5,23,6],[23,7,23,8],[23,9,23,10],[23,11,23,12],[22,1,22,2],[22,3,22,4],[22,5,22,6],[22,7,22,8],[22,9,22,10],[22,11,22,12],[21,1,21,2],[21,3,21,4],[21,5,21,6],[21,7,21,8],[21,9,21,10],[21,11,21,12],[20,1,20,2],[20,3,20,4],[20,5,20,6],[20,7,20,8],[20,9,20,10],[20,11,20,12],[19,1,19,2],[19,3,19,4],[19,5,19,6],[19,7,19,8],[19,9,19,10],[19,11,19,12],[18,1,18,2],[18,3,18,4],[18,5,18,6],[18,7,18,8],[18,9,18,10],[18,11,18,12],[17,1,17,2],[17,3,17,4],[17,5,17,6],[17,7,17,8],[17,9,17,10],[17,11,17,12],[16,1,16,2],[16,3,16,4],[16,5,16,6],[16,7,16,8],[16,9,16,10],[16,11,16,12],[15,1,15,2],[15,3,15,4],[15,5,15,6],[15,7,15,8],[15,9,15,10],[15,11,15,12],[14,1,14,2],[14,3,14,4],[14,5,14,6],[14,7,14,8],[14,9,14,10],[14,11,14,12],[13,1,13,2],[13,3,13,4],[13,5,13,6],[13,7,13,8],[13,9,13,10],[13,11,13,12],[12,1,12,2],[12,3,12,4],[12,5,12,6],[12,7,12,8],[12,9,12,10],[12,11,12,12],[11,1,11,2],[11,3,11,4],[11,5,11,6],[11,7,11,8],[11,9,11,10],[11,11,11,12],[10,1,10,2],[10,3,10,4],[10,5,10,6],[10,7,10,8],[10,9,10,10],[10,11,10,12],[9,1,9,2],[9,3,9,4],[9,5,9,6],[9,7,9,8],[9,9,9,10],[9,11,9,12],[8,1,8,2],[8,3,8,4],[8,5,8,6],[8,7,8,8],[8,9,8,10],[8,11,8,12],[5,1,5,2],[5,3,5,4],[5,5,5,6],[5,7,5,8],[5,9,5,10],[5,11,5,12],[7,1,7,2],[7,3,7,4],[7,5,7,6],[7,7,7,8],[7,9,7,10],[7,11,7,12],[6,1,6,2],[6,3,6,4],[6,5,6,6],[6,7,6,8],[6,9,6,10],[6,11,6,12],[0,22,0,24],[3,14,3,25],[4,1,4,2],[4,3,4,4],[4,5,4,6],[4,7,4,8],[4,9,4,10],[4,11,4,12],[4,14,4,15],[4,16,4,17],[4,18,4,19],[4,20,4,21],[4,22,4,23],[4,24,4,25]]}
[null,null,null,null,null,null,null,null,null,null,null,null,null,null,"MSUAASF",null,null,null,"RANGE C",null," ",null,"7/1/2023 (FY24)"]
[null,null,null,null,null,null,null,null,null,null,null,null,null,null,null,null,{"$f":"'(HIDE) MASTER-Chart'!$E$3","v":45352},null,"to",null,{"$f":"'(HIDE) MASTER-Chart'!$E$22","v":78555},null," ",null," "]
[]
["TOTAL",null,null,null,null,null,null,null,null,null,null,null,null," ","Years in Equal or Higher MSUAASF, MnSCU Academic Professional, MnSCU Academic Supervisor  and/or MnSCU Administrator Ranges"]
["YRS EXP","0 - 1",null,"2 - 3",null,"4 - 5",null,"6 - 7",null,"8 - 9",null,"10 +",null," ","0 - 1",null,"2 - 3",null,"4 - 5",null,"6 - 7",null,"8 - 9",null,"10 +"]
[" ",3,null,null,null,null,null,null,null,null,null,null,null,"TARGET",{"$f":"IFERROR(\nIF($W$1='(HIDE) MASTER-Chart'!$J$2,\nVLOOKUP(B6,'(HIDE) MASTER-Chart'!$B:$G,4,FALSE),\nVLOOKUP(B6,'(HIDE) MASTER-Chart'!$M:$R,4,FALSE)),\"\")","v":47972},{"$f":"IF(ISBLANK(B6),\"\",CONCATENATE(\"(\",B6,\")\"))","v":"(3)"},{"$f":"IFERROR(\nIF($W$1='(HIDE) MASTER-Chart'!$J$2,\nVLOOKUP(D6,'(HIDE) MASTER-Chart'!$B:$G,4,FALSE),\nVLOOKUP(D6,'(HIDE) MASTER-Chart'!$M:$R,4,FALSE)),\"\")","v":""},{"$f":"IF(ISBLANK(D6),\"\",CONCATENATE(\"(\",D6,\")\"))","v":""},{"$f":"IFERROR(\nIF($W$1='(HIDE) MASTER-Chart'!$J$2,\nVLOOKUP(F6,'(HIDE) MASTER-Chart'!$B:$G,4,FALSE),\nVLOOKUP(F6,'(HIDE) MASTER-Chart'!$M:$R,4,FALSE)),\"\")","v":""},{"$f":"IF(ISBLANK(F6),\"\",CONCATENATE(\"(\",F6,\")\"))","v":""},{"$f":"IFERROR(\nIF($W$1='(HIDE) MASTER-Chart'!$J$2,\nVLOOKUP(H6,'(HIDE) MASTER-Chart'!$B:$G,4,FALSE),\nVLOOKUP(H6,'(HIDE) MASTER-Chart'!$M:$R,4,FALSE)),\"\")","v":""},{"$f":"IF(ISBLANK(H6),\"\",CONCATENATE(\"(\",H6,\")\"))","v":""},{"$f":"IFERROR(\nIF($W$1='(HIDE) MASTER-Chart'!$J$2,\nVLOOKUP(J6,'(HIDE) MASTER-Chart'!$B:$G,4,FALSE),\nVLOOKUP(J6,'(HIDE) MASTER-Chart'!$M:$R,4,FALSE)),\"\")","v":""},{"$f":"IF(ISBLANK(J6),\"\",CONCATENATE(\"(\",J6,\")\"))","v":""},{"$f":"IFERROR(\nIF($W$1='(HIDE) MASTER-Chart'!$J$2,\nVLOOKUP(L6,'(HIDE) MASTER-Chart'!$B:$G,4,FALSE),\nVLOOKUP(L6,'(HIDE) MASTER-Chart'!$M:$R,4,FALSE)),\"\")","v":""},{"$f":"IF(ISBLANK(L6),\"\",CONCATENATE(\"(\",L6,\")\"))","v":""}]
["0 - 1",1,null,null,null,null,null,null,null,null,null,null,null,"2 STEP",{"$f":"IFERROR(\nIF($W$1='(HIDE) MASTER-Chart'!$J$2,\nVLOOKUP(B7,'(HIDE) MASTER-Chart'!$B:$G,4,FALSE),\nVLOOKUP(B7,'(HIDE) MASTER-Chart'!$M:$R,4,FALSE)),\"\")","v":45352},{"$f":"IF(ISBLANK(B7),\"\",CONCATENATE(\"(\",B7,\")\"))","v":"(1)"},{"$f":"IFERROR(\nIF($W$1='(HIDE) MASTER-Chart'!$J$2,\nVLOOKUP(D7,'(HIDE) MASTER-Chart'!$B:$G,4,FALSE),\nVLOOKUP(D7,'(HIDE) MASTER-Chart'!$M:$R,4,FALSE)),\"\")","v":""},"",{"$f":"IFERROR(\nIF($W$1='(HIDE) MASTER-Chart'!$J$2,\nVLOOKUP(F7,'(HIDE) MASTER-Chart'!$B:$G,4,FALSE),\nVLOOKUP(F7,'(HIDE) MASTER-Chart'!$M:$R,4,FALSE)),\"\")","v":""},"",{"$f":"IFERROR(\nIF($W$1='(HIDE) MASTER-Chart'!$J$2,\nVLOOKUP(H7,'(HIDE) MASTER-Chart'!$B:$G,4,FALSE),\nVLOOKUP(H7,'(HIDE) MASTER-Chart'!$M:$R,4,FALSE)),\"\")","v":""},"",{"$f":"IFERROR(\nIF($W$1='(HIDE) MASTER-Chart'!$J$2,\nVLOOKUP(J7,'(HIDE) MASTER-Chart'!$B:$G,4,FALSE),\nVLOOKUP(J7,'(HIDE) MASTER-Chart'!$M:$R,4,FALSE)),\"\")","v":""},"",{"$f":"IFERROR(\nIF($W$1='(HIDE) MASTER-Chart'!$J$2,\nVLOOKUP(L7,'(HIDE) MASTER-Chart'!$B:$G,4,FALSE),\nVLOOKUP(L7,'(HIDE) MASTER-Chart'!$M:$R,4,FALSE)),\"\")","v":""},""]
[null,null,null,null,null,null,null,null,null,null,null,null,null," ",{"$f":"IF(ISERROR(VLOOKUP(B8,'(HIDE) MASTER-Chart'!$B:$G,5,FALSE)),\"\",VLOOKUP(B8,'(HIDE) MASTER-Chart'!$B:$G,5,FALSE))","v":""},{"$f":"IF(ISBLANK(B8),\"\",CONCATENATE(\"(\",B8,\")\"))","v":""},{"$f":"IF(ISERROR(VLOOKUP(D8,'(HIDE) MASTER-Chart'!$B:$G,5,FALSE)),\"\",VLOOKUP(D8,'(HIDE) MASTER-Chart'!$B:$G,5,FALSE))","v":""},"",{"$f":"IF(ISERROR(VLOOKUP(F8,'(HIDE) MASTER-Chart'!$B:$G,5,FALSE)),\"\",VLOOKUP(F8,'(HIDE) MASTER-Chart'!$B:$G,5,FALSE))","v":""},"",{"$f":"IF(ISERROR(VLOOKUP(H8,'(HIDE) MASTER-Chart'!$B:$G,5,FALSE)),\"\",VLOOKUP(H8,'(HIDE) MASTER-Chart'!$B:$G,5,FALSE))","v":""},"",{"$f":"IF(ISERROR(VLOOKUP(J8,'(HIDE) MASTER-Chart'!$B:$G,5,FALSE)),\"\",VLOOKUP(J8,'(HIDE) MASTER-Chart'!$B:$G,5,FALSE))","v":""},"",{"$f":"IF(ISERROR(VLOOKUP(L8,'(HIDE) MASTER-Chart'!$B:$G,5,FALSE)),\"\",VLOOKUP(L8,'(HIDE) MASTER-Chart'!$B:$G,5,FALSE))","v":""},""]
[null,4,null,4,null,null,null,null,null,null,null,null,null,"TARGET",{"$f":"IFERROR(\nIF($W$1='(HIDE) MASTER-Chart'!$J$2,\nVLOOKUP(B9,'(HIDE) MASTER-Chart'!$B:$G,4,FALSE),\nVLOOKUP(B9,'(HIDE) MASTER-Chart'!$M:$R,4,FALSE)),\"\")","v":49382},{"$f":"IF(ISBLANK(B9),\"\",CONCATENATE(\"(\",B9,\")\"))","v":"(4)"},{"$f":"IFERROR(\nIF($W$1='(HIDE) MASTER-Chart'!$J$2,\nVLOOKUP(D9,'(HIDE) MASTER-Chart'!$B:$G,4,FALSE),\nVLOOKUP(D9,'(HIDE) MASTER-Chart'!$M:$R,4,FALSE)),\"\")","v":49382},{"$f":"IF(ISBLANK(D9),\"\",CONCATENATE(\"(\",D9,\")\"))","v":"(4)"},{"$f":"IFERROR(\nIF($W$1='(HIDE) MASTER-Chart'!$J$2,\nVLOOKUP(F9,'(HIDE) MASTER-Chart'!$B:$G,4,FALSE),\nVLOOKUP(F9,'(HIDE) MASTER-Chart'!$M:$R,4,FALSE)),\"\")","v":""},{"$f":"IF(ISBLANK(F9),\"\",CONCATENATE(\"(\",F9,\")\"))","v":""},{"$f":"IFERROR(\nIF($W$1='(HIDE) MASTER-Chart'!$J$2,\nVLOOKUP(H9,'(HIDE) MASTER-Chart'!$B:$G,4,FALSE),\nVLOOKUP(H9,'(HIDE) MASTER-Chart'!$M:$R,4,FALSE)),\"\")","v":""},{"$f":"IF(ISBLANK(H9),\"\",CONCATENATE(\"(\",H9,\")\"))","v":""},{"$f":"IFERROR(\nIF($W$1='(HIDE) MASTER-Chart'!$J$2,\nVLOOKUP(J9,'(HIDE) MASTER-Chart'!$B:$G,4,FALSE),\nVLOOKUP(J9,'(HIDE) MASTER-Chart'!$M:$R,4,FALSE)),\"\")","v":""},{"$f":"IF(ISBLANK(J9),\"\",CONCATENATE(\"(\",J9,\")\"))","v":""},{"$f":"IFERROR(\nIF($W$1='(HIDE) MASTER-Chart'!$J$2,\nVLOOKUP(L9,'(HIDE) MASTER-Chart'!$B:$G,4,FALSE),\nVLOOKUP(L9,'(HIDE) MASTER-Chart'!$M:$R,4,FALSE)),\"\")","v":""},{"$f":"IF(ISBLANK(L9),\"\",CONCATENATE(\"(\",L9,\")\"))","v":""}]
["2 - 3",2,null,2,null,null,null,null,null,null,null,null,null,"2 STEP",{"$f":"IFERROR(\nIF($W$1='(HIDE) MASTER-Chart'!$J$2,\nVLOOKUP(B10,'(HIDE) MASTER-Chart'!$B:$G,4,FALSE),\nVLOOKUP(B10,'(HIDE) MASTER-Chart'!$M:$R,4,FALSE)),\"\")","v":46559},"(2)",{"$f":"IFERROR(\nIF($W$1='(HIDE) MASTER-Chart'!$J$2,\nVLOOKUP(D10,'(HIDE) MASTER-Chart'!$B:$G,4,FALSE),\nVLOOKUP(D10,'(HIDE) MASTER-Chart'!$M:$R,4,FALSE)),\"\")","v":46559},"(2)",{"$f":"IFERROR(\nIF($W$1='(HIDE) MASTER-Chart'!$J$2,\nVLOOKUP(F10,'(HIDE) MASTER-Chart'!$B:$G,4,FALSE),\nVLOOKUP(F10,'(HIDE) MASTER-Chart'!$M:$R,4,FALSE)),\"\")","v":""},"",{"$f":"IFERROR(\nIF($W$1='(HIDE) MASTER-Chart'!$J$2,\nVLOOKUP(H10,'(HIDE) MASTER-Chart'!$B:$G,4,FALSE),\nVLOOKUP(H10,'(HIDE) MASTER-Chart'!$M:$R,4,FALSE)),\"\")","v":""},"",{"$f":"IFERROR(\nIF($W$1='(HIDE) MASTER-Chart'!$J$2,\nVLOOKUP(J10,'(HIDE) MASTER-Chart'!$B:$G,4,FALSE),\nVLOOKUP(J10,'(HIDE) MASTER-Chart'!$M:$R,4,FALSE)),\"\")","v":""},"",{"$f":"IFERROR(\nIF($W$1='(HIDE) MASTER-Chart'!$J$2,\nVLOOKUP(L10,'(HIDE) MASTER-Chart'!$B:$G,4,FALSE),\nVLOOKUP(L10,'(HIDE) MASTER-Chart'!$M:$R,4,FALSE)),\"\")","v":""},""]
[null,null,null,null,null,null,null,null,null,null,null,null,null," ",{"$f":"IF(ISERROR(VLOOKUP(B11,'(HIDE) MASTER-Chart'!$B:$G,5,FALSE)),\"\",VLOOKUP(B11,'(HIDE) MASTER-Chart'!$B:$G,5,FALSE))","v":""},"",{"$f":"IF(ISERROR(VLOOKUP(D11,'(HIDE) MASTER-Chart'!$B:$G,5,FALSE)),\"\",VLOOKUP(D11,'(HIDE) MASTER-Chart'!$B:$G,5,FALSE))","v":""},"",{"$f":"IF(ISERROR(VLOOKUP(F11,'(HIDE) MASTER-Chart'!$B:$G,5,FALSE)),\"\",VLOOKUP(F11,'(HIDE) MASTER-Chart'!$B:$G,5,FALSE))","v":""},"",{"$f":"IF(ISERROR(VLOOKUP(H11,'(HIDE) MASTER-Chart'!$B:$G,5,FALSE)),\"\",VLOOKUP(H11,'(HIDE) MASTER-Chart'!$B:$G,5,FALSE))","v":""},"",{"$f":"IF(ISERROR(VLOOKUP(J11,'(HIDE) MASTER-Chart'!$B:$G,5,FALSE)),\"\",VLOOKUP(J11,'(HIDE) MASTER-Chart'!$B:$G,5,FALSE))","v":""},"",{"$f":"IF(ISERROR(VLOOKUP(L11,'(HIDE) MASTER-Chart'!$B:$G,5,FALSE)),\"\",VLOOKUP(L11,'(HIDE) MASTER-Chart'!$B:$G,5,FALSE))","v":""},""]
[null,5,null,5,null,6,null,null,null,null,null,null,null,"TARGET",{"$f":"IFERROR(\nIF($W$1='(HIDE) MASTER-Chart'!$J$2,\nVLOOKUP(B12,'(HIDE) MASTER-Chart'!$B:$G,4,FALSE),\nVLOOKUP(B12,'(HIDE) MASTER-Chart'!$M:$R,4,FALSE)),\"\")","v":50884},"(5)",{"$f":"IFERROR(\nIF($W$1='(HIDE) MASTER-Chart'!$J$2,\nVLOOKUP(D12,'(HIDE) MASTER-Chart'!$B:$G,4,FALSE),\nVLOOKUP(D12,'(HIDE) MASTER-Chart'!$M:$R,4,FALSE)),\"\")","v":50884},"(5)",{"$f":"IFERROR(\nIF($W$1='(HIDE) MASTER-Chart'!$J$2,\nVLOOKUP(F12,'(HIDE) MASTER-Chart'!$B:$G,4,FALSE),\nVLOOKUP(F12,'(HIDE) MASTER-Chart'!$M:$R,4,FALSE)),\"\")","v":52542},"(6)",{"$f":"IFERROR(\nIF($W$1='(HIDE) MASTER-Chart'!$J$2,\nVLOOKUP(H12,'(HIDE) MASTER-Chart'!$B:$G,4,FALSE),\nVLOOKUP(H12,'(HIDE) MASTER-Chart'!$M:$R,4,FALSE)),\"\")","v":""},"",{"$f":"IFERROR(\nIF($W$1='(HIDE) MASTER-Chart'!$J$2,\nVLOOKUP(J12,'(HIDE) MASTER-Chart'!$B:$G,4,FALSE),\nVLOOKUP(J12,'(HIDE) MASTER-Chart'!$M:$R,4,FALSE)),\"\")","v":""},"",{"$f":"IFERROR(\nIF($W$1='(HIDE) MASTER-Chart'!$J$2,\nVLOOKUP(L12,'(HIDE) MASTER-Chart'!$B:$G,4,FALSE),\nVLOOKUP(L12,'(HIDE) MASTER-Chart'!$M:$R,4,FALSE)),\"\")","v":""},""]
["4 - 5",3,null,3,null,4,null,null,null,null,null,null,null,"2 STEP",{"$f":"IFERROR(\nIF($W$1='(HIDE) MASTER-Chart'!$J$2,\nVLOOKUP(B13,'(HIDE) MASTER-Chart'!$B:$G,4,FALSE),\nVLOOKUP(B13,'(HIDE) MASTER-Chart'!$M:$R,4,FALSE)),\"\")","v":47972},"(3)",{"$f":"IFERROR(\nIF($W$1='(HIDE) MASTER-Chart'!$J$2,\nVLOOKUP(D13,'(HIDE) MASTER-Chart'!$B:$G,4,FALSE),\nVLOOKUP(D13,'(HIDE) MASTER-Chart'!$M:$R,4,FALSE)),\"\")","v":47972},"(3)",{"$f":"IFERROR(\nIF($W$1='(HIDE) MASTER-Chart'!$J$2,\nVLOOKUP(F13,'(HIDE) MASTER-Chart'!$B:$G,4,FALSE),\nVLOOKUP(F13,'(HIDE) MASTER-Chart'!$M:$R,4,FALSE)),\"\")","v":49382},"(4)",{"$f":"IFERROR(\nIF($W$1='(HIDE) MASTER-Chart'!$J$2,\nVLOOKUP(H13,'(HIDE) MASTER-Chart'!$B:$G,4,FALSE),\nVLOOKUP(H13,'(HIDE) MASTER-Chart'!$M:$R,4,FALSE)),\"\")","v":""},"",{"$f":"IFERROR(\nIF($W$1='(HIDE) MASTER-Chart'!$J$2,\nVLOOKUP(J13,'(HIDE) MASTER-Chart'!$B:$G,4,FALSE),\nVLOOKUP(J13,'(HIDE) MASTER-Chart'!$M:$R,4,FALSE)),\"\")","v":""},"",{"$f":"IFERROR(\nIF($W$1='(HIDE) MASTER-Chart'!$J$2,\nVLOOKUP(L13,'(HIDE) MASTER-Chart'!$B:$G,4,FALSE),\nVLOOKUP(L13,'(HIDE) MASTER-Chart'!$M:$R,4,FALSE)),\"\")","v":""},""]
[null,null,null,null,null,null,null,null,null,null,null,null,null," ",{"$f":"IF(ISERROR(VLOOKUP(B14,'(HIDE) MASTER-Chart'!$B:$G,5,FALSE)),\"\",VLOOKUP(B14,'(HIDE) MASTER-Chart'!$B:$G,5,FALSE))","v":""},"",{"$f":"IF(ISERROR(VLOOKUP(D14,'(HIDE) MASTER-Chart'!$B:$G,5,FALSE)),\"\",VLOOKUP(D14,'(HIDE) MASTER-Chart'!$B:$G,5,FALSE))","v":""},"",{"$f":"IF(ISERROR(VLOOKUP(F14,'(HIDE) MASTER-Chart'!$B:$G,5,FALSE)),\"\",VLOOKUP(F14,'(HIDE) MASTER-Chart'!$B:$G,5,FALSE))","v":""},"",{"$f":"IF(ISERROR(VLOOKUP(H14,'(HIDE) MASTER-Chart'!$B:$G,5,FALSE)),\"\",VLOOKUP(H14,'(HIDE) MASTER-Chart'!$B:$G,5,FALSE))","v":""},"",{"$f":"IF(ISERROR(VLOOKUP(J14,'(HIDE) MASTER-Chart'!$B:$G,5,FALSE)),\"\",VLOOKUP(J14,'(HIDE) MASTER-Chart'!$B:$G,5,FALSE))","v":""},"",{"$f":"IF(ISERROR(VLOOKUP(L14,'(HIDE) MASTER-Chart'!$B:$G,5,FALSE)),\"\",VLOOKUP(L14,'(HIDE) MASTER-Chart'!$B:$G,5,FALSE))","v":""},""]
[null,5,null,6,null,6,null,7,null,null,null,null,null,"TARGET",{"$f":"IFERROR(\nIF($W$1='(HIDE) MASTER-Chart'!$J$2,\nVLOOKUP(B15,'(HIDE) MASTER-Chart'!$B:$G,4,FALSE),\nVLOOKUP(B15,'(HIDE) MASTER-Chart'!$M:$R,4,FALSE)),\"\")","v":50884},"(5)",{"$f":"IFERROR(\nIF($W$1='(HIDE) MASTER-Chart'!$J$2,\nVLOOKUP(D15,'(HIDE) MASTER-Chart'!$B:$G,4,FALSE),\nVLOOKUP(D15,'(HIDE) MASTER-Chart'!$M:$R,4,FALSE)),\"\")","v":52542},"(6)",{"$f":"IFERROR(\nIF($W$1='(HIDE) MASTER-Chart'!$J$2,\nVLOOKUP(F15,'(HIDE) MASTER-Chart'!$B:$G,4,FALSE),\nVLOOKUP(F15,'(HIDE) MASTER-Chart'!$M:$R,4,FALSE)),\"\")","v":52542},"(6)",{"$f":"IFERROR(\nIF($W$1='(HIDE) MASTER-Chart'!$J$2,\nVLOOKUP(H15,'(HIDE) MASTER-Chart'!$B:$G,4,FALSE),\nVLOOKUP(H15,'(HIDE) MASTER-Chart'!$M:$R,4,FALSE)),\"\")","v":53953},"(7)",{"$f":"IFERROR(\nIF($W$1='(HIDE) MASTER-Chart'!$J$2,\nVLOOKUP(J15,'(HIDE) MASTER-Chart'!$B:$G,4,FALSE),\nVLOOKUP(J15,'(HIDE) MASTER-Chart'!$M:$R,4,FALSE)),\"\")","v":""},"",{"$f":"IFERROR(\nIF($W$1='(HIDE) MASTER-Chart'!$J$2,\nVLOOKUP(L15,'(HIDE) MASTER-Chart'!$B:$G,4,FALSE),\nVLOOKUP(L15,'(HIDE) MASTER-Chart'!$M:$R,4,FALSE)),\"\")","v":""},""]
["6 - 7",3,null,4,null,4,null,5,null,null,null,null,null,"2 STEP",{"$f":"IFERROR(\nIF($W$1='(HIDE) MASTER-Chart'!$J$2,\nVLOOKUP(B16,'(HIDE) MASTER-Chart'!$B:$G,4,FALSE),\nVLOOKUP(B16,'(HIDE) MASTER-Chart'!$M:$R,4,FALSE)),\"\")","v":47972},"(3)",{"$f":"IFERROR(\nIF($W$1='(HIDE) MASTER-Chart'!$J$2,\nVLOOKUP(D16,'(HIDE) MASTER-Chart'!$B:$G,4,FALSE),\nVLOOKUP(D16,'(HIDE) MASTER-Chart'!$M:$R,4,FALSE)),\"\")","v":49382},"(4)",{"$f":"IFERROR(\nIF($W$1='(HIDE) MASTER-Chart'!$J$2,\nVLOOKUP(F16,'(HIDE) MASTER-Chart'!$B:$G,4,FALSE),\nVLOOKUP(F16,'(HIDE) MASTER-Chart'!$M:$R,4,FALSE)),\"\")","v":49382},"(4)",{"$f":"IFERROR(\nIF($W$1='(HIDE) MASTER-Chart'!$J$2,\nVLOOKUP(H16,'(HIDE) MASTER-Chart'!$B:$G,4,FALSE),\nVLOOKUP(H16,'(HIDE) MASTER-Chart'!$M:$R,4,FALSE)),\"\")","v":50884},"(5)",{"$f":"IFERROR(\nIF($W$1='(HIDE) MASTER-Chart'!$J$2,\nVLOOKUP(J16,'(HIDE) MASTER-Chart'!$B:$G,4,FALSE),\nVLOOKUP(J16,'(HIDE) MASTER-Chart'!$M:$R,4,FALSE)),\"\")","v":""},"",{"$f":"IFERROR(\nIF($W$1='(HIDE) MASTER-Chart'!$J$2,\nVLOOKUP(L16,'(HIDE) MASTER-Chart'!$B:$G,4,FALSE),\nVLOOKUP(L16,'(HIDE) MASTER-Chart'!$M:$R,4,FALSE)),\"\")","v":""},""]
[null,null,null,null,null,null,null,null,null,null,null,null,null," ",{"$f":"IF(ISERROR(VLOOKUP(B17,'(HIDE) MASTER-Chart'!$B:$G,5,FALSE)),\"\",VLOOKUP(B17,'(HIDE) MASTER-Chart'!$B:$G,5,FALSE))","v":""},"",{"$f":"IF(ISERROR(VLOOKUP(D17,'(HIDE) MASTER-Chart'!$B:$G,5,FALSE)),\"\",VLOOKUP(D17,'(HIDE) MASTER-Chart'!$B:$G,5,FALSE))","v":""},"",{"$f":"IF(ISERROR(VLOOKUP(F17,'(HIDE) MASTER-Chart'!$B:$G,5,FALSE)),\"\",VLOOKUP(F17,'(HIDE) MASTER-Chart'!$B:$G,5,FALSE))","v":""},"",{"$f":"IF(ISERROR(VLOOKUP(H17,'(HIDE) MASTER-Chart'!$B:$G,5,FALSE)),\"\",VLOOKUP(H17,'(HIDE) MASTER-Chart'!$B:$G,5,FALSE))","v":""},"",{"$f":"IF(ISERROR(VLOOKUP(J17,'(HIDE) MASTER-Chart'!$B:$G,5,FALSE)),\"\",VLOOKUP(J17,'(HIDE) MASTER-Chart'!$B:$G,5,FALSE))","v":""},"",{"$f":"IF(ISERROR(VLOOKUP(L17,'(HIDE) MASTER-Chart'!$B:$G,5,FALSE)),\"\",VLOOKUP(L17,'(HIDE) MASTER-Chart'!$B:$G,5,FALSE))","v":""},""]
[null,6,null,7,null,7,null,7,null,8,null,null,null,"TARGET",{"$f":"IFERROR(\nIF($W$1='(HIDE) MASTER-Chart'!$J$2,\nVLOOKUP(B18,'(HIDE) MASTER-Chart'!$B:$G,4,FALSE),\nVLOOKUP(B18,'(HIDE) MASTER-Chart'!$M:$R,4,FALSE)),\"\")","v":52542},"(6)",{"$f":"IFERROR(\nIF($W$1='(HIDE) MASTER-Chart'!$J$2,\nVLOOKUP(D18,'(HIDE) MASTER-Chart'!$B:$G,4,FALSE),\nVLOOKUP(D18,'(HIDE) MASTER-Chart'!$M:$R,4,FALSE)),\"\")","v":53953},"(7)",{"$f":"IFERROR(\nIF($W$1='(HIDE) MASTER-Chart'!$J$2,\nVLOOKUP(F18,'(HIDE) MASTER-Chart'!$B:$G,4,FALSE),\nVLOOKUP(F18,'(HIDE) MASTER-Chart'!$M:$R,4,FALSE)),\"\")","v":53953},"(7)",{"$f":"IFERROR(\nIF($W$1='(HIDE) MASTER-Chart'!$J$2,\nVLOOKUP(H18,'(HIDE) MASTER-Chart'!$B:$G,4,FALSE),\nVLOOKUP(H18,'(HIDE) MASTER-Chart'!$M:$R,4,FALSE)),\"\")","v":53953},"(7)",{"$f":"IFERROR(\nIF($W$1='(HIDE) MASTER-Chart'!$J$2,\nVLOOKUP(J18,'(HIDE) MASTER-Chart'!$B:$G,4,FALSE),\nVLOOKUP(J18,'(HIDE) MASTER-Chart'!$M:$R,4,FALSE)),\"\")","v":55526},"(8)",{"$f":"IFERROR(\nIF($W$1='(HIDE) MASTER-Chart'!$J$2,\nVLOOKUP(L18,'(HIDE) MASTER-Chart'!$B:$G,4,FALSE),\nVLOOKUP(L18,'(HIDE) MASTER-Chart'!$M:$R,4,FALSE)),\"\")","v":""},""]
[" 8 - 9",4,null,5,null,5,null,5,null,6,null,null,null,"2 STEP",{"$f":"IFERROR(\nIF($W$1='(HIDE) MASTER-Chart'!$J$2,\nVLOOKUP(B19,'(HIDE) MASTER-Chart'!$B:$G,4,FALSE),\nVLOOKUP(B19,'(HIDE) MASTER-Chart'!$M:$R,4,FALSE)),\"\")","v":49382},"(4)",{"$f":"IFERROR(\nIF($W$1='(HIDE) MASTER-Chart'!$J$2,\nVLOOKUP(D19,'(HIDE) MASTER-Chart'!$B:$G,4,FALSE),\nVLOOKUP(D19,'(HIDE) MASTER-Chart'!$M:$R,4,FALSE)),\"\")","v":50884},"(5)",{"$f":"IFERROR(\nIF($W$1='(HIDE) MASTER-Chart'!$J$2,\nVLOOKUP(F19,'(HIDE) MASTER-Chart'!$B:$G,4,FALSE),\nVLOOKUP(F19,'(HIDE) MASTER-Chart'!$M:$R,4,FALSE)),\"\")","v":50884},"(5)",{"$f":"IFERROR(\nIF($W$1='(HIDE) MASTER-Chart'!$J$2,\nVLOOKUP(H19,'(HIDE) MASTER-Chart'!$B:$G,4,FALSE),\nVLOOKUP(H19,'(HIDE) MASTER-Chart'!$M:$R,4,FALSE)),\"\")","v":50884},"(5)",{"$f":"IFERROR(\nIF($W$1='(HIDE) MASTER-Chart'!$J$2,\nVLOOKUP(J19,'(HIDE) MASTER-Chart'!$B:$G,4,FALSE),\nVLOOKUP(J19,'(HIDE) MASTER-Chart'!$M:$R,4,FALSE)),\"\")","v":52542},"(6)",{"$f":"IFERROR(\nIF($W$1='(HIDE) MASTER-Chart'!$J$2,\nVLOOKUP(L19,'(HIDE) MASTER-Chart'!$B:$G,4,FALSE),\nVLOOKUP(L19,'(HIDE) MASTER-Chart'!$M:$R,4,FALSE)),\"\")","v":""},""]
[null,null,null,null,null,null,null,null,null,null,null,null,null," ",{"$f":"IF(ISERROR(VLOOKUP(B20,'(HIDE) MASTER-Chart'!$B:$G,5,FALSE)),\"\",VLOOKUP(B20,'(HIDE) MASTER-Chart'!$B:$G,5,FALSE))","v":""},"",{"$f":"IF(ISERROR(VLOOKUP(D20,'(HIDE) MASTER-Chart'!$B:$G,5,FALSE)),\"\",VLOOKUP(D20,'(HIDE) MASTER-Chart'!$B:$G,5,FALSE))","v":""},"",{"$f":"IF(ISERROR(VLOOKUP(F20,'(HIDE) MASTER-Chart'!$B:$G,5,FALSE)),\"\",VLOOKUP(F20,'(HIDE) MASTER-Chart'!$B:$G,5,FALSE))","v":""},"",{"$f":"IF(ISERROR(VLOOKUP(H20,'(HIDE) MASTER-Chart'!$B:$G,5,FALSE)),\"\",VLOOKUP(H20,'(HIDE) MASTER-Chart'!$B:$G,5,FALSE))","v":""},"",{"$f":"IF(ISERROR(VLOOKUP(J20,'(HIDE) MASTER-Chart'!$B:$G,5,FALSE)),\"\",VLOOKUP(J20,'(HIDE) MASTER-Chart'!$B:$G,5,FALSE))","v":""},"",{"$f":"IF(ISERROR(VLOOKUP(L20,'(HIDE) MASTER-Chart'!$B:$G,5,FALSE)),\"\",VLOOKUP(L20,'(HIDE) MASTER-Chart'!$B:$G,5,FALSE))","v":""},""]
[null,7,null,7,null,8,null,8,null,9,null,9,null,"TARGET",{"$f":"IFERROR(\nIF($W$1='(HIDE) MASTER-Chart'!$J$2,\nVLOOKUP(B21,'(HIDE) MASTER-Chart'!$B:$G,4,FALSE),\nVLOOKUP(B21,'(HIDE) MASTER-Chart'!$M:$R,4,FALSE)),\"\")","v":53953},"(7)",{"$f":"IFERROR(\nIF($W$1='(HIDE) MASTER-Chart'!$J$2,\nVLOOKUP(D21,'(HIDE) MASTER-Chart'!$B:$G,4,FALSE),\nVLOOKUP(D21,'(HIDE) MASTER-Chart'!$M:$R,4,FALSE)),\"\")","v":53953},"(7)",{"$f":"IFERROR(\nIF($W$1='(HIDE) MASTER-Chart'!$J$2,\nVLOOKUP(F21,'(HIDE) MASTER-Chart'!$B:$G,4,FALSE),\nVLOOKUP(F21,'(HIDE) MASTER-Chart'!$M:$R,4,FALSE)),\"\")","v":55526},"(8)",{"$f":"IFERROR(\nIF($W$1='(HIDE) MASTER-Chart'!$J$2,\nVLOOKUP(H21,'(HIDE) MASTER-Chart'!$B:$G,4,FALSE),\nVLOOKUP(H21,'(HIDE) MASTER-Chart'!$M:$R,4,FALSE)),\"\")","v":55526},"(8)",{"$f":"IFERROR(\nIF($W$1='(HIDE) MASTER-Chart'!$J$2,\nVLOOKUP(J21,'(HIDE) MASTER-Chart'!$B:$G,4,FALSE),\nVLOOKUP(J21,'(HIDE) MASTER-Chart'!$M:$R,4,FALSE)),\"\")","v":57145},"(9)",{"$f":"IFERROR(\nIF($W$1='(HIDE) MASTER-Chart'!$J$2,\nVLOOKUP(L21,'(HIDE) MASTER-Chart'!$B:$G,4,FALSE),\nVLOOKUP(L21,'(HIDE) MASTER-Chart'!$M:$R,4,FALSE)),\"\")","v":57145},"(9)"]
["10 - 11",5,null,5,null,6,null,6,null,7,null,7,null,"2 STEP",{"$f":"IFERROR(\nIF($W$1='(HIDE) MASTER-Chart'!$J$2,\nVLOOKUP(B22,'(HIDE) MASTER-Chart'!$B:$G,4,FALSE),\nVLOOKUP(B22,'(HIDE) MASTER-Chart'!$M:$R,4,FALSE)),\"\")","v":50884},"(5)",{"$f":"IFERROR(\nIF($W$1='(HIDE) MASTER-Chart'!$J$2,\nVLOOKUP(D22,'(HIDE) MASTER-Chart'!$B:$G,4,FALSE),\nVLOOKUP(D22,'(HIDE) MASTER-Chart'!$M:$R,4,FALSE)),\"\")","v":50884},"(5)",{"$f":"IFERROR(\nIF($W$1='(HIDE) MASTER-Chart'!$J$2,\nVLOOKUP(F22,'(HIDE) MASTER-Chart'!$B:$G,4,FALSE),\nVLOOKUP(F22,'(HIDE) MASTER-Chart'!$M:$R,4,FALSE)),\"\")","v":52542},"(6)",{"$f":"IFERROR(\nIF($W$1='(HIDE) MASTER-Chart'!$J$2,\nVLOOKUP(H22,'(HIDE) MASTER-Chart'!$B:$G,4,FALSE),\nVLOOKUP(H22,'(HIDE) MASTER-Chart'!$M:$R,4,FALSE)),\"\")","v":52542},"(6)",{"$f":"IFERROR(\nIF($W$1='(HIDE) MASTER-Chart'!$J$2,\nVLOOKUP(J22,'(HIDE) MASTER-Chart'!$B:$G,4,FALSE),\nVLOOKUP(J22,'(HIDE) MASTER-Chart'!$M:$R,4,FALSE)),\"\")","v":53953},"(7)",{"$f":"IFERROR(\nIF($W$1='(HIDE) MASTER-Chart'!$J$2,\nVLOOKUP(L22,'(HIDE) MASTER-Chart'!$B:$G,4,FALSE),\nVLOOKUP(L22,'(HIDE) MASTER-Chart'!$M:$R,4,FALSE)),\"\")","v":53953},"(7)"]
[null,null,null,null,null,null,null,null,null,null,null,null,null," ",{"$f":"IF(ISERROR(VLOOKUP(B23,'(HIDE) MASTER-Chart'!$B:$G,5,FALSE)),\"\",VLOOKUP(B23,'(HIDE) MASTER-Chart'!$B:$G,5,FALSE))","v":""},"",{"$f":"IF(ISERROR(VLOOKUP(D23,'(HIDE) MASTER-Chart'!$B:$G,5,FALSE)),\"\",VLOOKUP(D23,'(HIDE) MASTER-Chart'!$B:$G,5,FALSE))","v":""},"",{"$f":"IF(ISERROR(VLOOKUP(F23,'(HIDE) MASTER-Chart'!$B:$G,5,FALSE)),\"\",VLOOKUP(F23,'(HIDE) MASTER-Chart'!$B:$G,5,FALSE))","v":""},"",{"$f":"IF(ISERROR(VLOOKUP(H23,'(HIDE) MASTER-Chart'!$B:$G,5,FALSE)),\"\",VLOOKUP(H23,'(HIDE) MASTER-Chart'!$B:$G,5,FALSE))","v":""},"",{"$f":"IF(ISERROR(VLOOKUP(J23,'(HIDE) MASTER-Chart'!$B:$G,5,FALSE)),\"\",VLOOKUP(J23,'(HIDE) MASTER-Chart'!$B:$G,5,FALSE))","v":""},"",{"$f":"IF(ISERROR(VLOOKUP(L23,'(HIDE) MASTER-Chart'!$B:$G,5,FALSE)),\"\",VLOOKUP(L23,'(HIDE) MASTER-Chart'!$B:$G,5,FALSE))","v":""},""]
[null,8,null,8,null,8,null,9,null,9,null,10,null,"TARGET",{"$f":"IFERROR(\nIF($W$1='(HIDE) MASTER-Chart'!$J$2,\nVLOOKUP(B24,'(HIDE) MASTER-Chart'!$B:$G,4,FALSE),\nVLOOKUP(B24,'(HIDE) MASTER-Chart'!$M:$R,4,FALSE)),\"\")","v":55526},"(8)",{"$f":"IFERROR(\nIF($W$1='(HIDE) MASTER-Chart'!$J$2,\nVLOOKUP(D24,'(HIDE) MASTER-Chart'!$B:$G,4,FALSE),\nVLOOKUP(D24,'(HIDE) MASTER-Chart'!$M:$R,4,FALSE)),\"\")","v":55526},"(8)",{"$f":"IFERROR(\nIF($W$1='(HIDE) MASTER-Chart'!$J$2,\nVLOOKUP(F24,'(HIDE) MASTER-Chart'!$B:$G,4,FALSE),\nVLOOKUP(F24,'(HIDE) MASTER-Chart'!$M:$R,4,FALSE)),\"\")","v":55526},"(8)",{"$f":"IFERROR(\nIF($W$1='(HIDE) MASTER-Chart'!$J$2,\nVLOOKUP(H24,'(HIDE) MASTER-Chart'!$B:$G,4,FALSE),\nVLOOKUP(H24,'(HIDE) MASTER-Chart'!$M:$R,4,FALSE)),\"\")","v":57145},"(9)",{"$f":"IFERROR(\nIF($W$1='(HIDE) MASTER-Chart'!$J$2,\nVLOOKUP(J24,'(HIDE) MASTER-Chart'!$B:$G,4,FALSE),\nVLOOKUP(J24,'(HIDE) MASTER-Chart'!$M:$R,4,FALSE)),\"\")","v":57145},"(9)",{"$f":"IFERROR(\nIF($W$1='(HIDE) MASTER-Chart'!$J$2,\nVLOOKUP(L24,'(HIDE) MASTER-Chart'!$B:$G,4,FALSE),\nVLOOKUP(L24,'(HIDE) MASTER-Chart'!$M:$R,4,FALSE)),\"\")","v":58813},"(10)"]
["12 - 13",6,null,6,null,6,null,7,null,7,null,8,null,"2 STEP",{"$f":"IFERROR(\nIF($W$1='(HIDE) MASTER-Chart'!$J$2,\nVLOOKUP(B25,'(HIDE) MASTER-Chart'!$B:$G,4,FALSE),\nVLOOKUP(B25,'(HIDE) MASTER-Chart'!$M:$R,4,FALSE)),\"\")","v":52542},"(6)",{"$f":"IFERROR(\nIF($W$1='(HIDE) MASTER-Chart'!$J$2,\nVLOOKUP(D25,'(HIDE) MASTER-Chart'!$B:$G,4,FALSE),\nVLOOKUP(D25,'(HIDE) MASTER-Chart'!$M:$R,4,FALSE)),\"\")","v":52542},"(6)",{"$f":"IFERROR(\nIF($W$1='(HIDE) MASTER-Chart'!$J$2,\nVLOOKUP(F25,'(HIDE) MASTER-Chart'!$B:$G,4,FALSE),\nVLOOKUP(F25,'(HIDE) MASTER-Chart'!$M:$R,4,FALSE)),\"\")","v":52542},"(6)",{"$f":"IFERROR(\nIF($W$1='(HIDE) MASTER-Chart'!$J$2,\nVLOOKUP(H25,'(HIDE) MASTER-Chart'!$B:$G,4,FALSE),\nVLOOKUP(H25,'(HIDE) MASTER-Chart'!$M:$R,4,FALSE)),\"\")","v":53953},"(7)",{"$f":"IFERROR(\nIF($W$1='(HIDE) MASTER-Chart'!$J$2,\nVLOOKUP(J25,'(HIDE) MASTER-Chart'!$B:$G,4,FALSE),\nVLOOKUP(J25,'(HIDE) MASTER-Chart'!$M:$R,4,FALSE)),\"\")","v":53953},"(7)",{"$f":"IFERROR(\nIF($W$1='(HIDE) MASTER-Chart'!$J$2,\nVLOOKUP(L25,'(HIDE) MASTER-Chart'!$B:$G,4,FALSE),\nVLOOKUP(L25,'(HIDE) MASTER-Chart'!$M:$R,4,FALSE)),\"\")","v":55526},"(8)"]
[null,null,null,null,null,null,null,null,null,null,null,null,null," ",{"$f":"IF(ISERROR(VLOOKUP(B26,'(HIDE) MASTER-Chart'!$B:$G,5,FALSE)),\"\",VLOOKUP(B26,'(HIDE) MASTER-Chart'!$B:$G,5,FALSE))","v":""},"",{"$f":"IF(ISERROR(VLOOKUP(D26,'(HIDE) MASTER-Chart'!$B:$G,5,FALSE)),\"\",VLOOKUP(D26,'(HIDE) MASTER-Chart'!$B:$G,5,FALSE))","v":""},"",{"$f":"IF(ISERROR(VLOOKUP(F26,'(HIDE) MASTER-Chart'!$B:$G,5,FALSE)),\"\",VLOOKUP(F26,'(HIDE) MASTER-Chart'!$B:$G,5,FALSE))","v":""},"",{"$f":"IF(ISERROR(VLOOKUP(H26,'(HIDE) MASTER-Chart'!$B:$G,5,FALSE)),\"\",VLOOKUP(H26,'(HIDE) MASTER-Chart'!$B:$G,5,FALSE))","v":""},"",{"$f":"IF(ISERROR(VLOOKUP(J26,'(HIDE) MASTER-Chart'!$B:$G,5,FALSE)),\"\",VLOOKUP(J26,'(HIDE) MASTER-Chart'!$B:$G,5,FALSE))","v":""},"",{"$f":"IF(ISERROR(VLOOKUP(L26,'(HIDE) MASTER-Chart'!$B:$G,5,FALSE)),\"\",VLOOKUP(L26,'(HIDE) MASTER-Chart'!$B:$G,5,FALSE))","v":""},""]
[null,8,null,9,null,9,null,9,null,10,null,10,null,"TARGET",{"$f":"IFERROR(\nIF($W$1='(HIDE) MASTER-Chart'!$J$2,\nVLOOKUP(B27,'(HIDE) MASTER-Chart'!$B:$G,4,FALSE),\nVLOOKUP(B27,'(HIDE) MASTER-Chart'!$M:$R,4,FALSE)),\"\")","v":55526},"(8)",{"$f":"IFERROR(\nIF($W$1='(HIDE) MASTER-Chart'!$J$2,\nVLOOKUP(D27,'(HIDE) MASTER-Chart'!$B:$G,4,FALSE),\nVLOOKUP(D27,'(HIDE) MASTER-Chart'!$M:$R,4,FALSE)),\"\")","v":57145},"(9)",{"$f":"IFERROR(\nIF($W$1='(HIDE) MASTER-Chart'!$J$2,\nVLOOKUP(F27,'(HIDE) MASTER-Chart'!$B:$G,4,FALSE),\nVLOOKUP(F27,'(HIDE) MASTER-Chart'!$M:$R,4,FALSE)),\"\")","v":57145},"(9)",{"$f":"IFERROR(\nIF($W$1='(HIDE) MASTER-Chart'!$J$2,\nVLOOKUP(H27,'(HIDE) MASTER-Chart'!$B:$G,4,FALSE),\nVLOOKUP(H27,'(HIDE) MASTER-Chart'!$M:$R,4,FALSE)),\"\")","v":57145},"(9)",{"$f":"IFERROR(\nIF($W$1='(HIDE) MASTER-Chart'!$J$2,\nVLOOKUP(J27,'(HIDE) MASTER-Chart'!$B:$G,4,FALSE),\nVLOOKUP(J27,'(HIDE) MASTER-Chart'!$M:$R,4,FALSE)),\"\")","v":58813},"(10)",{"$f":"IFERROR(\nIF($W$1='(HIDE) MASTER-Chart'!$J$2,\nVLOOKUP(L27,'(HIDE) MASTER-Chart'!$B:$G,4,FALSE),\nVLOOKUP(L27,'(HIDE) MASTER-Chart'!$M:$R,4,FALSE)),\"\")","v":58813},"(10)"]
["14 - 15",6,null,7,null,7,null,7,null,8,null,8,null,"2 STEP",{"$f":"IFERROR(\nIF($W$1='(HIDE) MASTER-Chart'!$J$2,\nVLOOKUP(B28,'(HIDE) MASTER-Chart'!$B:$G,4,FALSE),\nVLOOKUP(B28,'(HIDE) MASTER-Chart'!$M:$R,4,FALSE)),\"\")","v":52542},"(6)",{"$f":"IFERROR(\nIF($W$1='(HIDE) MASTER-Chart'!$J$2,\nVLOOKUP(D28,'(HIDE) MASTER-Chart'!$B:$G,4,FALSE),\nVLOOKUP(D28,'(HIDE) MASTER-Chart'!$M:$R,4,FALSE)),\"\")","v":53953},"(7)",{"$f":"IFERROR(\nIF($W$1='(HIDE) MASTER-Chart'!$J$2,\nVLOOKUP(F28,'(HIDE) MASTER-Chart'!$B:$G,4,FALSE),\nVLOOKUP(F28,'(HIDE) MASTER-Chart'!$M:$R,4,FALSE)),\"\")","v":53953},"(7)",{"$f":"IFERROR(\nIF($W$1='(HIDE) MASTER-Chart'!$J$2,\nVLOOKUP(H28,'(HIDE) MASTER-Chart'!$B:$G,4,FALSE),\nVLOOKUP(H28,'(HIDE) MASTER-Chart'!$M:$R,4,FALSE)),\"\")","v":53953},"(7)",{"$f":"IFERROR(\nIF($W$1='(HIDE) MASTER-Chart'!$J$2,\nVLOOKUP(J28,'(HIDE) MASTER-Chart'!$B:$G,4,FALSE),\nVLOOKUP(J28,'(HIDE) MASTER-Chart'!$M:$R,4,FALSE)),\"\")","v":55526},"(8)",{"$f":"IFERROR(\nIF($W$1='(HIDE) MASTER-Chart'!$J$2,\nVLOOKUP(L28,'(HIDE) MASTER-Chart'!$B:$G,4,FALSE),\nVLOOKUP(L28,'(HIDE) MASTER-Chart'!$M:$R,4,FALSE)),\"\")","v":55526},"(8)"]
[null,null,null,null,null,null,null,null,null,null,null,null,null," ",{"$f":"IF(ISERROR(VLOOKUP(B29,'(HIDE) MASTER-Chart'!$B:$G,5,FALSE)),\"\",VLOOKUP(B29,'(HIDE) MASTER-Chart'!$B:$G,5,FALSE))","v":""},"",{"$f":"IF(ISERROR(VLOOKUP(D29,'(HIDE) MASTER-Chart'!$B:$G,5,FALSE)),\"\",VLOOKUP(D29,'(HIDE) MASTER-Chart'!$B:$G,5,FALSE))","v":""},"",{"$f":"IF(ISERROR(VLOOKUP(F29,'(HIDE) MASTER-Chart'!$B:$G,5,FALSE)),\"\",VLOOKUP(F29,'(HIDE) MASTER-Chart'!$B:$G,5,FALSE))","v":""},"",{"$f":"IF(ISERROR(VLOOKUP(H29,'(HIDE) MASTER-Chart'!$B:$G,5,FALSE)),\"\",VLOOKUP(H29,'(HIDE) MASTER-Chart'!$B:$G,5,FALSE))","v":""},"",{"$f":"IF(ISERROR(VLOOKUP(J29,'(HIDE) MASTER-Chart'!$B:$G,5,FALSE)),\"\",VLOOKUP(J29,'(HIDE) MASTER-Chart'!$B:$G,5,FALSE))","v":""},"",{"$f":"IF(ISERROR(VLOOKUP(L29,'(HIDE) MASTER-Chart'!$B:$G,5,FALSE)),\"\",VLOOKUP(L29,'(HIDE) MASTER-Chart'!$B:$G,5,FALSE))","v":""},""]
[null,9,null,9,null,10,null,10,null,10,null,11,null,"TARGET",{"$f":"IFERROR(\nIF($W$1='(HIDE) MASTER-Chart'!$J$2,\nVLOOKUP(B30,'(HIDE) MASTER-Chart'!$B:$G,4,FALSE),\nVLOOKUP(B30,'(HIDE) MASTER-Chart'!$M:$R,4,FALSE)),\"\")","v":57145},"(9)",{"$f":"IFERROR(\nIF($W$1='(HIDE) MASTER-Chart'!$J$2,\nVLOOKUP(D30,'(HIDE) MASTER-Chart'!$B:$G,4,FALSE),\nVLOOKUP(D30,'(HIDE) MASTER-Chart'!$M:$R,4,FALSE)),\"\")","v":57145},"(9)",{"$f":"IFERROR(\nIF($W$1='(HIDE) MASTER-Chart'!$J$2,\nVLOOKUP(F30,'(HIDE) MASTER-Chart'!$B:$G,4,FALSE),\nVLOOKUP(F30,'(HIDE) MASTER-Chart'!$M:$R,4,FALSE)),\"\")","v":58813},"(10)",{"$f":"IFERROR(\nIF($W$1='(HIDE) MASTER-Chart'!$J$2,\nVLOOKUP(H30,'(HIDE) MASTER-Chart'!$B:$G,4,FALSE),\nVLOOKUP(H30,'(HIDE) MASTER-Chart'!$M:$R,4,FALSE)),\"\")","v":58813},"(10)",{"$f":"IFERROR(\nIF($W$1='(HIDE) MASTER-Chart'!$J$2,\nVLOOKUP(J30,'(HIDE) MASTER-Chart'!$B:$G,4,FALSE),\nVLOOKUP(J30,'(HIDE) MASTER-Chart'!$M:$R,4,FALSE)),\"\")","v":58813},"(10)",{"$f":"IFERROR(\nIF($W$1='(HIDE) MASTER-Chart'!$J$2,\nVLOOKUP(L30,'(HIDE) MASTER-Chart'!$B:$G,4,FALSE),\nVLOOKUP(L30,'(HIDE) MASTER-Chart'!$M:$R,4,FALSE)),\"\")","v":60532},"(11)"]
["16 - 17",7,null,7,null,8,null,8,null,8,null,9,null,"2 STEP",{"$f":"IFERROR(\nIF($W$1='(HIDE) MASTER-Chart'!$J$2,\nVLOOKUP(B31,'(HIDE) MASTER-Chart'!$B:$G,4,FALSE),\nVLOOKUP(B31,'(HIDE) MASTER-Chart'!$M:$R,4,FALSE)),\"\")","v":53953},"(7)",{"$f":"IFERROR(\nIF($W$1='(HIDE) MASTER-Chart'!$J$2,\nVLOOKUP(D31,'(HIDE) MASTER-Chart'!$B:$G,4,FALSE),\nVLOOKUP(D31,'(HIDE) MASTER-Chart'!$M:$R,4,FALSE)),\"\")","v":53953},"(7)",{"$f":"IFERROR(\nIF($W$1='(HIDE) MASTER-Chart'!$J$2,\nVLOOKUP(F31,'(HIDE) MASTER-Chart'!$B:$G,4,FALSE),\nVLOOKUP(F31,'(HIDE) MASTER-Chart'!$M:$R,4,FALSE)),\"\")","v":55526},"(8)",{"$f":"IFERROR(\nIF($W$1='(HIDE) MASTER-Chart'!$J$2,\nVLOOKUP(H31,'(HIDE) MASTER-Chart'!$B:$G,4,FALSE),\nVLOOKUP(H31,'(HIDE) MASTER-Chart'!$M:$R,4,FALSE)),\"\")","v":55526},"(8)",{"$f":"IFERROR(\nIF($W$1='(HIDE) MASTER-Chart'!$J$2,\nVLOOKUP(J31,'(HIDE) MASTER-Chart'!$B:$G,4,FALSE),\nVLOOKUP(J31,'(HIDE) MASTER-Chart'!$M:$R,4,FALSE)),\"\")","v":55526},"(8)",{"$f":"IFERROR(\nIF($W$1='(HIDE) MASTER-Chart'!$J$2,\nVLOOKUP(L31,'(HIDE) MASTER-Chart'!$B:$G,4,FALSE),\nVLOOKUP(L31,'(HIDE) MASTER-Chart'!$M:$R,4,FALSE)),\"\")","v":57145},"(9)"]
[null,null,null,null,null,null,null,null,null,null,null,null,null," ",{"$f":"IF(ISERROR(VLOOKUP(B32,'(HIDE) MASTER-Chart'!$B:$G,5,FALSE)),\"\",VLOOKUP(B32,'(HIDE) MASTER-Chart'!$B:$G,5,FALSE))","v":""},"",{"$f":"IF(ISERROR(VLOOKUP(D32,'(HIDE) MASTER-Chart'!$B:$G,5,FALSE)),\"\",VLOOKUP(D32,'(HIDE) MASTER-Chart'!$B:$G,5,FALSE))","v":""},"",{"$f":"IF(ISERROR(VLOOKUP(F32,'(HIDE) MASTER-Chart'!$B:$G,5,FALSE)),\"\",VLOOKUP(F32,'(HIDE) MASTER-Chart'!$B:$G,5,FALSE))","v":""},"",{"$f":"IF(ISERROR(VLOOKUP(H32,'(HIDE) MASTER-Chart'!$B:$G,5,FALSE)),\"\",VLOOKUP(H32,'(HIDE) MASTER-Chart'!$B:$G,5,FALSE))","v":""},"",{"$f":"IF(ISERROR(VLOOKUP(J32,'(HIDE) MASTER-Chart'!$B:$G,5,FALSE)),\"\",VLOOKUP(J32,'(HIDE) MASTER-Chart'!$B:$G,5,FALSE))","v":""},"",{"$f":"IF(ISERROR(VLOOKUP(L32,'(HIDE) MASTER-Chart'!$B:$G,5,FALSE)),\"\",VLOOKUP(L32,'(HIDE) MASTER-Chart'!$B:$G,5,FALSE))","v":""},""]
[null,10,null,10,null,10,null,11,null,11,null,11,null,"TARGET",{"$f":"IFERROR(\nIF($W$1='(HIDE) MASTER-Chart'!$J$2,\nVLOOKUP(B33,'(HIDE) MASTER-Chart'!$B:$G,4,FALSE),\nVLOOKUP(B33,'(HIDE) MASTER-Chart'!$M:$R,4,FALSE)),\"\")","v":58813},"(10)",{"$f":"IFERROR(\nIF($W$1='(HIDE) MASTER-Chart'!$J$2,\nVLOOKUP(D33,'(HIDE) MASTER-Chart'!$B:$G,4,FALSE),\nVLOOKUP(D33,'(HIDE) MASTER-Chart'!$M:$R,4,FALSE)),\"\")","v":58813},"(10)",{"$f":"IFERROR(\nIF($W$1='(HIDE) MASTER-Chart'!$J$2,\nVLOOKUP(F33,'(HIDE) MASTER-Chart'!$B:$G,4,FALSE),\nVLOOKUP(F33,'(HIDE) MASTER-Chart'!$M:$R,4,FALSE)),\"\")","v":58813},"(10)",{"$f":"IFERROR(\nIF($W$1='(HIDE) MASTER-Chart'!$J$2,\nVLOOKUP(H33,'(HIDE) MASTER-Chart'!$B:$G,4,FALSE),\nVLOOKUP(H33,'(HIDE) MASTER-Chart'!$M:$R,4,FALSE)),\"\")","v":60532},"(11)",{"$f":"IFERROR(\nIF($W$1='(HIDE) MASTER-Chart'!$J$2,\nVLOOKUP(J33,'(HIDE) MASTER-Chart'!$B:$G,4,FALSE),\nVLOOKUP(J33,'(HIDE) MASTER-Chart'!$M:$R,4,FALSE)),\"\")","v":60532},"(11)",{"$f":"IFERROR(\nIF($W$1='(HIDE) MASTER-Chart'!$J$2,\nVLOOKUP(L33,'(HIDE) MASTER-Chart'!$B:$G,4,FALSE),\nVLOOKUP(L33,'(HIDE) MASTER-Chart'!$M:$R,4,FALSE)),\"\")","v":60532},"(11)"]
["18 - 19",8,null,8,null,8,null,9,null,9,null,9,null,"2 STEP",{"$f":"IFERROR(\nIF($W$1='(HIDE) MASTER-Chart'!$J$2,\nVLOOKUP(B34,'(HIDE) MASTER-Chart'!$B:$G,4,FALSE),\nVLOOKUP(B34,'(HIDE) MASTER-Chart'!$M:$R,4,FALSE)),\"\")","v":55526},"(8)",{"$f":"IFERROR(\nIF($W$1='(HIDE) MASTER-Chart'!$J$2,\nVLOOKUP(D34,'(HIDE) MASTER-Chart'!$B:$G,4,FALSE),\nVLOOKUP(D34,'(HIDE) MASTER-Chart'!$M:$R,4,FALSE)),\"\")","v":55526},"(8)",{"$f":"IFERROR(\nIF($W$1='(HIDE) MASTER-Chart'!$J$2,\nVLOOKUP(F34,'(HIDE) MASTER-Chart'!$B:$G,4,FALSE),\nVLOOKUP(F34,'(HIDE) MASTER-Chart'!$M:$R,4,FALSE)),\"\")","v":55526},"(8)",{"$f":"IFERROR(\nIF($W$1='(HIDE) MASTER-Chart'!$J$2,\nVLOOKUP(H34,'(HIDE) MASTER-Chart'!$B:$G,4,FALSE),\nVLOOKUP(H34,'(HIDE) MASTER-Chart'!$M:$R,4,FALSE)),\"\")","v":57145},"(9)",{"$f":"IFERROR(\nIF($W$1='(HIDE) MASTER-Chart'!$J$2,\nVLOOKUP(J34,'(HIDE) MASTER-Chart'!$B:$G,4,FALSE),\nVLOOKUP(J34,'(HIDE) MASTER-Chart'!$M:$R,4,FALSE)),\"\")","v":57145},"(9)",{"$f":"IFERROR(\nIF($W$1='(HIDE) MASTER-Chart'!$J$2,\nVLOOKUP(L34,'(HIDE) MASTER-Chart'!$B:$G,4,FALSE),\nVLOOKUP(L34,'(HIDE) MASTER-Chart'!$M:$R,4,FALSE)),\"\")","v":57145},"(9)"]
[null,null,null,null,null,null,null,null,null,null,null,null,null," ",{"$f":"IF(ISERROR(VLOOKUP(B35,'(HIDE) MASTER-Chart'!$B:$G,5,FALSE)),\"\",VLOOKUP(B35,'(HIDE) MASTER-Chart'!$B:$G,5,FALSE))","v":""},"",{"$f":"IF(ISERROR(VLOOKUP(D35,'(HIDE) MASTER-Chart'!$B:$G,5,FALSE)),\"\",VLOOKUP(D35,'(HIDE) MASTER-Chart'!$B:$G,5,FALSE))","v":""},"",{"$f":"IF(ISERROR(VLOOKUP(F35,'(HIDE) MASTER-Chart'!$B:$G,5,FALSE)),\"\",VLOOKUP(F35,'(HIDE) MASTER-Chart'!$B:$G,5,FALSE))","v":""},"",{"$f":"IF(ISERROR(VLOOKUP(H35,'(HIDE) MASTER-Chart'!$B:$G,5,FALSE)),\"\",VLOOKUP(H35,'(HIDE) MASTER-Chart'!$B:$G,5,FALSE))","v":""},"",{"$f":"IF(ISERROR(VLOOKUP(J35,'(HIDE) MASTER-Chart'!$B:$G,5,FALSE)),\"\",VLOOKUP(J35,'(HIDE) MASTER-Chart'!$B:$G,5,FALSE))","v":""},"",{"$f":"IF(ISERROR(VLOOKUP(L35,'(HIDE) MASTER-Chart'!$B:$G,5,FALSE)),\"\",VLOOKUP(L35,'(HIDE) MASTER-Chart'!$B:$G,5,FALSE))","v":""},""]
[null,10,null,11,null,11,null,11,null,12,null,12,null,"TARGET",{"$f":"IFERROR(\nIF($W$1='(HIDE) MASTER-Chart'!$J$2,\nVLOOKUP(B36,'(HIDE) MASTER-Chart'!$B:$G,4,FALSE),\nVLOOKUP(B36,'(HIDE) MASTER-Chart'!$M:$R,4,FALSE)),\"\")","v":58813},"(10)",{"$f":"IFERROR(\nIF($W$1='(HIDE) MASTER-Chart'!$J$2,\nVLOOKUP(D36,'(HIDE) MASTER-Chart'!$B:$G,4,FALSE),\nVLOOKUP(D36,'(HIDE) MASTER-Chart'!$M:$R,4,FALSE)),\"\")","v":60532},"(11)",{"$f":"IFERROR(\nIF($W$1='(HIDE) MASTER-Chart'!$J$2,\nVLOOKUP(F36,'(HIDE) MASTER-Chart'!$B:$G,4,FALSE),\nVLOOKUP(F36,'(HIDE) MASTER-Chart'!$M:$R,4,FALSE)),\"\")","v":60532},"(11)",{"$f":"IFERROR(\nIF($W$1='(HIDE) MASTER-Chart'!$J$2,\nVLOOKUP(H36,'(HIDE) MASTER-Chart'!$B:$G,4,FALSE),\nVLOOKUP(H36,'(HIDE) MASTER-Chart'!$M:$R,4,FALSE)),\"\")","v":60532},"(11)",{"$f":"IFERROR(\nIF($W$1='(HIDE) MASTER-Chart'!$J$2,\nVLOOKUP(J36,'(HIDE) MASTER-Chart'!$B:$G,4,FALSE),\nVLOOKUP(J36,'(HIDE) MASTER-Chart'!$M:$R,4,FALSE)),\"\")","v":62303},"(12)",{"$f":"IFERROR(\nIF($W$1='(HIDE) MASTER-Chart'!$J$2,\nVLOOKUP(L36,'(HIDE) MASTER-Chart'!$B:$G,4,FALSE),\nVLOOKUP(L36,'(HIDE) MASTER-Chart'!$M:$R,4,FALSE)),\"\")","v":62303},"(12)"]
["20 - 21",8,null,9,null,9,null,9,null,10,null,10,null,"2 STEP",{"$f":"IFERROR(\nIF($W$1='(HIDE) MASTER-Chart'!$J$2,\nVLOOKUP(B37,'(HIDE) MASTER-Chart'!$B:$G,4,FALSE),\nVLOOKUP(B37,'(HIDE) MASTER-Chart'!$M:$R,4,FALSE)),\"\")","v":55526},"(8)",{"$f":"IFERROR(\nIF($W$1='(HIDE) MASTER-Chart'!$J$2,\nVLOOKUP(D37,'(HIDE) MASTER-Chart'!$B:$G,4,FALSE),\nVLOOKUP(D37,'(HIDE) MASTER-Chart'!$M:$R,4,FALSE)),\"\")","v":57145},"(9)",{"$f":"IFERROR(\nIF($W$1='(HIDE) MASTER-Chart'!$J$2,\nVLOOKUP(F37,'(HIDE) MASTER-Chart'!$B:$G,4,FALSE),\nVLOOKUP(F37,'(HIDE) MASTER-Chart'!$M:$R,4,FALSE)),\"\")","v":57145},"(9)",{"$f":"IFERROR(\nIF($W$1='(HIDE) MASTER-Chart'!$J$2,\nVLOOKUP(H37,'(HIDE) MASTER-Chart'!$B:$G,4,FALSE),\nVLOOKUP(H37,'(HIDE) MASTER-Chart'!$M:$R,4,FALSE)),\"\")","v":57145},"(9)",{"$f":"IFERROR(\nIF($W$1='(HIDE) MASTER-Chart'!$J$2,\nVLOOKUP(J37,'(HIDE) MASTER-Chart'!$B:$G,4,FALSE),\nVLOOKUP(J37,'(HIDE) MASTER-Chart'!$M:$R,4,FALSE)),\"\")","v":58813},"(10)",{"$f":"IFERROR(\nIF($W$1='(HIDE) MASTER-Chart'!$J$2,\nVLOOKUP(L37,'(HIDE) MASTER-Chart'!$B:$G,4,FALSE),\nVLOOKUP(L37,'(HIDE) MASTER-Chart'!$M:$R,4,FALSE)),\"\")","v":58813},"(10)"]
[null,null,null,null,null,null,null,null,null,null,null,null,null," ",{"$f":"IF(ISERROR(VLOOKUP(B38,'(HIDE) MASTER-Chart'!$B:$G,5,FALSE)),\"\",VLOOKUP(B38,'(HIDE) MASTER-Chart'!$B:$G,5,FALSE))","v":""},"",{"$f":"IF(ISERROR(VLOOKUP(D38,'(HIDE) MASTER-Chart'!$B:$G,5,FALSE)),\"\",VLOOKUP(D38,'(HIDE) MASTER-Chart'!$B:$G,5,FALSE))","v":""},"",{"$f":"IF(ISERROR(VLOOKUP(F38,'(HIDE) MASTER-Chart'!$B:$G,5,FALSE)),\"\",VLOOKUP(F38,'(HIDE) MASTER-Chart'!$B:$G,5,FALSE))","v":""},"",{"$f":"IF(ISERROR(VLOOKUP(H38,'(HIDE) MASTER-Chart'!$B:$G,5,FALSE)),\"\",VLOOKUP(H38,'(HIDE) MASTER-Chart'!$B:$G,5,FALSE))","v":""},"",{"$f":"IF(ISERROR(VLOOKUP(J38,'(HIDE) MASTER-Chart'!$B:$G,5,FALSE)),\"\",VLOOKUP(J38,'(HIDE) MASTER-Chart'!$B:$G,5,FALSE))","v":""},"",{"$f":"IF(ISERROR(VLOOKUP(L38,'(HIDE) MASTER-Chart'!$B:$G,5,FALSE)),\"\",VLOOKUP(L38,'(HIDE) MASTER-Chart'!$B:$G,5,FALSE))","v":""},""]
[null,11,null,11,null,12,null,12,null,12,null,13,null,"TARGET",{"$f":"IFERROR(\nIF($W$1='(HIDE) MASTER-Chart'!$J$2,\nVLOOKUP(B39,'(HIDE) MASTER-Chart'!$B:$G,4,FALSE),\nVLOOKUP(B39,'(HIDE) MASTER-Chart'!$M:$R,4,FALSE)),\"\")","v":60532},"(11)",{"$f":"IFERROR(\nIF($W$1='(HIDE) MASTER-Chart'!$J$2,\nVLOOKUP(D39,'(HIDE) MASTER-Chart'!$B:$G,4,FALSE),\nVLOOKUP(D39,'(HIDE) MASTER-Chart'!$M:$R,4,FALSE)),\"\")","v":60532},"(11)",{"$f":"IFERROR(\nIF($W$1='(HIDE) MASTER-Chart'!$J$2,\nVLOOKUP(F39,'(HIDE) MASTER-Chart'!$B:$G,4,FALSE),\nVLOOKUP(F39,'(HIDE) MASTER-Chart'!$M:$R,4,FALSE)),\"\")","v":62303},"(12)",{"$f":"IFERROR(\nIF($W$1='(HIDE) MASTER-Chart'!$J$2,\nVLOOKUP(H39,'(HIDE) MASTER-Chart'!$B:$G,4,FALSE),\nVLOOKUP(H39,'(HIDE) MASTER-Chart'!$M:$R,4,FALSE)),\"\")","v":62303},"(12)",{"$f":"IFERROR(\nIF($W$1='(HIDE) MASTER-Chart'!$J$2,\nVLOOKUP(J39,'(HIDE) MASTER-Chart'!$B:$G,4,FALSE),\nVLOOKUP(J39,'(HIDE) MASTER-Chart'!$M:$R,4,FALSE)),\"\")","v":62303},"(12)",{"$f":"IFERROR(\nIF($W$1='(HIDE) MASTER-Chart'!$J$2,\nVLOOKUP(L39,'(HIDE) MASTER-Chart'!$B:$G,4,FALSE),\nVLOOKUP(L39,'(HIDE) MASTER-Chart'!$M:$R,4,FALSE)),\"\")","v":64126},"(13)"]
["22 - 23",9,null,9,null,10,null,10,null,10,null,11,null,"2 STEP",{"$f":"IFERROR(\nIF($W$1='(HIDE) MASTER-Chart'!$J$2,\nVLOOKUP(B40,'(HIDE) MASTER-Chart'!$B:$G,4,FALSE),\nVLOOKUP(B40,'(HIDE) MASTER-Chart'!$M:$R,4,FALSE)),\"\")","v":57145},"(9)",{"$f":"IFERROR(\nIF($W$1='(HIDE) MASTER-Chart'!$J$2,\nVLOOKUP(D40,'(HIDE) MASTER-Chart'!$B:$G,4,FALSE),\nVLOOKUP(D40,'(HIDE) MASTER-Chart'!$M:$R,4,FALSE)),\"\")","v":57145},"(9)",{"$f":"IFERROR(\nIF($W$1='(HIDE) MASTER-Chart'!$J$2,\nVLOOKUP(F40,'(HIDE) MASTER-Chart'!$B:$G,4,FALSE),\nVLOOKUP(F40,'(HIDE) MASTER-Chart'!$M:$R,4,FALSE)),\"\")","v":58813},"(10)",{"$f":"IFERROR(\nIF($W$1='(HIDE) MASTER-Chart'!$J$2,\nVLOOKUP(H40,'(HIDE) MASTER-Chart'!$B:$G,4,FALSE),\nVLOOKUP(H40,'(HIDE) MASTER-Chart'!$M:$R,4,FALSE)),\"\")","v":58813},"(10)",{"$f":"IFERROR(\nIF($W$1='(HIDE) MASTER-Chart'!$J$2,\nVLOOKUP(J40,'(HIDE) MASTER-Chart'!$B:$G,4,FALSE),\nVLOOKUP(J40,'(HIDE) MASTER-Chart'!$M:$R,4,FALSE)),\"\")","v":58813},"(10)",{"$f":"IFERROR(\nIF($W$1='(HIDE) MASTER-Chart'!$J$2,\nVLOOKUP(L40,'(HIDE) MASTER-Chart'!$B:$G,4,FALSE),\nVLOOKUP(L40,'(HIDE) MASTER-Chart'!$M:$R,4,FALSE)),\"\")","v":60532},"(11)"]
[null,null,null,null,null,null,null,null,null,null,null,null,null," ",{"$f":"IF(ISERROR(VLOOKUP(B41,'(HIDE) MASTER-Chart'!$B:$G,5,FALSE)),\"\",VLOOKUP(B41,'(HIDE) MASTER-Chart'!$B:$G,5,FALSE))","v":""},"",{"$f":"IF(ISERROR(VLOOKUP(D41,'(HIDE) MASTER-Chart'!$B:$G,5,FALSE)),\"\",VLOOKUP(D41,'(HIDE) MASTER-Chart'!$B:$G,5,FALSE))","v":""},"",{"$f":"IF(ISERROR(VLOOKUP(F41,'(HIDE) MASTER-Chart'!$B:$G,5,FALSE)),\"\",VLOOKUP(F41,'(HIDE) MASTER-Chart'!$B:$G,5,FALSE))","v":""},"",{"$f":"IF(ISERROR(VLOOKUP(H41,'(HIDE) MASTER-Chart'!$B:$G,5,FALSE)),\"\",VLOOKUP(H41,'(HIDE) MASTER-Chart'!$B:$G,5,FALSE))","v":""},"",{"$f":"IF(ISERROR(VLOOKUP(J41,'(HIDE) MASTER-Chart'!$B:$G,5,FALSE)),\"\",VLOOKUP(J41,'(HIDE) MASTER-Chart'!$B:$G,5,FALSE))","v":""},"",{"$f":"IF(ISERROR(VLOOKUP(L41,'(HIDE) MASTER-Chart'!$B:$G,5,FALSE)),\"\",VLOOKUP(L41,'(HIDE) MASTER-Chart'!$B:$G,5,FALSE))","v":""},""]
[null,11,null,12,null,12,null,13,null,13,null,13,null,"TARGET",{"$f":"IFERROR(\nIF($W$1='(HIDE) MASTER-Chart'!$J$2,\nVLOOKUP(B42,'(HIDE) MASTER-Chart'!$B:$G,4,FALSE),\nVLOOKUP(B42,'(HIDE) MASTER-Chart'!$M:$R,4,FALSE)),\"\")","v":60532},"(11)",{"$f":"IFERROR(\nIF($W$1='(HIDE) MASTER-Chart'!$J$2,\nVLOOKUP(D42,'(HIDE) MASTER-Chart'!$B:$G,4,FALSE),\nVLOOKUP(D42,'(HIDE) MASTER-Chart'!$M:$R,4,FALSE)),\"\")","v":62303},"(12)",{"$f":"IFERROR(\nIF($W$1='(HIDE) MASTER-Chart'!$J$2,\nVLOOKUP(F42,'(HIDE) MASTER-Chart'!$B:$G,4,FALSE),\nVLOOKUP(F42,'(HIDE) MASTER-Chart'!$M:$R,4,FALSE)),\"\")","v":62303},"(12)",{"$f":"IFERROR(\nIF($W$1='(HIDE) MASTER-Chart'!$J$2,\nVLOOKUP(H42,'(HIDE) MASTER-Chart'!$B:$G,4,FALSE),\nVLOOKUP(H42,'(HIDE) MASTER-Chart'!$M:$R,4,FALSE)),\"\")","v":64126},"(13)",{"$f":"IFERROR(\nIF($W$1='(HIDE) MASTER-Chart'!$J$2,\nVLOOKUP(J42,'(HIDE) MASTER-Chart'!$B:$G,4,FALSE),\nVLOOKUP(J42,'(HIDE) MASTER-Chart'!$M:$R,4,FALSE)),\"\")","v":64126},"(13)",{"$f":"IFERROR(\nIF($W$1='(HIDE) MASTER-Chart'!$J$2,\nVLOOKUP(L42,'(HIDE) MASTER-Chart'!$B:$G,4,FALSE),\nVLOOKUP(L42,'(HIDE) MASTER-Chart'!$M:$R,4,FALSE)),\"\")","v":64126},"(13)"]
["24 - 25",9,null,10,null,10,null,11,null,11,null,11,null,"2 STEP",{"$f":"IFERROR(\nIF($W$1='(HIDE) MASTER-Chart'!$J$2,\nVLOOKUP(B43,'(HIDE) MASTER-Chart'!$B:$G,4,FALSE),\nVLOOKUP(B43,'(HIDE) MASTER-Chart'!$M:$R,4,FALSE)),\"\")","v":57145},"(9)",{"$f":"IFERROR(\nIF($W$1='(HIDE) MASTER-Chart'!$J$2,\nVLOOKUP(D43,'(HIDE) MASTER-Chart'!$B:$G,4,FALSE),\nVLOOKUP(D43,'(HIDE) MASTER-Chart'!$M:$R,4,FALSE)),\"\")","v":58813},"(10)",{"$f":"IFERROR(\nIF($W$1='(HIDE) MASTER-Chart'!$J$2,\nVLOOKUP(F43,'(HIDE) MASTER-Chart'!$B:$G,4,FALSE),\nVLOOKUP(F43,'(HIDE) MASTER-Chart'!$M:$R,4,FALSE)),\"\")","v":58813},"(10)",{"$f":"IFERROR(\nIF($W$1='(HIDE) MASTER-Chart'!$J$2,\nVLOOKUP(H43,'(HIDE) MASTER-Chart'!$B:$G,4,FALSE),\nVLOOKUP(H43,'(HIDE) MASTER-Chart'!$M:$R,4,FALSE)),\"\")","v":60532},"(11)",{"$f":"IFERROR(\nIF($W$1='(HIDE) MASTER-Chart'!$J$2,\nVLOOKUP(J43,'(HIDE) MASTER-Chart'!$B:$G,4,FALSE),\nVLOOKUP(J43,'(HIDE) MASTER-Chart'!$M:$R,4,FALSE)),\"\")","v":60532},"(11)",{"$f":"IFERROR(\nIF($W$1='(HIDE) MASTER-Chart'!$J$2,\nVLOOKUP(L43,'(HIDE) MASTER-Chart'!$B:$G,4,FALSE),\nVLOOKUP(L43,'(HIDE) MASTER-Chart'!$M:$R,4,FALSE)),\"\")","v":60532},"(11)"]
[null,null,null,null,null,null,null,null,null,null,null,null,null," ",{"$f":"IF(ISERROR(VLOOKUP(B44,'(HIDE) MASTER-Chart'!$B:$G,5,FALSE)),\"\",VLOOKUP(B44,'(HIDE) MASTER-Chart'!$B:$G,5,FALSE))","v":""},"",{"$f":"IF(ISERROR(VLOOKUP(D44,'(HIDE) MASTER-Chart'!$B:$G,5,FALSE)),\"\",VLOOKUP(D44,'(HIDE) MASTER-Chart'!$B:$G,5,FALSE))","v":""},"",{"$f":"IF(ISERROR(VLOOKUP(F44,'(HIDE) MASTER-Chart'!$B:$G,5,FALSE)),\"\",VLOOKUP(F44,'(HIDE) MASTER-Chart'!$B:$G,5,FALSE))","v":""},"",{"$f":"IF(ISERROR(VLOOKUP(H44,'(HIDE) MASTER-Chart'!$B:$G,5,FALSE)),\"\",VLOOKUP(H44,'(HIDE) MASTER-Chart'!$B:$G,5,FALSE))","v":""},"",{"$f":"IF(ISERROR(VLOOKUP(J44,'(HIDE) MASTER-Chart'!$B:$G,5,FALSE)),\"\",VLOOKUP(J44,'(HIDE) MASTER-Chart'!$B:$G,5,FALSE))","v":""},"",{"$f":"IF(ISERROR(VLOOKUP(L44,'(HIDE) MASTER-Chart'!$B:$G,5,FALSE)),\"\",VLOOKUP(L44,'(HIDE) MASTER-Chart'!$B:$G,5,FALSE))","v":""},""]
[null,12,null,12,null,13,null,13,null,13,null,14,null,"TARGET",{"$f":"IFERROR(\nIF($W$1='(HIDE) MASTER-Chart'!$J$2,\nVLOOKUP(B45,'(HIDE) MASTER-Chart'!$B:$G,4,FALSE),\nVLOOKUP(B45,'(HIDE) MASTER-Chart'!$M:$R,4,FALSE)),\"\")","v":62303},"(12)",{"$f":"IFERROR(\nIF($W$1='(HIDE) MASTER-Chart'!$J$2,\nVLOOKUP(D45,'(HIDE) MASTER-Chart'!$B:$G,4,FALSE),\nVLOOKUP(D45,'(HIDE) MASTER-Chart'!$M:$R,4,FALSE)),\"\")","v":62303},"(12)",{"$f":"IFERROR(\nIF($W$1='(HIDE) MASTER-Chart'!$J$2,\nVLOOKUP(F45,'(HIDE) MASTER-Chart'!$B:$G,4,FALSE),\nVLOOKUP(F45,'(HIDE) MASTER-Chart'!$M:$R,4,FALSE)),\"\")","v":64126},"(13)",{"$f":"IFERROR(\nIF($W$1='(HIDE) MASTER-Chart'!$J$2,\nVLOOKUP(H45,'(HIDE) MASTER-Chart'!$B:$G,4,FALSE),\nVLOOKUP(H45,'(HIDE) MASTER-Chart'!$M:$R,4,FALSE)),\"\")","v":64126},"(13)",{"$f":"IFERROR(\nIF($W$1='(HIDE) MASTER-Chart'!$J$2,\nVLOOKUP(J45,'(HIDE) MASTER-Chart'!$B:$G,4,FALSE),\nVLOOKUP(J45,'(HIDE) MASTER-Chart'!$M:$R,4,FALSE)),\"\")","v":64126},"(13)",{"$f":"IFERROR(\nIF($W$1='(HIDE) MASTER-Chart'!$J$2,\nVLOOKUP(L45,'(HIDE) MASTER-Chart'!$B:$G,4,FALSE),\nVLOOKUP(L45,'(HIDE) MASTER-Chart'!$M:$R,4,FALSE)),\"\")","v":66006},"(14)"]
["26 - 27",10,null,10,null,11,null,11,null,11,null,12,null,"2 STEP",{"$f":"IFERROR(\nIF($W$1='(HIDE) MASTER-Chart'!$J$2,\nVLOOKUP(B46,'(HIDE) MASTER-Chart'!$B:$G,4,FALSE),\nVLOOKUP(B46,'(HIDE) MASTER-Chart'!$M:$R,4,FALSE)),\"\")","v":58813},"(10)",{"$f":"IFERROR(\nIF($W$1='(HIDE) MASTER-Chart'!$J$2,\nVLOOKUP(D46,'(HIDE) MASTER-Chart'!$B:$G,4,FALSE),\nVLOOKUP(D46,'(HIDE) MASTER-Chart'!$M:$R,4,FALSE)),\"\")","v":58813},"(10)",{"$f":"IFERROR(\nIF($W$1='(HIDE) MASTER-Chart'!$J$2,\nVLOOKUP(F46,'(HIDE) MASTER-Chart'!$B:$G,4,FALSE),\nVLOOKUP(F46,'(HIDE) MASTER-Chart'!$M:$R,4,FALSE)),\"\")","v":60532},"(11)",{"$f":"IFERROR(\nIF($W$1='(HIDE) MASTER-Chart'!$J$2,\nVLOOKUP(H46,'(HIDE) MASTER-Chart'!$B:$G,4,FALSE),\nVLOOKUP(H46,'(HIDE) MASTER-Chart'!$M:$R,4,FALSE)),\"\")","v":60532},"(11)",{"$f":"IFERROR(\nIF($W$1='(HIDE) MASTER-Chart'!$J$2,\nVLOOKUP(J46,'(HIDE) MASTER-Chart'!$B:$G,4,FALSE),\nVLOOKUP(J46,'(HIDE) MASTER-Chart'!$M:$R,4,FALSE)),\"\")","v":60532},"(11)",{"$f":"IFERROR(\nIF($W$1='(HIDE) MASTER-Chart'!$J$2,\nVLOOKUP(L46,'(HIDE) MASTER-Chart'!$B:$G,4,FALSE),\nVLOOKUP(L46,'(HIDE) MASTER-Chart'!$M:$R,4,FALSE)),\"\")","v":62303},"(12)"]
[null,null,null,null,null,null,null,null,null,null,null,null,null," ",{"$f":"IF(ISERROR(VLOOKUP(B47,'(HIDE) MASTER-Chart'!$B:$G,5,FALSE)),\"\",VLOOKUP(B47,'(HIDE) MASTER-Chart'!$B:$G,5,FALSE))","v":""},"",{"$f":"IF(ISERROR(VLOOKUP(D47,'(HIDE) MASTER-Chart'!$B:$G,5,FALSE)),\"\",VLOOKUP(D47,'(HIDE) MASTER-Chart'!$B:$G,5,FALSE))","v":""},"",{"$f":"IF(ISERROR(VLOOKUP(F47,'(HIDE) MASTER-Chart'!$B:$G,5,FALSE)),\"\",VLOOKUP(F47,'(HIDE) MASTER-Chart'!$B:$G,5,FALSE))","v":""},"",{"$f":"IF(ISERROR(VLOOKUP(H47,'(HIDE) MASTER-Chart'!$B:$G,5,FALSE)),\"\",VLOOKUP(H47,'(HIDE) MASTER-Chart'!$B:$G,5,FALSE))","v":""},"",{"$f":"IF(ISERROR(VLOOKUP(J47,'(HIDE) MASTER-Chart'!$B:$G,5,FALSE)),\"\",VLOOKUP(J47,'(HIDE) MASTER-Chart'!$B:$G,5,FALSE))","v":""},"",{"$f":"IF(ISERROR(VLOOKUP(L47,'(HIDE) MASTER-Chart'!$B:$G,5,FALSE)),\"\",VLOOKUP(L47,'(HIDE) MASTER-Chart'!$B:$G,5,FALSE))","v":""},""]
[null,13,null,13,null,13,null,14,null,14,null,14,null,"TARGET",{"$f":"IFERROR(\nIF($W$1='(HIDE) MASTER-Chart'!$J$2,\nVLOOKUP(B48,'(HIDE) MASTER-Chart'!$B:$G,4,FALSE),\nVLOOKUP(B48,'(HIDE) MASTER-Chart'!$M:$R,4,FALSE)),\"\")","v":64126},"(13)",{"$f":"IFERROR(\nIF($W$1='(HIDE) MASTER-Chart'!$J$2,\nVLOOKUP(D48,'(HIDE) MASTER-Chart'!$B:$G,4,FALSE),\nVLOOKUP(D48,'(HIDE) MASTER-Chart'!$M:$R,4,FALSE)),\"\")","v":64126},"(13)",{"$f":"IFERROR(\nIF($W$1='(HIDE) MASTER-Chart'!$J$2,\nVLOOKUP(F48,'(HIDE) MASTER-Chart'!$B:$G,4,FALSE),\nVLOOKUP(F48,'(HIDE) MASTER-Chart'!$M:$R,4,FALSE)),\"\")","v":64126},"(13)",{"$f":"IFERROR(\nIF($W$1='(HIDE) MASTER-Chart'!$J$2,\nVLOOKUP(H48,'(HIDE) MASTER-Chart'!$B:$G,4,FALSE),\nVLOOKUP(H48,'(HIDE) MASTER-Chart'!$M:$R,4,FALSE)),\"\")","v":66006},"(14)",{"$f":"IFERROR(\nIF($W$1='(HIDE) MASTER-Chart'!$J$2,\nVLOOKUP(J48,'(HIDE) MASTER-Chart'!$B:$G,4,FALSE),\nVLOOKUP(J48,'(HIDE) MASTER-Chart'!$M:$R,4,FALSE)),\"\")","v":66006},"(14)",{"$f":"IFERROR(\nIF($W$1='(HIDE) MASTER-Chart'!$J$2,\nVLOOKUP(L48,'(HIDE) MASTER-Chart'!$B:$G,4,FALSE),\nVLOOKUP(L48,'(HIDE) MASTER-Chart'!$M:$R,4,FALSE)),\"\")","v":66006},"(14)"]
["28 - 29",11,null,11,null,11,null,12,null,12,null,12,null,"2 STEP",{"$f":"IFERROR(\nIF($W$1='(HIDE) MASTER-Chart'!$J$2,\nVLOOKUP(B49,'(HIDE) MASTER-Chart'!$B:$G,4,FALSE),\nVLOOKUP(B49,'(HIDE) MASTER-Chart'!$M:$R,4,FALSE)),\"\")","v":60532},"(11)",{"$f":"IFERROR(\nIF($W$1='(HIDE) MASTER-Chart'!$J$2,\nVLOOKUP(D49,'(HIDE) MASTER-Chart'!$B:$G,4,FALSE),\nVLOOKUP(D49,'(HIDE) MASTER-Chart'!$M:$R,4,FALSE)),\"\")","v":60532},"(11)",{"$f":"IFERROR(\nIF($W$1='(HIDE) MASTER-Chart'!$J$2,\nVLOOKUP(F49,'(HIDE) MASTER-Chart'!$B:$G,4,FALSE),\nVLOOKUP(F49,'(HIDE) MASTER-Chart'!$M:$R,4,FALSE)),\"\")","v":60532},"(11)",{"$f":"IFERROR(\nIF($W$1='(HIDE) MASTER-Chart'!$J$2,\nVLOOKUP(H49,'(HIDE) MASTER-Chart'!$B:$G,4,FALSE),\nVLOOKUP(H49,'(HIDE) MASTER-Chart'!$M:$R,4,FALSE)),\"\")","v":62303},"(12)",{"$f":"IFERROR(\nIF($W$1='(HIDE) MASTER-Chart'!$J$2,\nVLOOKUP(J49,'(HIDE) MASTER-Chart'!$B:$G,4,FALSE),\nVLOOKUP(J49,'(HIDE) MASTER-Chart'!$M:$R,4,FALSE)),\"\")","v":62303},"(12)",{"$f":"IFERROR(\nIF($W$1='(HIDE) MASTER-Chart'!$J$2,\nVLOOKUP(L49,'(HIDE) MASTER-Chart'!$B:$G,4,FALSE),\nVLOOKUP(L49,'(HIDE) MASTER-Chart'!$M:$R,4,FALSE)),\"\")","v":62303},"(12)"]
[null,null,null,null,null,null,null,null,null,null,null,null,null," ",{"$f":"IF(ISERROR(VLOOKUP(B50,'(HIDE) MASTER-Chart'!$B:$G,5,FALSE)),\"\",VLOOKUP(B50,'(HIDE) MASTER-Chart'!$B:$G,5,FALSE))","v":""},"",{"$f":"IF(ISERROR(VLOOKUP(D50,'(HIDE) MASTER-Chart'!$B:$G,5,FALSE)),\"\",VLOOKUP(D50,'(HIDE) MASTER-Chart'!$B:$G,5,FALSE))","v":""},"",{"$f":"IF(ISERROR(VLOOKUP(F50,'(HIDE) MASTER-Chart'!$B:$G,5,FALSE)),\"\",VLOOKUP(F50,'(HIDE) MASTER-Chart'!$B:$G,5,FALSE))","v":""},"",{"$f":"IF(ISERROR(VLOOKUP(H50,'(HIDE) MASTER-Chart'!$B:$G,5,FALSE)),\"\",VLOOKUP(H50,'(HIDE) MASTER-Chart'!$B:$G,5,FALSE))","v":""},"",{"$f":"IF(ISERROR(VLOOKUP(J50,'(HIDE) MASTER-Chart'!$B:$G,5,FALSE)),\"\",VLOOKUP(J50,'(HIDE) MASTER-Chart'!$B:$G,5,FALSE))","v":""},"",{"$f":"IF(ISERROR(VLOOKUP(L50,'(HIDE) MASTER-Chart'!$B:$G,5,FALSE)),\"\",VLOOKUP(L50,'(HIDE) MASTER-Chart'!$B:$G,5,FALSE))","v":""},""]
[null,13,null,14,null,14,null,14,null,15,null,15,null,"TARGET",{"$f":"IFERROR(\nIF($W$1='(HIDE) MASTER-Chart'!$J$2,\nVLOOKUP(B51,'(HIDE) MASTER-Chart'!$B:$G,4,FALSE),\nVLOOKUP(B51,'(HIDE) MASTER-Chart'!$M:$R,4,FALSE)),\"\")","v":64126},"(13)",{"$f":"IFERROR(\nIF($W$1='(HIDE) MASTER-Chart'!$J$2,\nVLOOKUP(D51,'(HIDE) MASTER-Chart'!$B:$G,4,FALSE),\nVLOOKUP(D51,'(HIDE) MASTER-Chart'!$M:$R,4,FALSE)),\"\")","v":66006},"(14)",{"$f":"IFERROR(\nIF($W$1='(HIDE) MASTER-Chart'!$J$2,\nVLOOKUP(F51,'(HIDE) MASTER-Chart'!$B:$G,4,FALSE),\nVLOOKUP(F51,'(HIDE) MASTER-Chart'!$M:$R,4,FALSE)),\"\")","v":66006},"(14)",{"$f":"IFERROR(\nIF($W$1='(HIDE) MASTER-Chart'!$J$2,\nVLOOKUP(H51,'(HIDE) MASTER-Chart'!$B:$G,4,FALSE),\nVLOOKUP(H51,'(HIDE) MASTER-Chart'!$M:$R,4,FALSE)),\"\")","v":66006},"(14)",{"$f":"IFERROR(\nIF($W$1='(HIDE) MASTER-Chart'!$J$2,\nVLOOKUP(J51,'(HIDE) MASTER-Chart'!$B:$G,4,FALSE),\nVLOOKUP(J51,'(HIDE) MASTER-Chart'!$M:$R,4,FALSE)),\"\")","v":67939},"(15)",{"$f":"IFERROR(\nIF($W$1='(HIDE) MASTER-Chart'!$J$2,\nVLOOKUP(L51,'(HIDE) MASTER-Chart'!$B:$G,4,FALSE),\nVLOOKUP(L51,'(HIDE) MASTER-Chart'!$M:$R,4,FALSE)),\"\")","v":67939},"(15)"]
["30 - 31",11,null,12,null,12,null,12,null,13,null,13,null,"2 STEP",{"$f":"IFERROR(\nIF($W$1='(HIDE) MASTER-Chart'!$J$2,\nVLOOKUP(B52,'(HIDE) MASTER-Chart'!$B:$G,4,FALSE),\nVLOOKUP(B52,'(HIDE) MASTER-Chart'!$M:$R,4,FALSE)),\"\")","v":60532},"(11)",{"$f":"IFERROR(\nIF($W$1='(HIDE) MASTER-Chart'!$J$2,\nVLOOKUP(D52,'(HIDE) MASTER-Chart'!$B:$G,4,FALSE),\nVLOOKUP(D52,'(HIDE) MASTER-Chart'!$M:$R,4,FALSE)),\"\")","v":62303},"(12)",{"$f":"IFERROR(\nIF($W$1='(HIDE) MASTER-Chart'!$J$2,\nVLOOKUP(F52,'(HIDE) MASTER-Chart'!$B:$G,4,FALSE),\nVLOOKUP(F52,'(HIDE) MASTER-Chart'!$M:$R,4,FALSE)),\"\")","v":62303},"(12)",{"$f":"IFERROR(\nIF($W$1='(HIDE) MASTER-Chart'!$J$2,\nVLOOKUP(H52,'(HIDE) MASTER-Chart'!$B:$G,4,FALSE),\nVLOOKUP(H52,'(HIDE) MASTER-Chart'!$M:$R,4,FALSE)),\"\")","v":62303},"(12)",{"$f":"IFERROR(\nIF($W$1='(HIDE) MASTER-Chart'!$J$2,\nVLOOKUP(J52,'(HIDE) MASTER-Chart'!$B:$G,4,FALSE),\nVLOOKUP(J52,'(HIDE) MASTER-Chart'!$M:$R,4,FALSE)),\"\")","v":64126},"(13)",{"$f":"IFERROR(\nIF($W$1='(HIDE) MASTER-Chart'!$J$2,\nVLOOKUP(L52,'(HIDE) MASTER-Chart'!$B:$G,4,FALSE),\nVLOOKUP(L52,'(HIDE) MASTER-Chart'!$M:$R,4,FALSE)),\"\")","v":64126},"(13)"]
[null,null,null,null,null,null,null,null,null,null,null,null,null," ",{"$f":"IF(ISERROR(VLOOKUP(B53,'(HIDE) MASTER-Chart'!$B:$G,5,FALSE)),\"\",VLOOKUP(B53,'(HIDE) MASTER-Chart'!$B:$G,5,FALSE))","v":""},"",{"$f":"IF(ISERROR(VLOOKUP(D53,'(HIDE) MASTER-Chart'!$B:$G,5,FALSE)),\"\",VLOOKUP(D53,'(HIDE) MASTER-Chart'!$B:$G,5,FALSE))","v":""},"",{"$f":"IF(ISERROR(VLOOKUP(F53,'(HIDE) MASTER-Chart'!$B:$G,5,FALSE)),\"\",VLOOKUP(F53,'(HIDE) MASTER-Chart'!$B:$G,5,FALSE))","v":""},"",{"$f":"IF(ISERROR(VLOOKUP(H53,'(HIDE) MASTER-Chart'!$B:$G,5,FALSE)),\"\",VLOOKUP(H53,'(HIDE) MASTER-Chart'!$B:$G,5,FALSE))","v":""},"",{"$f":"IF(ISERROR(VLOOKUP(J53,'(HIDE) MASTER-Chart'!$B:$G,5,FALSE)),\"\",VLOOKUP(J53,'(HIDE) MASTER-Chart'!$B:$G,5,FALSE))","v":""},"",{"$f":"IF(ISERROR(VLOOKUP(L53,'(HIDE) MASTER-Chart'!$B:$G,5,FALSE)),\"\",VLOOKUP(L53,'(HIDE) MASTER-Chart'!$B:$G,5,FALSE))","v":""},""]
[null,14,null,14,null,14,null,15,null,15,null,15,null,"TARGET",{"$f":"IFERROR(\nIF($W$1='(HIDE) MASTER-Chart'!$J$2,\nVLOOKUP(B54,'(HIDE) MASTER-Chart'!$B:$G,4,FALSE),\nVLOOKUP(B54,'(HIDE) MASTER-Chart'!$M:$R,4,FALSE)),\"\")","v":66006},"(14)",{"$f":"IFERROR(\nIF($W$1='(HIDE) MASTER-Chart'!$J$2,\nVLOOKUP(D54,'(HIDE) MASTER-Chart'!$B:$G,4,FALSE),\nVLOOKUP(D54,'(HIDE) MASTER-Chart'!$M:$R,4,FALSE)),\"\")","v":66006},"(14)",{"$f":"IFERROR(\nIF($W$1='(HIDE) MASTER-Chart'!$J$2,\nVLOOKUP(F54,'(HIDE) MASTER-Chart'!$B:$G,4,FALSE),\nVLOOKUP(F54,'(HIDE) MASTER-Chart'!$M:$R,4,FALSE)),\"\")","v":66006},"(14)",{"$f":"IFERROR(\nIF($W$1='(HIDE) MASTER-Chart'!$J$2,\nVLOOKUP(H54,'(HIDE) MASTER-Chart'!$B:$G,4,FALSE),\nVLOOKUP(H54,'(HIDE) MASTER-Chart'!$M:$R,4,FALSE)),\"\")","v":67939},"(15)",{"$f":"IFERROR(\nIF($W$1='(HIDE) MASTER-Chart'!$J$2,\nVLOOKUP(J54,'(HIDE) MASTER-Chart'!$B:$G,4,FALSE),\nVLOOKUP(J54,'(HIDE) MASTER-Chart'!$M:$R,4,FALSE)),\"\")","v":67939},"(15)",{"$f":"IFERROR(\nIF($W$1='(HIDE) MASTER-Chart'!$J$2,\nVLOOKUP(L54,'(HIDE) MASTER-Chart'!$B:$G,4,FALSE),\nVLOOKUP(L54,'(HIDE) MASTER-Chart'!$M:$R,4,FALSE)),\"\")","v":67939},"(15)"]
["32 - 33",12,null,12,null,12,null,13,null,13,null,13,null,"2 STEP",{"$f":"IFERROR(\nIF($W$1='(HIDE) MASTER-Chart'!$J$2,\nVLOOKUP(B55,'(HIDE) MASTER-Chart'!$B:$G,4,FALSE),\nVLOOKUP(B55,'(HIDE) MASTER-Chart'!$M:$R,4,FALSE)),\"\")","v":62303},"(12)",{"$f":"IFERROR(\nIF($W$1='(HIDE) MASTER-Chart'!$J$2,\nVLOOKUP(D55,'(HIDE) MASTER-Chart'!$B:$G,4,FALSE),\nVLOOKUP(D55,'(HIDE) MASTER-Chart'!$M:$R,4,FALSE)),\"\")","v":62303},"(12)",{"$f":"IFERROR(\nIF($W$1='(HIDE) MASTER-Chart'!$J$2,\nVLOOKUP(F55,'(HIDE) MASTER-Chart'!$B:$G,4,FALSE),\nVLOOKUP(F55,'(HIDE) MASTER-Chart'!$M:$R,4,FALSE)),\"\")","v":62303},"(12)",{"$f":"IFERROR(\nIF($W$1='(HIDE) MASTER-Chart'!$J$2,\nVLOOKUP(H55,'(HIDE) MASTER-Chart'!$B:$G,4,FALSE),\nVLOOKUP(H55,'(HIDE) MASTER-Chart'!$M:$R,4,FALSE)),\"\")","v":64126},"(13)",{"$f":"IFERROR(\nIF($W$1='(HIDE) MASTER-Chart'!$J$2,\nVLOOKUP(J55,'(HIDE) MASTER-Chart'!$B:$G,4,FALSE),\nVLOOKUP(J55,'(HIDE) MASTER-Chart'!$M:$R,4,FALSE)),\"\")","v":64126},"(13)",{"$f":"IFERROR(\nIF($W$1='(HIDE) MASTER-Chart'!$J$2,\nVLOOKUP(L55,'(HIDE) MASTER-Chart'!$B:$G,4,FALSE),\nVLOOKUP(L55,'(HIDE) MASTER-Chart'!$M:$R,4,FALSE)),\"\")","v":64126},"(13)"]
[null,null,null,null,null,null,null,null,null,null,null,null,null," ",{"$f":"IF(ISERROR(VLOOKUP(B56,'(HIDE) MASTER-Chart'!$B:$G,5,FALSE)),\"\",VLOOKUP(B56,'(HIDE) MASTER-Chart'!$B:$G,5,FALSE))","v":""},"",{"$f":"IF(ISERROR(VLOOKUP(D56,'(HIDE) MASTER-Chart'!$B:$G,5,FALSE)),\"\",VLOOKUP(D56,'(HIDE) MASTER-Chart'!$B:$G,5,FALSE))","v":""},"",{"$f":"IF(ISERROR(VLOOKUP(F56,'(HIDE) MASTER-Chart'!$B:$G,5,FALSE)),\"\",VLOOKUP(F56,'(HIDE) MASTER-Chart'!$B:$G,5,FALSE))","v":""},"",{"$f":"IF(ISERROR(VLOOKUP(H56,'(HIDE) MASTER-Chart'!$B:$G,5,FALSE)),\"\",VLOOKUP(H56,'(HIDE) MASTER-Chart'!$B:$G,5,FALSE))","v":""},"",{"$f":"IF(ISERROR(VLOOKUP(J56,'(HIDE) MASTER-Chart'!$B:$G,5,FALSE)),\"\",VLOOKUP(J56,'(HIDE) MASTER-Chart'!$B:$G,5,FALSE))","v":""},"",{"$f":"IF(ISERROR(VLOOKUP(L56,'(HIDE) MASTER-Chart'!$B:$G,5,FALSE)),\"\",VLOOKUP(L56,'(HIDE) MASTER-Chart'!$B:$G,5,FALSE))","v":""},""]
[null,14,null,15,null,15,null,15,null,16,null,16,null,"TARGET",{"$f":"IFERROR(\nIF($W$1='(HIDE) MASTER-Chart'!$J$2,\nVLOOKUP(B57,'(HIDE) MASTER-Chart'!$B:$G,4,FALSE),\nVLOOKUP(B57,'(HIDE) MASTER-Chart'!$M:$R,4,FALSE)),\"\")","v":66006},"(14)",{"$f":"IFERROR(\nIF($W$1='(HIDE) MASTER-Chart'!$J$2,\nVLOOKUP(D57,'(HIDE) MASTER-Chart'!$B:$G,4,FALSE),\nVLOOKUP(D57,'(HIDE) MASTER-Chart'!$M:$R,4,FALSE)),\"\")","v":67939},"(15)",{"$f":"IFERROR(\nIF($W$1='(HIDE) MASTER-Chart'!$J$2,\nVLOOKUP(F57,'(HIDE) MASTER-Chart'!$B:$G,4,FALSE),\nVLOOKUP(F57,'(HIDE) MASTER-Chart'!$M:$R,4,FALSE)),\"\")","v":67939},"(15)",{"$f":"IFERROR(\nIF($W$1='(HIDE) MASTER-Chart'!$J$2,\nVLOOKUP(H57,'(HIDE) MASTER-Chart'!$B:$G,4,FALSE),\nVLOOKUP(H57,'(HIDE) MASTER-Chart'!$M:$R,4,FALSE)),\"\")","v":67939},"(15)",{"$f":"IFERROR(\nIF($W$1='(HIDE) MASTER-Chart'!$J$2,\nVLOOKUP(J57,'(HIDE) MASTER-Chart'!$B:$G,4,FALSE),\nVLOOKUP(J57,'(HIDE) MASTER-Chart'!$M:$R,4,FALSE)),\"\")","v":69930},"(16)",{"$f":"IFERROR(\nIF($W$1='(HIDE) MASTER-Chart'!$J$2,\nVLOOKUP(L57,'(HIDE) MASTER-Chart'!$B:$G,4,FALSE),\nVLOOKUP(L57,'(HIDE) MASTER-Chart'!$M:$R,4,FALSE)),\"\")","v":69930},"(16)"]
["34 - 35",12,null,13,null,13,null,13,null,14,null,14,null,"2 STEP",{"$f":"IFERROR(\nIF($W$1='(HIDE) MASTER-Chart'!$J$2,\nVLOOKUP(B58,'(HIDE) MASTER-Chart'!$B:$G,4,FALSE),\nVLOOKUP(B58,'(HIDE) MASTER-Chart'!$M:$R,4,FALSE)),\"\")","v":62303},"(12)",{"$f":"IFERROR(\nIF($W$1='(HIDE) MASTER-Chart'!$J$2,\nVLOOKUP(D58,'(HIDE) MASTER-Chart'!$B:$G,4,FALSE),\nVLOOKUP(D58,'(HIDE) MASTER-Chart'!$M:$R,4,FALSE)),\"\")","v":64126},"(13)",{"$f":"IFERROR(\nIF($W$1='(HIDE) MASTER-Chart'!$J$2,\nVLOOKUP(F58,'(HIDE) MASTER-Chart'!$B:$G,4,FALSE),\nVLOOKUP(F58,'(HIDE) MASTER-Chart'!$M:$R,4,FALSE)),\"\")","v":64126},"(13)",{"$f":"IFERROR(\nIF($W$1='(HIDE) MASTER-Chart'!$J$2,\nVLOOKUP(H58,'(HIDE) MASTER-Chart'!$B:$G,4,FALSE),\nVLOOKUP(H58,'(HIDE) MASTER-Chart'!$M:$R,4,FALSE)),\"\")","v":64126},"(13)",{"$f":"IFERROR(\nIF($W$1='(HIDE) MASTER-Chart'!$J$2,\nVLOOKUP(J58,'(HIDE) MASTER-Chart'!$B:$G,4,FALSE),\nVLOOKUP(J58,'(HIDE) MASTER-Chart'!$M:$R,4,FALSE)),\"\")","v":66006},"(14)",{"$f":"IFERROR(\nIF($W$1='(HIDE) MASTER-Chart'!$J$2,\nVLOOKUP(L58,'(HIDE) MASTER-Chart'!$B:$G,4,FALSE),\nVLOOKUP(L58,'(HIDE) MASTER-Chart'!$M:$R,4,FALSE)),\"\")","v":66006},"(14)"]
[null,null,null,null,null,null,null,null,null,null,null,null,null," ",{"$f":"IF(ISERROR(VLOOKUP(B59,'(HIDE) MASTER-Chart'!$B:$G,5,FALSE)),\"\",VLOOKUP(B59,'(HIDE) MASTER-Chart'!$B:$G,5,FALSE))","v":""},"",{"$f":"IF(ISERROR(VLOOKUP(D59,'(HIDE) MASTER-Chart'!$B:$G,5,FALSE)),\"\",VLOOKUP(D59,'(HIDE) MASTER-Chart'!$B:$G,5,FALSE))","v":""},"",{"$f":"IF(ISERROR(VLOOKUP(F59,'(HIDE) MASTER-Chart'!$B:$G,5,FALSE)),\"\",VLOOKUP(F59,'(HIDE) MASTER-Chart'!$B:$G,5,FALSE))","v":""},"",{"$f":"IF(ISERROR(VLOOKUP(H59,'(HIDE) MASTER-Chart'!$B:$G,5,FALSE)),\"\",VLOOKUP(H59,'(HIDE) MASTER-Chart'!$B:$G,5,FALSE))","v":""},"",{"$f":"IF(ISERROR(VLOOKUP(J59,'(HIDE) MASTER-Chart'!$B:$G,5,FALSE)),\"\",VLOOKUP(J59,'(HIDE) MASTER-Chart'!$B:$G,5,FALSE))","v":""},"",{"$f":"IF(ISERROR(VLOOKUP(L59,'(HIDE) MASTER-Chart'!$B:$G,5,FALSE)),\"\",VLOOKUP(L59,'(HIDE) MASTER-Chart'!$B:$G,5,FALSE))","v":""},""]
[null,15,null,15,null,16,null,16,null,16,null,16,null,"TARGET",{"$f":"IFERROR(\nIF($W$1='(HIDE) MASTER-Chart'!$J$2,\nVLOOKUP(B60,'(HIDE) MASTER-Chart'!$B:$G,4,FALSE),\nVLOOKUP(B60,'(HIDE) MASTER-Chart'!$M:$R,4,FALSE)),\"\")","v":67939},"(15)",{"$f":"IFERROR(\nIF($W$1='(HIDE) MASTER-Chart'!$J$2,\nVLOOKUP(D60,'(HIDE) MASTER-Chart'!$B:$G,4,FALSE),\nVLOOKUP(D60,'(HIDE) MASTER-Chart'!$M:$R,4,FALSE)),\"\")","v":67939},"(15)",{"$f":"IFERROR(\nIF($W$1='(HIDE) MASTER-Chart'!$J$2,\nVLOOKUP(F60,'(HIDE) MASTER-Chart'!$B:$G,4,FALSE),\nVLOOKUP(F60,'(HIDE) MASTER-Chart'!$M:$R,4,FALSE)),\"\")","v":69930},"(16)",{"$f":"IFERROR(\nIF($W$1='(HIDE) MASTER-Chart'!$J$2,\nVLOOKUP(H60,'(HIDE) MASTER-Chart'!$B:$G,4,FALSE),\nVLOOKUP(H60,'(HIDE) MASTER-Chart'!$M:$R,4,FALSE)),\"\")","v":69930},"(16)",{"$f":"IFERROR(\nIF($W$1='(HIDE) MASTER-Chart'!$J$2,\nVLOOKUP(J60,'(HIDE) MASTER-Chart'!$B:$G,4,FALSE),\nVLOOKUP(J60,'(HIDE) MASTER-Chart'!$M:$R,4,FALSE)),\"\")","v":69930},"(16)",{"$f":"IFERROR(\nIF($W$1='(HIDE) MASTER-Chart'!$J$2,\nVLOOKUP(L60,'(HIDE) MASTER-Chart'!$B:$G,4,FALSE),\nVLOOKUP(L60,'(HIDE) MASTER-Chart'!$M:$R,4,FALSE)),\"\")","v":69930},"(16)"]
["36+",13,null,13,null,14,null,14,null,14,null,14,null,"2 STEP",{"$f":"IFERROR(\nIF($W$1='(HIDE) MASTER-Chart'!$J$2,\nVLOOKUP(B61,'(HIDE) MASTER-Chart'!$B:$G,4,FALSE),\nVLOOKUP(B61,'(HIDE) MASTER-Chart'!$M:$R,4,FALSE)),\"\")","v":64126},"(13)",{"$f":"IFERROR(\nIF($W$1='(HIDE) MASTER-Chart'!$J$2,\nVLOOKUP(D61,'(HIDE) MASTER-Chart'!$B:$G,4,FALSE),\nVLOOKUP(D61,'(HIDE) MASTER-Chart'!$M:$R,4,FALSE)),\"\")","v":64126},"(13)",{"$f":"IFERROR(\nIF($W$1='(HIDE) MASTER-Chart'!$J$2,\nVLOOKUP(F61,'(HIDE) MASTER-Chart'!$B:$G,4,FALSE),\nVLOOKUP(F61,'(HIDE) MASTER-Chart'!$M:$R,4,FALSE)),\"\")","v":66006},"(14)",{"$f":"IFERROR(\nIF($W$1='(HIDE) MASTER-Chart'!$J$2,\nVLOOKUP(H61,'(HIDE) MASTER-Chart'!$B:$G,4,FALSE),\nVLOOKUP(H61,'(HIDE) MASTER-Chart'!$M:$R,4,FALSE)),\"\")","v":66006},"(14)",{"$f":"IFERROR(\nIF($W$1='(HIDE) MASTER-Chart'!$J$2,\nVLOOKUP(J61,'(HIDE) MASTER-Chart'!$B:$G,4,FALSE),\nVLOOKUP(J61,'(HIDE) MASTER-Chart'!$M:$R,4,FALSE)),\"\")","v":66006},"(14)",{"$f":"IFERROR(\nIF($W$1='(HIDE) MASTER-Chart'!$J$2,\nVLOOKUP(L61,'(HIDE) MASTER-Chart'!$B:$G,4,FALSE),\nVLOOKUP(L61,'(HIDE) MASTER-Chart'!$M:$R,4,FALSE)),\"\")","v":66006},"(14)"]
[null,null,null,null,null,null,null,null,null,null,null,null,null," ",{"$f":"IF(ISERROR(VLOOKUP(B62,'(HIDE) MASTER-Chart'!$B:$G,5,FALSE)),\"\",VLOOKUP(B62,'(HIDE) MASTER-Chart'!$B:$G,5,FALSE))","v":""},"",{"$f":"IF(ISERROR(VLOOKUP(D62,'(HIDE) MASTER-Chart'!$B:$G,5,FALSE)),\"\",VLOOKUP(D62,'(HIDE) MASTER-Chart'!$B:$G,5,FALSE))","v":""},"",{"$f":"IF(ISERROR(VLOOKUP(F62,'(HIDE) MASTER-Chart'!$B:$G,5,FALSE)),\"\",VLOOKUP(F62,'(HIDE) MASTER-Chart'!$B:$G,5,FALSE))","v":""},"",{"$f":"IF(ISERROR(VLOOKUP(H62,'(HIDE) MASTER-Chart'!$B:$G,5,FALSE)),\"\",VLOOKUP(H62,'(HIDE) MASTER-Chart'!$B:$G,5,FALSE))","v":""},"",{"$f":"IF(ISERROR(VLOOKUP(J62,'(HIDE) MASTER-Chart'!$B:$G,5,FALSE)),\"\",VLOOKUP(J62,'(HIDE) MASTER-Chart'!$B:$G,5,FALSE))","v":""},"",{"$f":"IF(ISERROR(VLOOKUP(L62,'(HIDE) MASTER-Chart'!$B:$G,5,FALSE)),\"\",VLOOKUP(L62,'(HIDE) MASTER-Chart'!$B:$G,5,FALSE))","v":""},""]

{"sheet":"Printable Grid-RangeD","index":8,"n_rows":71,"n_cols":26,"rows_kept":71,"cut":false,"hidden":false,"merged":[[70,1,70,2],[70,3,70,4],[70,5,70,6],[70,7,70,8],[70,9,70,10],[70,11,70,12],[69,1,69,2],[69,3,69,4],[69,5,69,6],[69,7,69,8],[69,9,69,10],[69,11,69,12],[68,1,68,2],[68,3,68,4],[68,5,68,6],[68,7,68,8],[68,9,68,10],[68,11,68,12],[67,1,67,2],[67,3,67,4],[67,5,67,6],[67,7,67,8],[67,9,67,10],[67,11,67,12],[66,1,66,2],[66,3,66,4],[66,5,66,6],[66,7,66,8],[66,9,66,10],[66,11,66,12],[65,1,65,2],[65,3,65,4],[65,5,65,6],[65,7,65,8],[65,9,65,10],[65,11,65,12],[64,1,64,2],[64,3,64,4],[64,5,64,6],[64,7,64,8],[64,9,64,10],[64,11,64,12],[63,1,63,2],[63,3,63,4],[63,5,63,6],[63,7,63,8],[63,9,63,10],[63,11,63,12],[62,1,62,2],[62,3,62,4],[62,5,62,6],[62,7,62,8],[62,9,62,10],[62,11,62,12],[61,1,61,2],[61,3,61,4],[61,5,61,6],[61,7,61,8],[61,9,61,10],[61,11,61,12],[60,1,60,2],[60,3,60,4],[60,5,60,6],[60,7,60,8],[60,9,60,10],[60,11,60,12],[59,1,59,2],[59,3,59,4],[59,5,59,6],[59,7,59,8],[59,9,59,10],[59,11,59,12],[58,1,58,2],[58,3,58,4],[58,5,58,6],[58,7,58,8],[58,9,58,10],[58,11,58,12],[57,1,57,2],[57,3,57,4],[57,5,57,6],[57,7,57,8],[57,9,57,10],[57,11,57,12],[56,1,56,2],[56,3,56,4],[56,5,56,6],[56,7,56,8],[56,9,56,10],[56,11,56,12],[55,1,55,2],[55,3,55,4],[55,5,55,6],[55,7,55,8],[55,9,55,10],[55,11,55,12],[54,1,54,2],[54,3,54,4],[54,5,54,6],[54,7,54,8],[54,9,54,10],[54,11,54,12],[53,1,53,2],[53,3,53,4],[53,5,53,6],[53,7,53,8],[53,9,53,10],[53,11,53,12],[52,1,52,2],[52,3,52,4],[52,5,52,6],[52,7,52,8],[52,9,52,10],[52,11,52,12],[51,1,51,2],[51,3,51,4],[51,5,51,6],[51,7,51,8],[51,9,51,10],[51,11,51,12],[50,1,50,2],[50,3,50,4],[50,5,50,6],[50,7,50,8],[50,9,50,10],[50,11,50,12],[49,1,49,2],[49,3,49,4],[49,5,49,6],[49,7,49,8],[49,9,49,10],[49,11,49,12],[48,1,48,2],[48,3,48,4],[48,5,48,6],[48,7,48,8],[48,9,48,10],[48,11,48,12],[47,1,47,2],[47,3,47,4],[47,5,47,6],[47,7,47,8],[47,9,47,10],[47,11,47,12],[46,1,46,2],[46,3,46,4],[46,5,46,6],[46,7,46,8],[46,9,46,10],[46,11,46,12],[45,1,45,2],[45,3,45,4],[45,5,45,6],[45,7,45,8],[45,9,45,10],[45,11,45,12],[44,1,44,2],[44,3,44,4],[44,5,44,6],[44,7,44,8],[44,9,44,10],[44,11,44,12],[43,1,43,2],[43,3,43,4],[43,5,43,6],[43,7,43,8],[43,9,43,10],[43,11,43,12],[42,1,42,2],[42,3,42,4],[42,5,42,6],[42,7,42,8],[42,9,42,10],[42,11,42,12],[41,1,41,2],[41,3,41,4],[41,5,41,6],[41,7,41,8],[41,9,41,10],[41,11,41,12],[40,1,40,2],[40,3,40,4],[40,5,40,6],[40,7,40,8],[40,9,40,10],[40,11,40,12],[39,1,39,2],[39,3,39,4],[39,5,39,6],[39,7,39,8],[39,9,39,10],[39,11,39,12],[38,1,38,2],[38,3,38,4],[38,5,38,6],[38,7,38,8],[38,9,38,10],[38,11,38,12],[37,1,37,2],[37,3,37,4],[37,5,37,6],[37,7,37,8],[37,9,37,10],[37,11,37,12],[36,1,36,2],[36,3,36,4],[36,5,36,6],[36,7,36,8],[36,9,36,10],[36,11,36,12],[35,1,35,2],[35,3,35,4],[35,5,35,6],[35,7,35,8],[35,9,35,10],[35,11,35,12],[34,1,34,2],[34,3,34,4],[34,5,34,6],[34,7,34,8],[34,9,34,10],[34,11,34,12],[33,1,33,2],[33,3,33,4],[33,5,33,6],[33,7,33,8],[33,9,33,10],[33,11,33,12],[32,1,32,2],[32,3,32,4],[32,5,32,6],[32,7,32,8],[32,9,32,10],[32,11,32,12],[31,1,31,2],[31,3,31,4],[31,5,31,6],[31,7,31,8],[31,9,31,10],[31,11,31,12],[30,1,30,2],[30,3,30,4],[30,5,30,6],[30,7,30,8],[30,9,30,10],[30,11,30,12],[29,1,29,2],[29,3,29,4],[29,5,29,6],[29,7,29,8],[29,9,29,10],[29,11,29,12],[28,1,28,2],[28,3,28,4],[28,5,28,6],[28,7,28,8],[28,9,28,10],[28,11,28,12],[27,1,27,2],[27,3,27,4],[27,5,27,6],[27,7,27,8],[27,9,27,10],[27,11,27,12],[26,1,26,2],[26,3,26,4],[26,5,26,6],[26,7,26,8],[26,9,26,10],[26,11,26,12],[25,1,25,2],[25,3,25,4],[25,5,25,6],[25,7,25,8],[25,9,25,10],[25,11,25,12],[24,1,24,2],[24,3,24,4],[24,5,24,6],[24,7,24,8],[24,9,24,10],[24,11,24,12],[23,1,23,2],[23,3,23,4],[23,5,23,6],[23,7,23,8],[23,9,23,10],[23,11,23,12],[22,1,22,2],[22,3,22,4],[22,5,22,6],[22,7,22,8],[22,9,22,10],[22,11,22,12],[21,1,21,2],[21,3,21,4],[21,5,21,6],[21,7,21,8],[21,9,21,10],[21,11,21,12],[20,1,20,2],[20,3,20,4],[20,5,20,6],[20,7,20,8],[20,9,20,10],[20,11,20,12],[19,1,19,2],[19,3,19,4],[19,5,19,6],[19,7,19,8],[19,9,19,10],[19,11,19,12],[18,1,18,2],[18,3,18,4],[18,5,18,6],[18,7,18,8],[18,9,18,10],[18,11,18,12],[17,1,17,2],[17,3,17,4],[17,5,17,6],[17,7,17,8],[17,9,17,10],[17,11,17,12],[16,1,16,2],[16,3,16,4],[16,5,16,6],[16,7,16,8],[16,9,16,10],[16,11,16,12],[15,1,15,2],[15,3,15,4],[15,5,15,6],[15,7,15,8],[15,9,15,10],[15,11,15,12],[14,1,14,2],[14,3,14,4],[14,5,14,6],[14,7,14,8],[14,9,14,10],[14,11,14,12],[13,1,13,2],[13,3,13,4],[13,5,13,6],[13,7,13,8],[13,9,13,10],[13,11,13,12],[12,1,12,2],[12,3,12,4],[12,5,12,6],[12,7,12,8],[12,9,12,10],[12,11,12,12],[11,1,11,2],[11,3,11,4],[11,5,11,6],[11,7,11,8],[11,9,11,10],[11,11,11,12],[8,11,8,12],[7,1,7,2],[7,3,7,4],[7,5,7,6],[7,7,7,8],[7,9,7,10],[7,11,7,12],[10,1,10,2],[10,3,10,4],[10,5,10,6],[10,7,10,8],[10,9,10,10],[10,11,10,12],[9,1,9,2],[9,3,9,4],[9,5,9,6],[9,7,9,8],[9,9,9,10],[9,11,9,12],[8,1,8,2],[8,3,8,4],[8,5,8,6],[8,7,8,8],[8,9,8,10],[4,1,4,2],[4,3,4,4],[4,5,4,6],[4,7,4,8],[4,9,4,10],[4,16,4,17],[4,18,4,19],[6,1,6,2],[6,3,6,4],[6,5,6,6],[6,7,6,8],[6,9,6,10],[6,11,6,12],[5,1,5,2],[5,3,5,4],[5,5,5,6],[5,7,5,8],[5,9,5,10],[5,11,5,12],[4,20,4,21],[4,22,4,23],[4,24,4,25],[0,14,0,17],[0,18,0,21],[0,22,0,24],[3,14,3,25],[4,11,4,12],[4,14,4,15]]}
[null,null,null,null,null,null,null,null,null,null,null,null,null,null,"MSUAASF",null,null,null,"RANGE D",null,null,null,"7/1/2024 (FY25)"]
[null,null,null,null,null,null,null,null,null,null,null,null,null,null,null,null,{"$f":"'(HIDE) MASTER-Chart'!$F$3","v":53148},null,"to",null,{"$f":"'(HIDE) MASTER-Chart'!$F$22","v":98135}]
[]
["TOTAL",null,null,null,null,null,null,null,null,null,null,null,null," ","Years in Equal or Higher MSUAASF, MnSCU Academic Professional, MnSCU Academic Supervisor  and/or MnSCU Administrator Ranges"]
["YRS EXP","0-1",null,"2 - 3",null,"4 - 5",null,"6 - 7",null,"8 - 9",null,"10 +",null," ","0 - 1",null,"2 - 3",null,"4 - 5",null,"6 - 7",null,"8 - 9",null,"10 - 11"]
[" ",5,null,null,null,null,null,null,null,null,null,null,null,"TARGET",{"$f":"IFERROR(\nIF($W$1='(HIDE) MASTER-Chart'!$J$2,\nVLOOKUP(B6,'(HIDE) MASTER-Chart'!$B:$G,5,FALSE),\nVLOOKUP(B6,'(HIDE) MASTER-Chart'!$M:$R,5,FALSE)),\"\")","v":61512},{"$f":"IF(ISBLANK(B6),\"\",CONCATENATE(\"(\",B6,\")\"))","v":"(5)"},{"$f":"IFERROR(\nIF($W$1='(HIDE) MASTER-Chart'!$J$2,\nVLOOKUP(D6,'(HIDE) MASTER-Chart'!$B:$G,5,FALSE),\nVLOOKUP(D6,'(HIDE) MASTER-Chart'!$M:$R,5,FALSE)),\"\")","v":""},{"$f":"IF(ISBLANK(D6),\"\",CONCATENATE(\"(\",D6,\")\"))","v":""},{"$f":"IFERROR(\nIF($W$1='(HIDE) MASTER-Chart'!$J$2,\nVLOOKUP(F6,'(HIDE) MASTER-Chart'!$B:$G,5,FALSE),\nVLOOKUP(F6,'(HIDE) MASTER-Chart'!$M:$R,5,FALSE)),\"\")","v":""},{"$f":"IF(ISBLANK(F6),\"\",CONCATENATE(\"(\",F6,\")\"))","v":""},{"$f":"IFERROR(\nIF($W$1='(HIDE) MASTER-Chart'!$J$2,\nVLOOKUP(H6,'(HIDE) MASTER-Chart'!$B:$G,5,FALSE),\nVLOOKUP(H6,'(HIDE) MASTER-Chart'!$M:$R,5,FALSE)),\"\")","v":""},{"$f":"IF(ISBLANK(H6),\"\",CONCATENATE(\"(\",H6,\")\"))","v":""},{"$f":"IFERROR(\nIF($W$1='(HIDE) MASTER-Chart'!$J$2,\nVLOOKUP(J6,'(HIDE) MASTER-Chart'!$B:$G,5,FALSE),\nVLOOKUP(J6,'(HIDE) MASTER-Chart'!$M:$R,5,FALSE)),\"\")","v":""},{"$f":"IF(ISBLANK(J6),\"\",CONCATENATE(\"(\",J6,\")\"))","v":""},{"$f":"IFERROR(\nIF($W$1='(HIDE) MASTER-Chart'!$J$2,\nVLOOKUP(L6,'(HIDE) MASTER-Chart'!$B:$G,5,FALSE),\nVLOOKUP(L6,'(HIDE) MASTER-Chart'!$M:$R,5,FALSE)),\"\")","v":""},{"$f":"IF(ISBLANK(L6),\"\",CONCATENATE(\"(\",L6,\")\"))","v":""}]
["0 - 1",3,null,null,null,null,null,null,null,null,null,null,null,"2 STEP",{"$f":"IFERROR(\nIF($W$1='(HIDE) MASTER-Chart'!$J$2,\nVLOOKUP(B7,'(HIDE) MASTER-Chart'!$B:$G,5,FALSE),\nVLOOKUP(B7,'(HIDE) MASTER-Chart'!$M:$R,5,FALSE)),\"\")","v":57446},{"$f":"IF(ISBLANK(B7),\"\",CONCATENATE(\"(\",B7,\")\"))","v":"(3)"},{"$f":"IFERROR(\nIF($W$1='(HIDE) MASTER-Chart'!$J$2,\nVLOOKUP(D7,'(HIDE) MASTER-Chart'!$B:$G,5,FALSE),\nVLOOKUP(D7,'(HIDE) MASTER-Chart'!$M:$R,5,FALSE)),\"\")","v":""},"",{"$f":"IFERROR(\nIF($W$1='(HIDE) MASTER-Chart'!$J$2,\nVLOOKUP(F7,'(HIDE) MASTER-Chart'!$B:$G,5,FALSE),\nVLOOKUP(F7,'(HIDE) MASTER-Chart'!$M:$R,5,FALSE)),\"\")","v":""},"",{"$f":"IFERROR(\nIF($W$1='(HIDE) MASTER-Chart'!$J$2,\nVLOOKUP(H7,'(HIDE) MASTER-Chart'!$B:$G,5,FALSE),\nVLOOKUP(H7,'(HIDE) MASTER-Chart'!$M:$R,5,FALSE)),\"\")","v":""},"",{"$f":"IFERROR(\nIF($W$1='(HIDE) MASTER-Chart'!$J$2,\nVLOOKUP(J7,'(HIDE) MASTER-Chart'!$B:$G,5,FALSE),\nVLOOKUP(J7,'(HIDE) MASTER-Chart'!$M:$R,5,FALSE)),\"\")","v":""},"",{"$f":"IFERROR(\nIF($W$1='(HIDE) MASTER-Chart'!$J$2,\nVLOOKUP(L7,'(HIDE) MASTER-Chart'!$B:$G,5,FALSE),\nVLOOKUP(L7,'(HIDE) MASTER-Chart'!$M:$R,5,FALSE)),\"\")","v":""},""]
[null,null,null,null,null,null,null,null,null,null,null,null,null," ",{"$f":"IF(ISERROR(VLOOKUP(B8,'(HIDE) MASTER-Chart'!$B:$G,5,FALSE)),\"\",VLOOKUP(B8,'(HIDE) MASTER-Chart'!$B:$G,5,FALSE))","v":""},{"$f":"IF(ISBLANK(B8),\"\",CONCATENATE(\"(\",B8,\")\"))","v":""},{"$f":"IF(ISERROR(VLOOKUP(D8,'(HIDE) MASTER-Chart'!$B:$G,5,FALSE)),\"\",VLOOKUP(D8,'(HIDE) MASTER-Chart'!$B:$G,5,FALSE))","v":""},"",{"$f":"IF(ISERROR(VLOOKUP(F8,'(HIDE) MASTER-Chart'!$B:$G,5,FALSE)),\"\",VLOOKUP(F8,'(HIDE) MASTER-Chart'!$B:$G,5,FALSE))","v":""},"",{"$f":"IF(ISERROR(VLOOKUP(H8,'(HIDE) MASTER-Chart'!$B:$G,5,FALSE)),\"\",VLOOKUP(H8,'(HIDE) MASTER-Chart'!$B:$G,5,FALSE))","v":""},"",{"$f":"IF(ISERROR(VLOOKUP(J8,'(HIDE) MASTER-Chart'!$B:$G,5,FALSE)),\"\",VLOOKUP(J8,'(HIDE) MASTER-Chart'!$B:$G,5,FALSE))","v":""},"",{"$f":"IF(ISERROR(VLOOKUP(L8,'(HIDE) MASTER-Chart'!$B:$G,5,FALSE)),\"\",VLOOKUP(L8,'(HIDE) MASTER-Chart'!$B:$G,5,FALSE))","v":""},""]
[null,6,null,6,null,null,null,null,null,null,null,null,null,"TARGET",{"$f":"IFERROR(\nIF($W$1='(HIDE) MASTER-Chart'!$J$2,\nVLOOKUP(B9,'(HIDE) MASTER-Chart'!$B:$G,5,FALSE),\nVLOOKUP(B9,'(HIDE) MASTER-Chart'!$M:$R,5,FALSE)),\"\")","v":63845},{"$f":"IF(ISBLANK(B9),\"\",CONCATENATE(\"(\",B9,\")\"))","v":"(6)"},{"$f":"IFERROR(\nIF($W$1='(HIDE) MASTER-Chart'!$J$2,\nVLOOKUP(D9,'(HIDE) MASTER-Chart'!$B:$G,5,FALSE),\nVLOOKUP(D9,'(HIDE) MASTER-Chart'!$M:$R,5,FALSE)),\"\")","v":63845},{"$f":"IF(ISBLANK(D9),\"\",CONCATENATE(\"(\",D9,\")\"))","v":"(6)"},{"$f":"IFERROR(\nIF($W$1='(HIDE) MASTER-Chart'!$J$2,\nVLOOKUP(F9,'(HIDE) MASTER-Chart'!$B:$G,5,FALSE),\nVLOOKUP(F9,'(HIDE) MASTER-Chart'!$M:$R,5,FALSE)),\"\")","v":""},{"$f":"IF(ISBLANK(F9),\"\",CONCATENATE(\"(\",F9,\")\"))","v":""},{"$f":"IFERROR(\nIF($W$1='(HIDE) MASTER-Chart'!$J$2,\nVLOOKUP(H9,'(HIDE) MASTER-Chart'!$B:$G,5,FALSE),\nVLOOKUP(H9,'(HIDE) MASTER-Chart'!$M:$R,5,FALSE)),\"\")","v":""},{"$f":"IF(ISBLANK(H9),\"\",CONCATENATE(\"(\",H9,\")\"))","v":""},{"$f":"IFERROR(\nIF($W$1='(HIDE) MASTER-Chart'!$J$2,\nVLOOKUP(J9,'(HIDE) MASTER-Chart'!$B:$G,5,FALSE),\nVLOOKUP(J9,'(HIDE) MASTER-Chart'!$M:$R,5,FALSE)),\"\")","v":""},{"$f":"IF(ISBLANK(J9),\"\",CONCATENATE(\"(\",J9,\")\"))","v":""},{"$f":"IFERROR(\nIF($W$1='(HIDE) MASTER-Chart'!$J$2,\nVLOOKUP(L9,'(HIDE) MASTER-Chart'!$B:$G,5,FALSE),\nVLOOKUP(L9,'(HIDE) MASTER-Chart'!$M:$R,5,FALSE)),\"\")","v":""},{"$f":"IF(ISBLANK(L9),\"\",CONCATENATE(\"(\",L9,\")\"))","v":""}]
["2 - 3",4,null,4,null,null,null,null,null,null,null,null,null,"2 STEP",{"$f":"IFERROR(\nIF($W$1='(HIDE) MASTER-Chart'!$J$2,\nVLOOKUP(B10,'(HIDE) MASTER-Chart'!$B:$G,5,FALSE),\nVLOOKUP(B10,'(HIDE) MASTER-Chart'!$M:$R,5,FALSE)),\"\")","v":59171},"(4)",{"$f":"IFERROR(\nIF($W$1='(HIDE) MASTER-Chart'!$J$2,\nVLOOKUP(D10,'(HIDE) MASTER-Chart'!$B:$G,5,FALSE),\nVLOOKUP(D10,'(HIDE) MASTER-Chart'!$M:$R,5,FALSE)),\"\")","v":59171},"(4)",{"$f":"IFERROR(\nIF($W$1='(HIDE) MASTER-Chart'!$J$2,\nVLOOKUP(F10,'(HIDE) MASTER-Chart'!$B:$G,5,FALSE),\nVLOOKUP(F10,'(HIDE) MASTER-Chart'!$M:$R,5,FALSE)),\"\")","v":""},"",{"$f":"IFERROR(\nIF($W$1='(HIDE) MASTER-Chart'!$J$2,\nVLOOKUP(H10,'(HIDE) MASTER-Chart'!$B:$G,5,FALSE),\nVLOOKUP(H10,'(HIDE) MASTER-Chart'!$M:$R,5,FALSE)),\"\")","v":""},"",{"$f":"IFERROR(\nIF($W$1='(HIDE) MASTER-Chart'!$J$2,\nVLOOKUP(J10,'(HIDE) MASTER-Chart'!$B:$G,5,FALSE),\nVLOOKUP(J10,'(HIDE) MASTER-Chart'!$M:$R,5,FALSE)),\"\")","v":""},"",{"$f":"IFERROR(\nIF($W$1='(HIDE) MASTER-Chart'!$J$2,\nVLOOKUP(L10,'(HIDE) MASTER-Chart'!$B:$G,5,FALSE),\nVLOOKUP(L10,'(HIDE) MASTER-Chart'!$M:$R,5,FALSE)),\"\")","v":""},""]
[null,null,null,null,null,null,null,null,null,null,null,null,null," ",{"$f":"IF(ISERROR(VLOOKUP(B11,'(HIDE) MASTER-Chart'!$B:$G,5,FALSE)),\"\",VLOOKUP(B11,'(HIDE) MASTER-Chart'!$B:$G,5,FALSE))","v":""},"",{"$f":"IF(ISERROR(VLOOKUP(D11,'(HIDE) MASTER-Chart'!$B:$G,5,FALSE)),\"\",VLOOKUP(D11,'(HIDE) MASTER-Chart'!$B:$G,5,FALSE))","v":""},"",{"$f":"IF(ISERROR(VLOOKUP(F11,'(HIDE) MASTER-Chart'!$B:$G,5,FALSE)),\"\",VLOOKUP(F11,'(HIDE) MASTER-Chart'!$B:$G,5,FALSE))","v":""},"",{"$f":"IF(ISERROR(VLOOKUP(H11,'(HIDE) MASTER-Chart'!$B:$G,5,FALSE)),\"\",VLOOKUP(H11,'(HIDE) MASTER-Chart'!$B:$G,5,FALSE))","v":""},"",{"$f":"IF(ISERROR(VLOOKUP(J11,'(HIDE) MASTER-Chart'!$B:$G,5,FALSE)),\"\",VLOOKUP(J11,'(HIDE) MASTER-Chart'!$B:$G,5,FALSE))","v":""},"",{"$f":"IF(ISERROR(VLOOKUP(L11,'(HIDE) MASTER-Chart'!$B:$G,5,FALSE)),\"\",VLOOKUP(L11,'(HIDE) MASTER-Chart'!$B:$G,5,FALSE))","v":""},""]
[null,6,null,7,null,7,null,null,null,null,null,null,null,"TARGET",{"$f":"IFERROR(\nIF($W$1='(HIDE) MASTER-Chart'!$J$2,\nVLOOKUP(B12,'(HIDE) MASTER-Chart'!$B:$G,5,FALSE),\nVLOOKUP(B12,'(HIDE) MASTER-Chart'!$M:$R,5,FALSE)),\"\")","v":63845},"(6)",{"$f":"IFERROR(\nIF($W$1='(HIDE) MASTER-Chart'!$J$2,\nVLOOKUP(D12,'(HIDE) MASTER-Chart'!$B:$G,5,FALSE),\nVLOOKUP(D12,'(HIDE) MASTER-Chart'!$M:$R,5,FALSE)),\"\")","v":66178},"(7)",{"$f":"IFERROR(\nIF($W$1='(HIDE) MASTER-Chart'!$J$2,\nVLOOKUP(F12,'(HIDE) MASTER-Chart'!$B:$G,5,FALSE),\nVLOOKUP(F12,'(HIDE) MASTER-Chart'!$M:$R,5,FALSE)),\"\")","v":66178},"(7)",{"$f":"IFERROR(\nIF($W$1='(HIDE) MASTER-Chart'!$J$2,\nVLOOKUP(H12,'(HIDE) MASTER-Chart'!$B:$G,5,FALSE),\nVLOOKUP(H12,'(HIDE) MASTER-Chart'!$M:$R,5,FALSE)),\"\")","v":""},"",{"$f":"IFERROR(\nIF($W$1='(HIDE) MASTER-Chart'!$J$2,\nVLOOKUP(J12,'(HIDE) MASTER-Chart'!$B:$G,5,FALSE),\nVLOOKUP(J12,'(HIDE) MASTER-Chart'!$M:$R,5,FALSE)),\"\")","v":""},"",{"$f":"IFERROR(\nIF($W$1='(HIDE) MASTER-Chart'!$J$2,\nVLOOKUP(L12,'(HIDE) MASTER-Chart'!$B:$G,5,FALSE),\nVLOOKUP(L12,'(HIDE) MASTER-Chart'!$M:$R,5,FALSE)),\"\")","v":""},""]
["4 - 5",4,null,5,null,5,null,null,null,null,null,null,null,"2 STEP",{"$f":"IFERROR(\nIF($W$1='(HIDE) MASTER-Chart'!$J$2,\nVLOOKUP(B13,'(HIDE) MASTER-Chart'!$B:$G,5,FALSE),\nVLOOKUP(B13,'(HIDE) MASTER-Chart'!$M:$R,5,FALSE)),\"\")","v":59171},"(4)",{"$f":"IFERROR(\nIF($W$1='(HIDE) MASTER-Chart'!$J$2,\nVLOOKUP(D13,'(HIDE) MASTER-Chart'!$B:$G,5,FALSE),\nVLOOKUP(D13,'(HIDE) MASTER-Chart'!$M:$R,5,FALSE)),\"\")","v":61512},"(5)",{"$f":"IFERROR(\nIF($W$1='(HIDE) MASTER-Chart'!$J$2,\nVLOOKUP(F13,'(HIDE) MASTER-Chart'!$B:$G,5,FALSE),\nVLOOKUP(F13,'(HIDE) MASTER-Chart'!$M:$R,5,FALSE)),\"\")","v":61512},"(5)",{"$f":"IFERROR(\nIF($W$1='(HIDE) MASTER-Chart'!$J$2,\nVLOOKUP(H13,'(HIDE) MASTER-Chart'!$B:$G,5,FALSE),\nVLOOKUP(H13,'(HIDE) MASTER-Chart'!$M:$R,5,FALSE)),\"\")","v":""},"",{"$f":"IFERROR(\nIF($W$1='(HIDE) MASTER-Chart'!$J$2,\nVLOOKUP(J13,'(HIDE) MASTER-Chart'!$B:$G,5,FALSE),\nVLOOKUP(J13,'(HIDE) MASTER-Chart'!$M:$R,5,FALSE)),\"\")","v":""},"",{"$f":"IFERROR(\nIF($W$1='(HIDE) MASTER-Chart'!$J$2,\nVLOOKUP(L13,'(HIDE) MASTER-Chart'!$B:$G,5,FALSE),\nVLOOKUP(L13,'(HIDE) MASTER-Chart'!$M:$R,5,FALSE)),\"\")","v":""},""]
[null,null,null,null,null,null,null,null,null,null,null,null,null," ",{"$f":"IF(ISERROR(VLOOKUP(B14,'(HIDE) MASTER-Chart'!$B:$G,5,FALSE)),\"\",VLOOKUP(B14,'(HIDE) MASTER-Chart'!$B:$G,5,FALSE))","v":""},"",{"$f":"IF(ISERROR(VLOOKUP(D14,'(HIDE) MASTER-Chart'!$B:$G,5,FALSE)),\"\",VLOOKUP(D14,'(HIDE) MASTER-Chart'!$B:$G,5,FALSE))","v":""},"",{"$f":"IF(ISERROR(VLOOKUP(F14,'(HIDE) MASTER-Chart'!$B:$G,5,FALSE)),\"\",VLOOKUP(F14,'(HIDE) MASTER-Chart'!$B:$G,5,FALSE))","v":""},"",{"$f":"IF(ISERROR(VLOOKUP(H14,'(HIDE) MASTER-Chart'!$B:$G,5,FALSE)),\"\",VLOOKUP(H14,'(HIDE) MASTER-Chart'!$B:$G,5,FALSE))","v":""},"",{"$f":"IF(ISERROR(VLOOKUP(J14,'(HIDE) MASTER-Chart'!$B:$G,5,FALSE)),\"\",VLOOKUP(J14,'(HIDE) MASTER-Chart'!$B:$G,5,FALSE))","v":""},"",{"$f":"IF(ISERROR(VLOOKUP(L14,'(HIDE) MASTER-Chart'!$B:$G,5,FALSE)),\"\",VLOOKUP(L14,'(HIDE) MASTER-Chart'!$B:$G,5,FALSE))","v":""},""]
[null,7,null,7,null,7,null,8,null,null,null,null,null,"TARGET",{"$f":"IFERROR(\nIF($W$1='(HIDE) MASTER-Chart'!$J$2,\nVLOOKUP(B15,'(HIDE) MASTER-Chart'!$B:$G,5,FALSE),\nVLOOKUP(B15,'(HIDE) MASTER-Chart'!$M:$R,5,FALSE)),\"\")","v":66178},"(7)",{"$f":"IFERROR(\nIF($W$1='(HIDE) MASTER-Chart'!$J$2,\nVLOOKUP(D15,'(HIDE) MASTER-Chart'!$B:$G,5,FALSE),\nVLOOKUP(D15,'(HIDE) MASTER-Chart'!$M:$R,5,FALSE)),\"\")","v":66178},"(7)",{"$f":"IFERROR(\nIF($W$1='(HIDE) MASTER-Chart'!$J$2,\nVLOOKUP(F15,'(HIDE) MASTER-Chart'!$B:$G,5,FALSE),\nVLOOKUP(F15,'(HIDE) MASTER-Chart'!$M:$R,5,FALSE)),\"\")","v":66178},"(7)",{"$f":"IFERROR(\nIF($W$1='(HIDE) MASTER-Chart'!$J$2,\nVLOOKUP(H15,'(HIDE) MASTER-Chart'!$B:$G,5,FALSE),\nVLOOKUP(H15,'(HIDE) MASTER-Chart'!$M:$R,5,FALSE)),\"\")","v":68518},"(8)",{"$f":"IFERROR(\nIF($W$1='(HIDE) MASTER-Chart'!$J$2,\nVLOOKUP(J15,'(HIDE) MASTER-Chart'!$B:$G,5,FALSE),\nVLOOKUP(J15,'(HIDE) MASTER-Chart'!$M:$R,5,FALSE)),\"\")","v":""},"",{"$f":"IFERROR(\nIF($W$1='(HIDE) MASTER-Chart'!$J$2,\nVLOOKUP(L15,'(HIDE) MASTER-Chart'!$B:$G,5,FALSE),\nVLOOKUP(L15,'(HIDE) MASTER-Chart'!$M:$R,5,FALSE)),\"\")","v":""},""]
["6 - 7",5,null,5,null,5,null,6,null,null,null,null,null,"2 STEP",{"$f":"IFERROR(\nIF($W$1='(HIDE) MASTER-Chart'!$J$2,\nVLOOKUP(B16,'(HIDE) MASTER-Chart'!$B:$G,5,FALSE),\nVLOOKUP(B16,'(HIDE) MASTER-Chart'!$M:$R,5,FALSE)),\"\")","v":61512},"(5)",{"$f":"IFERROR(\nIF($W$1='(HIDE) MASTER-Chart'!$J$2,\nVLOOKUP(D16,'(HIDE) MASTER-Chart'!$B:$G,5,FALSE),\nVLOOKUP(D16,'(HIDE) MASTER-Chart'!$M:$R,5,FALSE)),\"\")","v":61512},"(5)",{"$f":"IFERROR(\nIF($W$1='(HIDE) MASTER-Chart'!$J$2,\nVLOOKUP(F16,'(HIDE) MASTER-Chart'!$B:$G,5,FALSE),\nVLOOKUP(F16,'(HIDE) MASTER-Chart'!$M:$R,5,FALSE)),\"\")","v":61512},"(5)",{"$f":"IFERROR(\nIF($W$1='(HIDE) MASTER-Chart'!$J$2,\nVLOOKUP(H16,'(HIDE) MASTER-Chart'!$B:$G,5,FALSE),\nVLOOKUP(H16,'(HIDE) MASTER-Chart'!$M:$R,5,FALSE)),\"\")","v":63845},"(6)",{"$f":"IFERROR(\nIF($W$1='(HIDE) MASTER-Chart'!$J$2,\nVLOOKUP(J16,'(HIDE) MASTER-Chart'!$B:$G,5,FALSE),\nVLOOKUP(J16,'(HIDE) MASTER-Chart'!$M:$R,5,FALSE)),\"\")","v":""},"",{"$f":"IFERROR(\nIF($W$1='(HIDE) MASTER-Chart'!$J$2,\nVLOOKUP(L16,'(HIDE) MASTER-Chart'!$B:$G,5,FALSE),\nVLOOKUP(L16,'(HIDE) MASTER-Chart'!$M:$R,5,FALSE)),\"\")","v":""},""]
[null,null,null,null,null,null,null,null,null,null,null,null,null," ",{"$f":"IF(ISERROR(VLOOKUP(B17,'(HIDE) MASTER-Chart'!$B:$G,5,FALSE)),\"\",VLOOKUP(B17,'(HIDE) MASTER-Chart'!$B:$G,5,FALSE))","v":""},"",{"$f":"IF(ISERROR(VLOOKUP(D17,'(HIDE) MASTER-Chart'!$B:$G,5,FALSE)),\"\",VLOOKUP(D17,'(HIDE) MASTER-Chart'!$B:$G,5,FALSE))","v":""},"",{"$f":"IF(ISERROR(VLOOKUP(F17,'(HIDE) MASTER-Chart'!$B:$G,5,FALSE)),\"\",VLOOKUP(F17,'(HIDE) MASTER-Chart'!$B:$G,5,FALSE))","v":""},"",{"$f":"IF(ISERROR(VLOOKUP(H17,'(HIDE) MASTER-Chart'!$B:$G,5,FALSE)),\"\",VLOOKUP(H17,'(HIDE) MASTER-Chart'!$B:$G,5,FALSE))","v":""},"",{"$f":"IF(ISERROR(VLOOKUP(J17,'(HIDE) MASTER-Chart'!$B:$G,5,FALSE)),\"\",VLOOKUP(J17,'(HIDE) MASTER-Chart'!$B:$G,5,FALSE))","v":""},"",{"$f":"IF(ISERROR(VLOOKUP(L17,'(HIDE) MASTER-Chart'!$B:$G,5,FALSE)),\"\",VLOOKUP(L17,'(HIDE) MASTER-Chart'!$B:$G,5,FALSE))","v":""},""]
[null,7,null,8,null,8,null,8,null,9,null,null,null,"TARGET",{"$f":"IFERROR(\nIF($W$1='(HIDE) MASTER-Chart'!$J$2,\nVLOOKUP(B18,'(HIDE) MASTER-Chart'!$B:$G,5,FALSE),\nVLOOKUP(B18,'(HIDE) MASTER-Chart'!$M:$R,5,FALSE)),\"\")","v":66178},"(7)",{"$f":"IFERROR(\nIF($W$1='(HIDE) MASTER-Chart'!$J$2,\nVLOOKUP(D18,'(HIDE) MASTER-Chart'!$B:$G,5,FALSE),\nVLOOKUP(D18,'(HIDE) MASTER-Chart'!$M:$R,5,FALSE)),\"\")","v":68518},"(8)",{"$f":"IFERROR(\nIF($W$1='(HIDE) MASTER-Chart'!$J$2,\nVLOOKUP(F18,'(HIDE) MASTER-Chart'!$B:$G,5,FALSE),\nVLOOKUP(F18,'(HIDE) MASTER-Chart'!$M:$R,5,FALSE)),\"\")","v":68518},"(8)",{"$f":"IFERROR(\nIF($W$1='(HIDE) MASTER-Chart'!$J$2,\nVLOOKUP(H18,'(HIDE) MASTER-Chart'!$B:$G,5,FALSE),\nVLOOKUP(H18,'(HIDE) MASTER-Chart'!$M:$R,5,FALSE)),\"\")","v":68518},"(8)",{"$f":"IFERROR(\nIF($W$1='(HIDE) MASTER-Chart'!$J$2,\nVLOOKUP(J18,'(HIDE) MASTER-Chart'!$B:$G,5,FALSE),\nVLOOKUP(J18,'(HIDE) MASTER-Chart'!$M:$R,5,FALSE)),\"\")","v":70814},"(9)",{"$f":"IFERROR(\nIF($W$1='(HIDE) MASTER-Chart'!$J$2,\nVLOOKUP(L18,'(HIDE) MASTER-Chart'!$B:$G,5,FALSE),\nVLOOKUP(L18,'(HIDE) MASTER-Chart'!$M:$R,5,FALSE)),\"\")","v":""},""]
[" 8 - 9",5,null,6,null,6,null,6,null,7,null,null,null,"2 STEP",{"$f":"IFERROR(\nIF($W$1='(HIDE) MASTER-Chart'!$J$2,\nVLOOKUP(B19,'(HIDE) MASTER-Chart'!$B:$G,5,FALSE),\nVLOOKUP(B19,'(HIDE) MASTER-Chart'!$M:$R,5,FALSE)),\"\")","v":61512},"(5)",{"$f":"IFERROR(\nIF($W$1='(HIDE) MASTER-Chart'!$J$2,\nVLOOKUP(D19,'(HIDE) MASTER-Chart'!$B:$G,5,FALSE),\nVLOOKUP(D19,'(HIDE) MASTER-Chart'!$M:$R,5,FALSE)),\"\")","v":63845},"(6)",{"$f":"IFERROR(\nIF($W$1='(HIDE) MASTER-Chart'!$J$2,\nVLOOKUP(F19,'(HIDE) MASTER-Chart'!$B:$G,5,FALSE),\nVLOOKUP(F19,'(HIDE) MASTER-Chart'!$M:$R,5,FALSE)),\"\")","v":63845},"(6)",{"$f":"IFERROR(\nIF($W$1='(HIDE) MASTER-Chart'!$J$2,\nVLOOKUP(H19,'(HIDE) MASTER-Chart'!$B:$G,5,FALSE),\nVLOOKUP(H19,'(HIDE) MASTER-Chart'!$M:$R,5,FALSE)),\"\")","v":63845},"(6)",{"$f":"IFERROR(\nIF($W$1='(HIDE) MASTER-Chart'!$J$2,\nVLOOKUP(J19,'(HIDE) MASTER-Chart'!$B:$G,5,FALSE),\nVLOOKUP(J19,'(HIDE) MASTER-Chart'!$M:$R,5,FALSE)),\"\")","v":66178},"(7)",{"$f":"IFERROR(\nIF($W$1='(HIDE) MASTER-Chart'!$J$2,\nVLOOKUP(L19,'(HIDE) MASTER-Chart'!$B:$G,5,FALSE),\nVLOOKUP(L19,'(HIDE) MASTER-Chart'!$M:$R,5,FALSE)),\"\")","v":""},""]
[null,null,null,null,null,null,null,null,null,null,null,null,null," ",{"$f":"IF(ISERROR(VLOOKUP(B20,'(HIDE) MASTER-Chart'!$B:$G,5,FALSE)),\"\",VLOOKUP(B20,'(HIDE) MASTER-Chart'!$B:$G,5,FALSE))","v":""},"",{"$f":"IF(ISERROR(VLOOKUP(D20,'(HIDE) MASTER-Chart'!$B:$G,5,FALSE)),\"\",VLOOKUP(D20,'(HIDE) MASTER-Chart'!$B:$G,5,FALSE))","v":""},"",{"$f":"IF(ISERROR(VLOOKUP(F20,'(HIDE) MASTER-Chart'!$B:$G,5,FALSE)),\"\",VLOOKUP(F20,'(HIDE) MASTER-Chart'!$B:$G,5,FALSE))","v":""},"",{"$f":"IF(ISERROR(VLOOKUP(H20,'(HIDE) MASTER-Chart'!$B:$G,5,FALSE)),\"\",VLOOKUP(H20,'(HIDE) MASTER-Chart'!$B:$G,5,FALSE))","v":""},"",{"$f":"IF(ISERROR(VLOOKUP(J20,'(HIDE) MASTER-Chart'!$B:$G,5,FALSE)),\"\",VLOOKUP(J20,'(HIDE) MASTER-Chart'!$B:$G,5,FALSE))","v":""},"",{"$f":"IF(ISERROR(VLOOKUP(L20,'(HIDE) MASTER-Chart'!$B:$G,5,FALSE)),\"\",VLOOKUP(L20,'(HIDE) MASTER-Chart'!$B:$G,5,FALSE))","v":""},""]
[null,8,null,8,null,8,null,9,null,9,null,9,null,"59702 (8)",{"$f":"IFERROR(\nIF($W$1='(HIDE) MASTER-Chart'!$J$2,\nVLOOKUP(B21,'(HIDE) MASTER-Chart'!$B:$G,5,FALSE),\nVLOOKUP(B21,'(HIDE) MASTER-Chart'!$M:$R,5,FALSE)),\"\")","v":68518},"(8)",{"$f":"IFERROR(\nIF($W$1='(HIDE) MASTER-Chart'!$J$2,\nVLOOKUP(D21,'(HIDE) MASTER-Chart'!$B:$G,5,FALSE),\nVLOOKUP(D21,'(HIDE) MASTER-Chart'!$M:$R,5,FALSE)),\"\")","v":68518},"(8)",{"$f":"IFERROR(\nIF($W$1='(HIDE) MASTER-Chart'!$J$2,\nVLOOKUP(F21,'(HIDE) MASTER-Chart'!$B:$G,5,FALSE),\nVLOOKUP(F21,'(HIDE) MASTER-Chart'!$M:$R,5,FALSE)),\"\")","v":68518},"(8)",{"$f":"IFERROR(\nIF($W$1='(HIDE) MASTER-Chart'!$J$2,\nVLOOKUP(H21,'(HIDE) MASTER-Chart'!$B:$G,5,FALSE),\nVLOOKUP(H21,'(HIDE) MASTER-Chart'!$M:$R,5,FALSE)),\"\")","v":70814},"(9)",{"$f":"IFERROR(\nIF($W$1='(HIDE) MASTER-Chart'!$J$2,\nVLOOKUP(J21,'(HIDE) MASTER-Chart'!$B:$G,5,FALSE),\nVLOOKUP(J21,'(HIDE) MASTER-Chart'!$M:$R,5,FALSE)),\"\")","v":70814},"(9)",{"$f":"IFERROR(\nIF($W$1='(HIDE) MASTER-Chart'!$J$2,\nVLOOKUP(L21,'(HIDE) MASTER-Chart'!$B:$G,5,FALSE),\nVLOOKUP(L21,'(HIDE) MASTER-Chart'!$M:$R,5,FALSE)),\"\")","v":70814},"(9)"]
["10 - 11",6,null,6,null,6,null,7,null,7,null,7,null,"2 STEP",{"$f":"IFERROR(\nIF($W$1='(HIDE) MASTER-Chart'!$J$2,\nVLOOKUP(B22,'(HIDE) MASTER-Chart'!$B:$G,5,FALSE),\nVLOOKUP(B22,'(HIDE) MASTER-Chart'!$M:$R,5,FALSE)),\"\")","v":63845},"(6)",{"$f":"IFERROR(\nIF($W$1='(HIDE) MASTER-Chart'!$J$2,\nVLOOKUP(D22,'(HIDE) MASTER-Chart'!$B:$G,5,FALSE),\nVLOOKUP(D22,'(HIDE) MASTER-Chart'!$M:$R,5,FALSE)),\"\")","v":63845},"(6)",{"$f":"IFERROR(\nIF($W$1='(HIDE) MASTER-Chart'!$J$2,\nVLOOKUP(F22,'(HIDE) MASTER-Chart'!$B:$G,5,FALSE),\nVLOOKUP(F22,'(HIDE) MASTER-Chart'!$M:$R,5,FALSE)),\"\")","v":63845},"(6)",{"$f":"IFERROR(\nIF($W$1='(HIDE) MASTER-Chart'!$J$2,\nVLOOKUP(H22,'(HIDE) MASTER-Chart'!$B:$G,5,FALSE),\nVLOOKUP(H22,'(HIDE) MASTER-Chart'!$M:$R,5,FALSE)),\"\")","v":66178},"(7)",{"$f":"IFERROR(\nIF($W$1='(HIDE) MASTER-Chart'!$J$2,\nVLOOKUP(J22,'(HIDE) MASTER-Chart'!$B:$G,5,FALSE),\nVLOOKUP(J22,'(HIDE) MASTER-Chart'!$M:$R,5,FALSE)),\"\")","v":66178},"(7)",{"$f":"IFERROR(\nIF($W$1='(HIDE) MASTER-Chart'!$J$2,\nVLOOKUP(L22,'(HIDE) MASTER-Chart'!$B:$G,5,FALSE),\nVLOOKUP(L22,'(HIDE) MASTER-Chart'!$M:$R,5,FALSE)),\"\")","v":66178},"(7)"]
[null,null,null,null,null,null,null,null,null,null,null,null,null," ",{"$f":"IF(ISERROR(VLOOKUP(B23,'(HIDE) MASTER-Chart'!$B:$G,5,FALSE)),\"\",VLOOKUP(B23,'(HIDE) MASTER-Chart'!$B:$G,5,FALSE))","v":""},"",{"$f":"IF(ISERROR(VLOOKUP(D23,'(HIDE) MASTER-Chart'!$B:$G,5,FALSE)),\"\",VLOOKUP(D23,'(HIDE) MASTER-Chart'!$B:$G,5,FALSE))","v":""},"",{"$f":"IF(ISERROR(VLOOKUP(F23,'(HIDE) MASTER-Chart'!$B:$G,5,FALSE)),\"\",VLOOKUP(F23,'(HIDE) MASTER-Chart'!$B:$G,5,FALSE))","v":""},"",{"$f":"IF(ISERROR(VLOOKUP(H23,'(HIDE) MASTER-Chart'!$B:$G,5,FALSE)),\"\",VLOOKUP(H23,'(HIDE) MASTER-Chart'!$B:$G,5,FALSE))","v":""},"",{"$f":"IF(ISERROR(VLOOKUP(J23,'(HIDE) MASTER-Chart'!$B:$G,5,FALSE)),\"\",VLOOKUP(J23,'(HIDE) MASTER-Chart'!$B:$G,5,FALSE))","v":""},"",{"$f":"IF(ISERROR(VLOOKUP(L23,'(HIDE) MASTER-Chart'!$B:$G,5,FALSE)),\"\",VLOOKUP(L23,'(HIDE) MASTER-Chart'!$B:$G,5,FALSE))","v":""},""]
[null,8,null,9,null,9,null,9,null,9,null,10,null,"TARGET",{"$f":"IFERROR(\nIF($W$1='(HIDE) MASTER-Chart'!$J$2,\nVLOOKUP(B24,'(HIDE) MASTER-Chart'!$B:$G,5,FALSE),\nVLOOKUP(B24,'(HIDE) MASTER-Chart'!$M:$R,5,FALSE)),\"\")","v":68518},"(8)",{"$f":"IFERROR(\nIF($W$1='(HIDE) MASTER-Chart'!$J$2,\nVLOOKUP(D24,'(HIDE) MASTER-Chart'!$B:$G,5,FALSE),\nVLOOKUP(D24,'(HIDE) MASTER-Chart'!$M:$R,5,FALSE)),\"\")","v":70814},"(9)",{"$f":"IFERROR(\nIF($W$1='(HIDE) MASTER-Chart'!$J$2,\nVLOOKUP(F24,'(HIDE) MASTER-Chart'!$B:$G,5,FALSE),\nVLOOKUP(F24,'(HIDE) MASTER-Chart'!$M:$R,5,FALSE)),\"\")","v":70814},"(9)",{"$f":"IFERROR(\nIF($W$1='(HIDE) MASTER-Chart'!$J$2,\nVLOOKUP(H24,'(HIDE) MASTER-Chart'!$B:$G,5,FALSE),\nVLOOKUP(H24,'(HIDE) MASTER-Chart'!$M:$R,5,FALSE)),\"\")","v":70814},"(9)",{"$f":"IFERROR(\nIF($W$1='(HIDE) MASTER-Chart'!$J$2,\nVLOOKUP(J24,'(HIDE) MASTER-Chart'!$B:$G,5,FALSE),\nVLOOKUP(J24,'(HIDE) MASTER-Chart'!$M:$R,5,FALSE)),\"\")","v":70814},"(9)",{"$f":"IFERROR(\nIF($W$1='(HIDE) MASTER-Chart'!$J$2,\nVLOOKUP(L24,'(HIDE) MASTER-Chart'!$B:$G,5,FALSE),\nVLOOKUP(L24,'(HIDE) MASTER-Chart'!$M:$R,5,FALSE)),\"\")","v":73196},"(10)"]
["12 - 13",6,null,7,null,7,null,7,null,7,null,8,null,"2 STEP",{"$f":"IFERROR(\nIF($W$1='(HIDE) MASTER-Chart'!$J$2,\nVLOOKUP(B25,'(HIDE) MASTER-Chart'!$B:$G,5,FALSE),\nVLOOKUP(B25,'(HIDE) MASTER-Chart'!$M:$R,5,FALSE)),\"\")","v":63845},"(6)",{"$f":"IFERROR(\nIF($W$1='(HIDE) MASTER-Chart'!$J$2,\nVLOOKUP(D25,'(HIDE) MASTER-Chart'!$B:$G,5,FALSE),\nVLOOKUP(D25,'(HIDE) MASTER-Chart'!$M:$R,5,FALSE)),\"\")","v":66178},"(7)",{"$f":"IFERROR(\nIF($W$1='(HIDE) MASTER-Chart'!$J$2,\nVLOOKUP(F25,'(HIDE) MASTER-Chart'!$B:$G,5,FALSE),\nVLOOKUP(F25,'(HIDE) MASTER-Chart'!$M:$R,5,FALSE)),\"\")","v":66178},"(7)",{"$f":"IFERROR(\nIF($W$1='(HIDE) MASTER-Chart'!$J$2,\nVLOOKUP(H25,'(HIDE) MASTER-Chart'!$B:$G,5,FALSE),\nVLOOKUP(H25,'(HIDE) MASTER-Chart'!$M:$R,5,FALSE)),\"\")","v":66178},"(7)",{"$f":"IFERROR(\nIF($W$1='(HIDE) MASTER-Chart'!$J$2,\nVLOOKUP(J25,'(HIDE) MASTER-Chart'!$B:$G,5,FALSE),\nVLOOKUP(J25,'(HIDE) MASTER-Chart'!$M:$R,5,FALSE)),\"\")","v":66178},"(7)",{"$f":"IFERROR(\nIF($W$1='(HIDE) MASTER-Chart'!$J$2,\nVLOOKUP(L25,'(HIDE) MASTER-Chart'!$B:$G,5,FALSE),\nVLOOKUP(L25,'(HIDE) MASTER-Chart'!$M:$R,5,FALSE)),\"\")","v":68518},"(8)"]
[null,null,null,null,null,null,null,null,null,null,null,null,null," ",{"$f":"IF(ISERROR(VLOOKUP(B26,'(HIDE) MASTER-Chart'!$B:$G,5,FALSE)),\"\",VLOOKUP(B26,'(HIDE) MASTER-Chart'!$B:$G,5,FALSE))","v":""},"",{"$f":"IF(ISERROR(VLOOKUP(D26,'(HIDE) MASTER-Chart'!$B:$G,5,FALSE)),\"\",VLOOKUP(D26,'(HIDE) MASTER-Chart'!$B:$G,5,FALSE))","v":""},"",{"$f":"IF(ISERROR(VLOOKUP(F26,'(HIDE) MASTER-Chart'!$B:$G,5,FALSE)),\"\",VLOOKUP(F26,'(HIDE) MASTER-Chart'!$B:$G,5,FALSE))","v":""},"",{"$f":"IF(ISERROR(VLOOKUP(H26,'(HIDE) MASTER-Chart'!$B:$G,5,FALSE)),\"\",VLOOKUP(H26,'(HIDE) MASTER-Chart'!$B:$G,5,FALSE))","v":""},"",{"$f":"IF(ISERROR(VLOOKUP(J26,'(HIDE) MASTER-Chart'!$B:$G,5,FALSE)),\"\",VLOOKUP(J26,'(HIDE) MASTER-Chart'!$B:$G,5,FALSE))","v":""},"",{"$f":"IF(ISERROR(VLOOKUP(L26,'(HIDE) MASTER-Chart'!$B:$G,5,FALSE)),\"\",VLOOKUP(L26,'(HIDE) MASTER-Chart'!$B:$G,5,FALSE))","v":""},""]
[null,9,null,9,null,9,null,10,null,10,null,10,null,"TARGET",{"$f":"IFERROR(\nIF($W$1='(HIDE) MASTER-Chart'!$J$2,\nVLOOKUP(B27,'(HIDE) MASTER-Chart'!$B:$G,5,FALSE),\nVLOOKUP(B27,'(HIDE) MASTER-Chart'!$M:$R,5,FALSE)),\"\")","v":70814},"(9)",{"$f":"IFERROR(\nIF($W$1='(HIDE) MASTER-Chart'!$J$2,\nVLOOKUP(D27,'(HIDE) MASTER-Chart'!$B:$G,5,FALSE),\nVLOOKUP(D27,'(HIDE) MASTER-Chart'!$M:$R,5,FALSE)),\"\")","v":70814},"(9)",{"$f":"IFERROR(\nIF($W$1='(HIDE) MASTER-Chart'!$J$2,\nVLOOKUP(F27,'(HIDE) MASTER-Chart'!$B:$G,5,FALSE),\nVLOOKUP(F27,'(HIDE) MASTER-Chart'!$M:$R,5,FALSE)),\"\")","v":70814},"(9)",{"$f":"IFERROR(\nIF($W$1='(HIDE) MASTER-Chart'!$J$2,\nVLOOKUP(H27,'(HIDE) MASTER-Chart'!$B:$G,5,FALSE),\nVLOOKUP(H27,'(HIDE) MASTER-Chart'!$M:$R,5,FALSE)),\"\")","v":73196},"(10)",{"$f":"IFERROR(\nIF($W$1='(HIDE) MASTER-Chart'!$J$2,\nVLOOKUP(J27,'(HIDE) MASTER-Chart'!$B:$G,5,FALSE),\nVLOOKUP(J27,'(HIDE) MASTER-Chart'!$M:$R,5,FALSE)),\"\")","v":73196},"(10)",{"$f":"IFERROR(\nIF($W$1='(HIDE) MASTER-Chart'!$J$2,\nVLOOKUP(L27,'(HIDE) MASTER-Chart'!$B:$G,5,FALSE),\nVLOOKUP(L27,'(HIDE) MASTER-Chart'!$M:$R,5,FALSE)),\"\")","v":73196},"(10)"]
["14 - 15",7,null,7,null,7,null,8,null,8,null,8,null,"2 STEP",{"$f":"IFERROR(\nIF($W$1='(HIDE) MASTER-Chart'!$J$2,\nVLOOKUP(B28,'(HIDE) MASTER-Chart'!$B:$G,5,FALSE),\nVLOOKUP(B28,'(HIDE) MASTER-Chart'!$M:$R,5,FALSE)),\"\")","v":66178},"(7)",{"$f":"IFERROR(\nIF($W$1='(HIDE) MASTER-Chart'!$J$2,\nVLOOKUP(D28,'(HIDE) MASTER-Chart'!$B:$G,5,FALSE),\nVLOOKUP(D28,'(HIDE) MASTER-Chart'!$M:$R,5,FALSE)),\"\")","v":66178},"(7)",{"$f":"IFERROR(\nIF($W$1='(HIDE) MASTER-Chart'!$J$2,\nVLOOKUP(F28,'(HIDE) MASTER-Chart'!$B:$G,5,FALSE),\nVLOOKUP(F28,'(HIDE) MASTER-Chart'!$M:$R,5,FALSE)),\"\")","v":66178},"(7)",{"$f":"IFERROR(\nIF($W$1='(HIDE) MASTER-Chart'!$J$2,\nVLOOKUP(H28,'(HIDE) MASTER-Chart'!$B:$G,5,FALSE),\nVLOOKUP(H28,'(HIDE) MASTER-Chart'!$M:$R,5,FALSE)),\"\")","v":68518},"(8)",{"$f":"IFERROR(\nIF($W$1='(HIDE) MASTER-Chart'!$J$2,\nVLOOKUP(J28,'(HIDE) MASTER-Chart'!$B:$G,5,FALSE),\nVLOOKUP(J28,'(HIDE) MASTER-Chart'!$M:$R,5,FALSE)),\"\")","v":68518},"(8)",{"$f":"IFERROR(\nIF($W$1='(HIDE) MASTER-Chart'!$J$2,\nVLOOKUP(L28,'(HIDE) MASTER-Chart'!$B:$G,5,FALSE),\nVLOOKUP(L28,'(HIDE) MASTER-Chart'!$M:$R,5,FALSE)),\"\")","v":68518},"(8)"]
[null,null,null,null,null,null,null,null,null,null,null,null,null," ",{"$f":"IF(ISERROR(VLOOKUP(B29,'(HIDE) MASTER-Chart'!$B:$G,5,FALSE)),\"\",VLOOKUP(B29,'(HIDE) MASTER-Chart'!$B:$G,5,FALSE))","v":""},"",{"$f":"IF(ISERROR(VLOOKUP(D29,'(HIDE) MASTER-Chart'!$B:$G,5,FALSE)),\"\",VLOOKUP(D29,'(HIDE) MASTER-Chart'!$B:$G,5,FALSE))","v":""},"",{"$f":"IF(ISERROR(VLOOKUP(F29,'(HIDE) MASTER-Chart'!$B:$G,5,FALSE)),\"\",VLOOKUP(F29,'(HIDE) MASTER-Chart'!$B:$G,5,FALSE))","v":""},"",{"$f":"IF(ISERROR(VLOOKUP(H29,'(HIDE) MASTER-Chart'!$B:$G,5,FALSE)),\"\",VLOOKUP(H29,'(HIDE) MASTER-Chart'!$B:$G,5,FALSE))","v":""},"",{"$f":"IF(ISERROR(VLOOKUP(J29,'(HIDE) MASTER-Chart'!$B:$G,5,FALSE)),\"\",VLOOKUP(J29,'(HIDE) MASTER-Chart'!$B:$G,5,FALSE))","v":""},"",{"$f":"IF(ISERROR(VLOOKUP(L29,'(HIDE) MASTER-Chart'!$B:$G,5,FALSE)),\"\",VLOOKUP(L29,'(HIDE) MASTER-Chart'!$B:$G,5,FALSE))","v":""},""]
[null,9,null,10,null,10,null,10,null,10,null,11,null,"TARGET",{"$f":"IFERROR(\nIF($W$1='(HIDE) MASTER-Chart'!$J$2,\nVLOOKUP(B30,'(HIDE) MASTER-Chart'!$B:$G,5,FALSE),\nVLOOKUP(B30,'(HIDE) MASTER-Chart'!$M:$R,5,FALSE)),\"\")","v":70814},"(9)",{"$f":"IFERROR(\nIF($W$1='(HIDE) MASTER-Chart'!$J$2,\nVLOOKUP(D30,'(HIDE) MASTER-Chart'!$B:$G,5,FALSE),\nVLOOKUP(D30,'(HIDE) MASTER-Chart'!$M:$R,5,FALSE)),\"\")","v":73196},"(10)",{"$f":"IFERROR(\nIF($W$1='(HIDE) MASTER-Chart'!$J$2,\nVLOOKUP(F30,'(HIDE) MASTER-Chart'!$B:$G,5,FALSE),\nVLOOKUP(F30,'(HIDE) MASTER-Chart'!$M:$R,5,FALSE)),\"\")","v":73196},"(10)",{"$f":"IFERROR(\nIF($W$1='(HIDE) MASTER-Chart'!$J$2,\nVLOOKUP(H30,'(HIDE) MASTER-Chart'!$B:$G,5,FALSE),\nVLOOKUP(H30,'(HIDE) MASTER-Chart'!$M:$R,5,FALSE)),\"\")","v":73196},"(10)",{"$f":"IFERROR(\nIF($W$1='(HIDE) MASTER-Chart'!$J$2,\nVLOOKUP(J30,'(HIDE) MASTER-Chart'!$B:$G,5,FALSE),\nVLOOKUP(J30,'(HIDE) MASTER-Chart'!$M:$R,5,FALSE)),\"\")","v":73196},"(10)",{"$f":"IFERROR(\nIF($W$1='(HIDE) MASTER-Chart'!$J$2,\nVLOOKUP(L30,'(HIDE) MASTER-Chart'!$B:$G,5,FALSE),\nVLOOKUP(L30,'(HIDE) MASTER-Chart'!$M:$R,5,FALSE)),\"\")","v":75658},"(11)"]
["16 - 17",7,null,8,null,8,null,8,null,8,null,9,null,"2 STEP",{"$f":"IFERROR(\nIF($W$1='(HIDE) MASTER-Chart'!$J$2,\nVLOOKUP(B31,'(HIDE) MASTER-Chart'!$B:$G,5,FALSE),\nVLOOKUP(B31,'(HIDE) MASTER-Chart'!$M:$R,5,FALSE)),\"\")","v":66178},"(7)",{"$f":"IFERROR(\nIF($W$1='(HIDE) MASTER-Chart'!$J$2,\nVLOOKUP(D31,'(HIDE) MASTER-Chart'!$B:$G,5,FALSE),\nVLOOKUP(D31,'(HIDE) MASTER-Chart'!$M:$R,5,FALSE)),\"\")","v":68518},"(8)",{"$f":"IFERROR(\nIF($W$1='(HIDE) MASTER-Chart'!$J$2,\nVLOOKUP(F31,'(HIDE) MASTER-Chart'!$B:$G,5,FALSE),\nVLOOKUP(F31,'(HIDE) MASTER-Chart'!$M:$R,5,FALSE)),\"\")","v":68518},"(8)",{"$f":"IFERROR(\nIF($W$1='(HIDE) MASTER-Chart'!$J$2,\nVLOOKUP(H31,'(HIDE) MASTER-Chart'!$B:$G,5,FALSE),\nVLOOKUP(H31,'(HIDE) MASTER-Chart'!$M:$R,5,FALSE)),\"\")","v":68518},"(8)",{"$f":"IFERROR(\nIF($W$1='(HIDE) MASTER-Chart'!$J$2,\nVLOOKUP(J31,'(HIDE) MASTER-Chart'!$B:$G,5,FALSE),\nVLOOKUP(J31,'(HIDE) MASTER-Chart'!$M:$R,5,FALSE)),\"\")","v":68518},"(8)",{"$f":"IFERROR(\nIF($W$1='(HIDE) MASTER-Chart'!$J$2,\nVLOOKUP(L31,'(HIDE) MASTER-Chart'!$B:$G,5,FALSE),\nVLOOKUP(L31,'(HIDE) MASTER-Chart'!$M:$R,5,FALSE)),\"\")","v":70814},"(9)"]
[null,null,null,null,null,null,null,null,null,null,null,null,null," ",{"$f":"IF(ISERROR(VLOOKUP(B32,'(HIDE) MASTER-Chart'!$B:$G,5,FALSE)),\"\",VLOOKUP(B32,'(HIDE) MASTER-Chart'!$B:$G,5,FALSE))","v":""},"",{"$f":"IF(ISERROR(VLOOKUP(D32,'(HIDE) MASTER-Chart'!$B:$G,5,FALSE)),\"\",VLOOKUP(D32,'(HIDE) MASTER-Chart'!$B:$G,5,FALSE))","v":""},"",{"$f":"IF(ISERROR(VLOOKUP(F32,'(HIDE) MASTER-Chart'!$B:$G,5,FALSE)),\"\",VLOOKUP(F32,'(HIDE) MASTER-Chart'!$B:$G,5,FALSE))","v":""},"",{"$f":"IF(ISERROR(VLOOKUP(H32,'(HIDE) MASTER-Chart'!$B:$G,5,FALSE)),\"\",VLOOKUP(H32,'(HIDE) MASTER-Chart'!$B:$G,5,FALSE))","v":""},"",{"$f":"IF(ISERROR(VLOOKUP(J32,'(HIDE) MASTER-Chart'!$B:$G,5,FALSE)),\"\",VLOOKUP(J32,'(HIDE) MASTER-Chart'!$B:$G,5,FALSE))","v":""},"",{"$f":"IF(ISERROR(VLOOKUP(L32,'(HIDE) MASTER-Chart'!$B:$G,5,FALSE)),\"\",VLOOKUP(L32,'(HIDE) MASTER-Chart'!$B:$G,5,FALSE))","v":""},""]
[null,10,null,10,null,10,null,11,null,11,null,11,null,"TARGET",{"$f":"IFERROR(\nIF($W$1='(HIDE) MASTER-Chart'!$J$2,\nVLOOKUP(B33,'(HIDE) MASTER-Chart'!$B:$G,5,FALSE),\nVLOOKUP(B33,'(HIDE) MASTER-Chart'!$M:$R,5,FALSE)),\"\")","v":73196},"(10)",{"$f":"IFERROR(\nIF($W$1='(HIDE) MASTER-Chart'!$J$2,\nVLOOKUP(D33,'(HIDE) MASTER-Chart'!$B:$G,5,FALSE),\nVLOOKUP(D33,'(HIDE) MASTER-Chart'!$M:$R,5,FALSE)),\"\")","v":73196},"(10)",{"$f":"IFERROR(\nIF($W$1='(HIDE) MASTER-Chart'!$J$2,\nVLOOKUP(F33,'(HIDE) MASTER-Chart'!$B:$G,5,FALSE),\nVLOOKUP(F33,'(HIDE) MASTER-Chart'!$M:$R,5,FALSE)),\"\")","v":73196},"(10)",{"$f":"IFERROR(\nIF($W$1='(HIDE) MASTER-Chart'!$J$2,\nVLOOKUP(H33,'(HIDE) MASTER-Chart'!$B:$G,5,FALSE),\nVLOOKUP(H33,'(HIDE) MASTER-Chart'!$M:$R,5,FALSE)),\"\")","v":75658},"(11)",{"$f":"IFERROR(\nIF($W$1='(HIDE) MASTER-Chart'!$J$2,\nVLOOKUP(J33,'(HIDE) MASTER-Chart'!$B:$G,5,FALSE),\nVLOOKUP(J33,'(HIDE) MASTER-Chart'!$M:$R,5,FALSE)),\"\")","v":75658},"(11)",{"$f":"IFERROR(\nIF($W$1='(HIDE) MASTER-Chart'!$J$2,\nVLOOKUP(L33,'(HIDE) MASTER-Chart'!$B:$G,5,FALSE),\nVLOOKUP(L33,'(HIDE) MASTER-Chart'!$M:$R,5,FALSE)),\"\")","v":75658},"(11)"]
["18 - 19",8,null,8,null,8,null,9,null,9,null,9,null,"2 STEP",{"$f":"IFERROR(\nIF($W$1='(HIDE) MASTER-Chart'!$J$2,\nVLOOKUP(B34,'(HIDE) MASTER-Chart'!$B:$G,5,FALSE),\nVLOOKUP(B34,'(HIDE) MASTER-Chart'!$M:$R,5,FALSE)),\"\")","v":68518},"(8)",{"$f":"IFERROR(\nIF($W$1='(HIDE) MASTER-Chart'!$J$2,\nVLOOKUP(D34,'(HIDE) MASTER-Chart'!$B:$G,5,FALSE),\nVLOOKUP(D34,'(HIDE) MASTER-Chart'!$M:$R,5,FALSE)),\"\")","v":68518},"(8)",{"$f":"IFERROR(\nIF($W$1='(HIDE) MASTER-Chart'!$J$2,\nVLOOKUP(F34,'(HIDE) MASTER-Chart'!$B:$G,5,FALSE),\nVLOOKUP(F34,'(HIDE) MASTER-Chart'!$M:$R,5,FALSE)),\"\")","v":68518},"(8)",{"$f":"IFERROR(\nIF($W$1='(HIDE) MASTER-Chart'!$J$2,\nVLOOKUP(H34,'(HIDE) MASTER-Chart'!$B:$G,5,FALSE),\nVLOOKUP(H34,'(HIDE) MASTER-Chart'!$M:$R,5,FALSE)),\"\")","v":70814},"(9)",{"$f":"IFERROR(\nIF($W$1='(HIDE) MASTER-Chart'!$J$2,\nVLOOKUP(J34,'(HIDE) MASTER-Chart'!$B:$G,5,FALSE),\nVLOOKUP(J34,'(HIDE) MASTER-Chart'!$M:$R,5,FALSE)),\"\")","v":70814},"(9)",{"$f":"IFERROR(\nIF($W$1='(HIDE) MASTER-Chart'!$J$2,\nVLOOKUP(L34,'(HIDE) MASTER-Chart'!$B:$G,5,FALSE),\nVLOOKUP(L34,'(HIDE) MASTER-Chart'!$M:$R,5,FALSE)),\"\")","v":70814},"(9)"]
[null,null,null,null,null,null,null,null,null,null,null,null,null," ",{"$f":"IF(ISERROR(VLOOKUP(B35,'(HIDE) MASTER-Chart'!$B:$G,5,FALSE)),\"\",VLOOKUP(B35,'(HIDE) MASTER-Chart'!$B:$G,5,FALSE))","v":""},"",{"$f":"IF(ISERROR(VLOOKUP(D35,'(HIDE) MASTER-Chart'!$B:$G,5,FALSE)),\"\",VLOOKUP(D35,'(HIDE) MASTER-Chart'!$B:$G,5,FALSE))","v":""},"",{"$f":"IF(ISERROR(VLOOKUP(F35,'(HIDE) MASTER-Chart'!$B:$G,5,FALSE)),\"\",VLOOKUP(F35,'(HIDE) MASTER-Chart'!$B:$G,5,FALSE))","v":""},"",{"$f":"IF(ISERROR(VLOOKUP(H35,'(HIDE) MASTER-Chart'!$B:$G,5,FALSE)),\"\",VLOOKUP(H35,'(HIDE) MASTER-Chart'!$B:$G,5,FALSE))","v":""},"",{"$f":"IF(ISERROR(VLOOKUP(J35,'(HIDE) MASTER-Chart'!$B:$G,5,FALSE)),\"\",VLOOKUP(J35,'(HIDE) MASTER-Chart'!$B:$G,5,FALSE))","v":""},"",{"$f":"IF(ISERROR(VLOOKUP(L35,'(HIDE) MASTER-Chart'!$B:$G,5,FALSE)),\"\",VLOOKUP(L35,'(HIDE) MASTER-Chart'!$B:$G,5,FALSE))","v":""},""]
[null,10,null,10,null,11,null,11,null,11,null,12,null,"TARGET",{"$f":"IFERROR(\nIF($W$1='(HIDE) MASTER-Chart'!$J$2,\nVLOOKUP(B36,'(HIDE) MASTER-Chart'!$B:$G,5,FALSE),\nVLOOKUP(B36,'(HIDE) MASTER-Chart'!$M:$R,5,FALSE)),\"\")","v":73196},"(10)",{"$f":"IFERROR(\nIF($W$1='(HIDE) MASTER-Chart'!$J$2,\nVLOOKUP(D36,'(HIDE) MASTER-Chart'!$B:$G,5,FALSE),\nVLOOKUP(D36,'(HIDE) MASTER-Chart'!$M:$R,5,FALSE)),\"\")","v":73196},"(10)",{"$f":"IFERROR(\nIF($W$1='(HIDE) MASTER-Chart'!$J$2,\nVLOOKUP(F36,'(HIDE) MASTER-Chart'!$B:$G,5,FALSE),\nVLOOKUP(F36,'(HIDE) MASTER-Chart'!$M:$R,5,FALSE)),\"\")","v":75658},"(11)",{"$f":"IFERROR(\nIF($W$1='(HIDE) MASTER-Chart'!$J$2,\nVLOOKUP(H36,'(HIDE) MASTER-Chart'!$B:$G,5,FALSE),\nVLOOKUP(H36,'(HIDE) MASTER-Chart'!$M:$R,5,FALSE)),\"\")","v":75658},"(11)",{"$f":"IFERROR(\nIF($W$1='(HIDE) MASTER-Chart'!$J$2,\nVLOOKUP(J36,'(HIDE) MASTER-Chart'!$B:$G,5,FALSE),\nVLOOKUP(J36,'(HIDE) MASTER-Chart'!$M:$R,5,FALSE)),\"\")","v":75658},"(11)",{"$f":"IFERROR(\nIF($W$1='(HIDE) MASTER-Chart'!$J$2,\nVLOOKUP(L36,'(HIDE) MASTER-Chart'!$B:$G,5,FALSE),\nVLOOKUP(L36,'(HIDE) MASTER-Chart'!$M:$R,5,FALSE)),\"\")","v":78202},"(12)"]
["20 - 21",8,null,8,null,9,null,9,null,9,null,10,null,"2 STEP",{"$f":"IFERROR(\nIF($W$1='(HIDE) MASTER-Chart'!$J$2,\nVLOOKUP(B37,'(HIDE) MASTER-Chart'!$B:$G,5,FALSE),\nVLOOKUP(B37,'(HIDE) MASTER-Chart'!$M:$R,5,FALSE)),\"\")","v":68518},"(8)",{"$f":"IFERROR(\nIF($W$1='(HIDE) MASTER-Chart'!$J$2,\nVLOOKUP(D37,'(HIDE) MASTER-Chart'!$B:$G,5,FALSE),\nVLOOKUP(D37,'(HIDE) MASTER-Chart'!$M:$R,5,FALSE)),\"\")","v":68518},"(8)",{"$f":"IFERROR(\nIF($W$1='(HIDE) MASTER-Chart'!$J$2,\nVLOOKUP(F37,'(HIDE) MASTER-Chart'!$B:$G,5,FALSE),\nVLOOKUP(F37,'(HIDE) MASTER-Chart'!$M:$R,5,FALSE)),\"\")","v":70814},"(9)",{"$f":"IFERROR(\nIF($W$1='(HIDE) MASTER-Chart'!$J$2,\nVLOOKUP(H37,'(HIDE) MASTER-Chart'!$B:$G,5,FALSE),\nVLOOKUP(H37,'(HIDE) MASTER-Chart'!$M:$R,5,FALSE)),\"\")","v":70814},"(9)",{"$f":"IFERROR(\nIF($W$1='(HIDE) MASTER-Chart'!$J$2,\nVLOOKUP(J37,'(HIDE) MASTER-Chart'!$B:$G,5,FALSE),\nVLOOKUP(J37,'(HIDE) MASTER-Chart'!$M:$R,5,FALSE)),\"\")","v":70814},"(9)",{"$f":"IFERROR(\nIF($W$1='(HIDE) MASTER-Chart'!$J$2,\nVLOOKUP(L37,'(HIDE) MASTER-Chart'!$B:$G,5,FALSE),\nVLOOKUP(L37,'(HIDE) MASTER-Chart'!$M:$R,5,FALSE)),\"\")","v":73196},"(10)"]
[null,null,null,null,null,null,null,null,null,null,null,null,null," ",{"$f":"IF(ISERROR(VLOOKUP(B38,'(HIDE) MASTER-Chart'!$B:$G,5,FALSE)),\"\",VLOOKUP(B38,'(HIDE) MASTER-Chart'!$B:$G,5,FALSE))","v":""},"",{"$f":"IF(ISERROR(VLOOKUP(D38,'(HIDE) MASTER-Chart'!$B:$G,5,FALSE)),\"\",VLOOKUP(D38,'(HIDE) MASTER-Chart'!$B:$G,5,FALSE))","v":""},"",{"$f":"IF(ISERROR(VLOOKUP(F38,'(HIDE) MASTER-Chart'!$B:$G,5,FALSE)),\"\",VLOOKUP(F38,'(HIDE) MASTER-Chart'!$B:$G,5,FALSE))","v":""},"",{"$f":"IF(ISERROR(VLOOKUP(H38,'(HIDE) MASTER-Chart'!$B:$G,5,FALSE)),\"\",VLOOKUP(H38,'(HIDE) MASTER-Chart'!$B:$G,5,FALSE))","v":""},"",{"$f":"IF(ISERROR(VLOOKUP(J38,'(HIDE) MASTER-Chart'!$B:$G,5,FALSE)),\"\",VLOOKUP(J38,'(HIDE) MASTER-Chart'!$B:$G,5,FALSE))","v":""},"",{"$f":"IF(ISERROR(VLOOKUP(L38,'(HIDE) MASTER-Chart'!$B:$G,5,FALSE)),\"\",VLOOKUP(L38,'(HIDE) MASTER-Chart'!$B:$G,5,FALSE))","v":""},""]
[null,11,null,11,null,11,null,11,null,12,null,12,null,"TARGET",{"$f":"IFERROR(\nIF($W$1='(HIDE) MASTER-Chart'!$J$2,\nVLOOKUP(B39,'(HIDE) MASTER-Chart'!$B:$G,5,FALSE),\nVLOOKUP(B39,'(HIDE) MASTER-Chart'!$M:$R,5,FALSE)),\"\")","v":75658},"(11)",{"$f":"IFERROR(\nIF($W$1='(HIDE) MASTER-Chart'!$J$2,\nVLOOKUP(D39,'(HIDE) MASTER-Chart'!$B:$G,5,FALSE),\nVLOOKUP(D39,'(HIDE) MASTER-Chart'!$M:$R,5,FALSE)),\"\")","v":75658},"(11)",{"$f":"IFERROR(\nIF($W$1='(HIDE) MASTER-Chart'!$J$2,\nVLOOKUP(F39,'(HIDE) MASTER-Chart'!$B:$G,5,FALSE),\nVLOOKUP(F39,'(HIDE) MASTER-Chart'!$M:$R,5,FALSE)),\"\")","v":75658},"(11)",{"$f":"IFERROR(\nIF($W$1='(HIDE) MASTER-Chart'!$J$2,\nVLOOKUP(H39,'(HIDE) MASTER-Chart'!$B:$G,5,FALSE),\nVLOOKUP(H39,'(HIDE) MASTER-Chart'!$M:$R,5,FALSE)),\"\")","v":75658},"(11)",{"$f":"IFERROR(\nIF($W$1='(HIDE) MASTER-Chart'!$J$2,\nVLOOKUP(J39,'(HIDE) MASTER-Chart'!$B:$G,5,FALSE),\nVLOOKUP(J39,'(HIDE) MASTER-Chart'!$M:$R,5,FALSE)),\"\")","v":78202},"(12)",{"$f":"IFERROR(\nIF($W$1='(HIDE) MASTER-Chart'!$J$2,\nVLOOKUP(L39,'(HIDE) MASTER-Chart'!$B:$G,5,FALSE),\nVLOOKUP(L39,'(HIDE) MASTER-Chart'!$M:$R,5,FALSE)),\"\")","v":78202},"(12)"]
["22 - 23",9,null,9,null,9,null,9,null,10,null,10,null,"2 STEP",{"$f":"IFERROR(\nIF($W$1='(HIDE) MASTER-Chart'!$J$2,\nVLOOKUP(B40,'(HIDE) MASTER-Chart'!$B:$G,5,FALSE),\nVLOOKUP(B40,'(HIDE) MASTER-Chart'!$M:$R,5,FALSE)),\"\")","v":70814},"(9)",{"$f":"IFERROR(\nIF($W$1='(HIDE) MASTER-Chart'!$J$2,\nVLOOKUP(D40,'(HIDE) MASTER-Chart'!$B:$G,5,FALSE),\nVLOOKUP(D40,'(HIDE) MASTER-Chart'!$M:$R,5,FALSE)),\"\")","v":70814},"(9)",{"$f":"IFERROR(\nIF($W$1='(HIDE) MASTER-Chart'!$J$2,\nVLOOKUP(F40,'(HIDE) MASTER-Chart'!$B:$G,5,FALSE),\nVLOOKUP(F40,'(HIDE) MASTER-Chart'!$M:$R,5,FALSE)),\"\")","v":70814},"(9)",{"$f":"IFERROR(\nIF($W$1='(HIDE) MASTER-Chart'!$J$2,\nVLOOKUP(H40,'(HIDE) MASTER-Chart'!$B:$G,5,FALSE),\nVLOOKUP(H40,'(HIDE) MASTER-Chart'!$M:$R,5,FALSE)),\"\")","v":70814},"(9)",{"$f":"IFERROR(\nIF($W$1='(HIDE) MASTER-Chart'!$J$2,\nVLOOKUP(J40,'(HIDE) MASTER-Chart'!$B:$G,5,FALSE),\nVLOOKUP(J40,'(HIDE) MASTER-Chart'!$M:$R,5,FALSE)),\"\")","v":73196},"(10)",{"$f":"IFERROR(\nIF($W$1='(HIDE) MASTER-Chart'!$J$2,\nVLOOKUP(L40,'(HIDE) MASTER-Chart'!$B:$G,5,FALSE),\nVLOOKUP(L40,'(HIDE) MASTER-Chart'!$M:$R,5,FALSE)),\"\")","v":73196},"(10)"]
[null,null,null,null,null,null,null,null,null,null,null,null,null," ",{"$f":"IF(ISERROR(VLOOKUP(B41,'(HIDE) MASTER-Chart'!$B:$G,5,FALSE)),\"\",VLOOKUP(B41,'(HIDE) MASTER-Chart'!$B:$G,5,FALSE))","v":""},"",{"$f":"IF(ISERROR(VLOOKUP(D41,'(HIDE) MASTER-Chart'!$B:$G,5,FALSE)),\"\",VLOOKUP(D41,'(HIDE) MASTER-Chart'!$B:$G,5,FALSE))","v":""},"",{"$f":"IF(ISERROR(VLOOKUP(F41,'(HIDE) MASTER-Chart'!$B:$G,5,FALSE)),\"\",VLOOKUP(F41,'(HIDE) MASTER-Chart'!$B:$G,5,FALSE))","v":""},"",{"$f":"IF(ISERROR(VLOOKUP(H41,'(HIDE) MASTER-Chart'!$B:$G,5,FALSE)),\"\",VLOOKUP(H41,'(HIDE) MASTER-Chart'!$B:$G,5,FALSE))","v":""},"",{"$f":"IF(ISERROR(VLOOKUP(J41,'(HIDE) MASTER-Chart'!$B:$G,5,FALSE)),\"\",VLOOKUP(J41,'(HIDE) MASTER-Chart'!$B:$G,5,FALSE))","v":""},"",{"$f":"IF(ISERROR(VLOOKUP(L41,'(HIDE) MASTER-Chart'!$B:$G,5,FALSE)),\"\",VLOOKUP(L41,'(HIDE) MASTER-Chart'!$B:$G,5,FALSE))","v":""},""]
[null,11,null,11,null,12,null,12,null,12,null,12,null,"TARGET",{"$f":"IFERROR(\nIF($W$1='(HIDE) MASTER-Chart'!$J$2,\nVLOOKUP(B42,'(HIDE) MASTER-Chart'!$B:$G,5,FALSE),\nVLOOKUP(B42,'(HIDE) MASTER-Chart'!$M:$R,5,FALSE)),\"\")","v":75658},"(11)",{"$f":"IFERROR(\nIF($W$1='(HIDE) MASTER-Chart'!$J$2,\nVLOOKUP(D42,'(HIDE) MASTER-Chart'!$B:$G,5,FALSE),\nVLOOKUP(D42,'(HIDE) MASTER-Chart'!$M:$R,5,FALSE)),\"\")","v":75658},"(11)",{"$f":"IFERROR(\nIF($W$1='(HIDE) MASTER-Chart'!$J$2,\nVLOOKUP(F42,'(HIDE) MASTER-Chart'!$B:$G,5,FALSE),\nVLOOKUP(F42,'(HIDE) MASTER-Chart'!$M:$R,5,FALSE)),\"\")","v":78202},"(12)",{"$f":"IFERROR(\nIF($W$1='(HIDE) MASTER-Chart'!$J$2,\nVLOOKUP(H42,'(HIDE) MASTER-Chart'!$B:$G,5,FALSE),\nVLOOKUP(H42,'(HIDE) MASTER-Chart'!$M:$R,5,FALSE)),\"\")","v":78202},"(12)",{"$f":"IFERROR(\nIF($W$1='(HIDE) MASTER-Chart'!$J$2,\nVLOOKUP(J42,'(HIDE) MASTER-Chart'!$B:$G,5,FALSE),\nVLOOKUP(J42,'(HIDE) MASTER-Chart'!$M:$R,5,FALSE)),\"\")","v":78202},"(12)",{"$f":"IFERROR(\nIF($W$1='(HIDE) MASTER-Chart'!$J$2,\nVLOOKUP(L42,'(HIDE) MASTER-Chart'!$B:$G,5,FALSE),\nVLOOKUP(L42,'(HIDE) MASTER-Chart'!$M:$R,5,FALSE)),\"\")","v":78202},"(12)"]
["24 - 25",9,null,9,null,10,null,10,null,10,null,10,null,"2 STEP",{"$f":"IFERROR(\nIF($W$1='(HIDE) MASTER-Chart'!$J$2,\nVLOOKUP(B43,'(HIDE) MASTER-Chart'!$B:$G,5,FALSE),\nVLOOKUP(B43,'(HIDE) MASTER-Chart'!$M:$R,5,FALSE)),\"\")","v":70814},"(9)",{"$f":"IFERROR(\nIF($W$1='(HIDE) MASTER-Chart'!$J$2,\nVLOOKUP(D43,'(HIDE) MASTER-Chart'!$B:$G,5,FALSE),\nVLOOKUP(D43,'(HIDE) MASTER-Chart'!$M:$R,5,FALSE)),\"\")","v":70814},"(9)",{"$f":"IFERROR(\nIF($W$1='(HIDE) MASTER-Chart'!$J$2,\nVLOOKUP(F43,'(HIDE) MASTER-Chart'!$B:$G,5,FALSE),\nVLOOKUP(F43,'(HIDE) MASTER-Chart'!$M:$R,5,FALSE)),\"\")","v":73196},"(10)",{"$f":"IFERROR(\nIF($W$1='(HIDE) MASTER-Chart'!$J$2,\nVLOOKUP(H43,'(HIDE) MASTER-Chart'!$B:$G,5,FALSE),\nVLOOKUP(H43,'(HIDE) MASTER-Chart'!$M:$R,5,FALSE)),\"\")","v":73196},"(10)",{"$f":"IFERROR(\nIF($W$1='(HIDE) MASTER-Chart'!$J$2,\nVLOOKUP(J43,'(HIDE) MASTER-Chart'!$B:$G,5,FALSE),\nVLOOKUP(J43,'(HIDE) MASTER-Chart'!$M:$R,5,FALSE)),\"\")","v":73196},"(10)",{"$f":"IFERROR(\nIF($W$1='(HIDE) MASTER-Chart'!$J$2,\nVLOOKUP(L43,'(HIDE) MASTER-Chart'!$B:$G,5,FALSE),\nVLOOKUP(L43,'(HIDE) MASTER-Chart'!$M:$R,5,FALSE)),\"\")","v":73196},"(10)"]
[null,null,null,null,null,null,null,null,null,null,null,null,null," ",{"$f":"IF(ISERROR(VLOOKUP(B44,'(HIDE) MASTER-Chart'!$B:$G,5,FALSE)),\"\",VLOOKUP(B44,'(HIDE) MASTER-Chart'!$B:$G,5,FALSE))","v":""},"",{"$f":"IF(ISERROR(VLOOKUP(D44,'(HIDE) MASTER-Chart'!$B:$G,5,FALSE)),\"\",VLOOKUP(D44,'(HIDE) MASTER-Chart'!$B:$G,5,FALSE))","v":""},"",{"$f":"IF(ISERROR(VLOOKUP(F44,'(HIDE) MASTER-Chart'!$B:$G,5,FALSE)),\"\",VLOOKUP(F44,'(HIDE) MASTER-Chart'!$B:$G,5,FALSE))","v":""},"",{"$f":"IF(ISERROR(VLOOKUP(H44,'(HIDE) MASTER-Chart'!$B:$G,5,FALSE)),\"\",VLOOKUP(H44,'(HIDE) MASTER-Chart'!$B:$G,5,FALSE))","v":""},"",{"$f":"IF(ISERROR(VLOOKUP(J44,'(HIDE) MASTER-Chart'!$B:$G,5,FALSE)),\"\",VLOOKUP(J44,'(HIDE) MASTER-Chart'!$B:$G,5,FALSE))","v":""},"",{"$f":"IF(ISERROR(VLOOKUP(L44,'(HIDE) MASTER-Chart'!$B:$G,5,FALSE)),\"\",VLOOKUP(L44,'(HIDE) MASTER-Chart'!$B:$G,5,FALSE))","v":""},""]
[null,11,null,12,null,12,null,12,null,12,null,13,null,"TARGET",{"$f":"IFERROR(\nIF($W$1='(HIDE) MASTER-Chart'!$J$2,\nVLOOKUP(B45,'(HIDE) MASTER-Chart'!$B:$G,5,FALSE),\nVLOOKUP(B45,'(HIDE) MASTER-Chart'!$M:$R,5,FALSE)),\"\")","v":75658},"(11)",{"$f":"IFERROR(\nIF($W$1='(HIDE) MASTER-Chart'!$J$2,\nVLOOKUP(D45,'(HIDE) MASTER-Chart'!$B:$G,5,FALSE),\nVLOOKUP(D45,'(HIDE) MASTER-Chart'!$M:$R,5,FALSE)),\"\")","v":78202},"(12)",{"$f":"IFERROR(\nIF($W$1='(HIDE) MASTER-Chart'!$J$2,\nVLOOKUP(F45,'(HIDE) MASTER-Chart'!$B:$G,5,FALSE),\nVLOOKUP(F45,'(HIDE) MASTER-Chart'!$M:$R,5,FALSE)),\"\")","v":78202},"(12)",{"$f":"IFERROR(\nIF($W$1='(HIDE) MASTER-Chart'!$J$2,\nVLOOKUP(H45,'(HIDE) MASTER-Chart'!$B:$G,5,FALSE),\nVLOOKUP(H45,'(HIDE) MASTER-Chart'!$M:$R,5,FALSE)),\"\")","v":78202},"(12)",{"$f":"IFERROR(\nIF($W$1='(HIDE) MASTER-Chart'!$J$2,\nVLOOKUP(J45,'(HIDE) MASTER-Chart'!$B:$G,5,FALSE),\nVLOOKUP(J45,'(HIDE) MASTER-Chart'!$M:$R,5,FALSE)),\"\")","v":78202},"(12)",{"$f":"IFERROR(\nIF($W$1='(HIDE) MASTER-Chart'!$J$2,\nVLOOKUP(L45,'(HIDE) MASTER-Chart'!$B:$G,5,FALSE),\nVLOOKUP(L45,'(HIDE) MASTER-Chart'!$M:$R,5,FALSE)),\"\")","v":80836},"(13)"]
["26 - 27",9,null,10,null,10,null,10,null,10,null,11,null,"2 STEP",{"$f":"IFERROR(\nIF($W$1='(HIDE) MASTER-Chart'!$J$2,\nVLOOKUP(B46,'(HIDE) MASTER-Chart'!$B:$G,5,FALSE),\nVLOOKUP(B46,'(HIDE) MASTER-Chart'!$M:$R,5,FALSE)),\"\")","v":70814},"(9)",{"$f":"IFERROR(\nIF($W$1='(HIDE) MASTER-Chart'!$J$2,\nVLOOKUP(D46,'(HIDE) MASTER-Chart'!$B:$G,5,FALSE),\nVLOOKUP(D46,'(HIDE) MASTER-Chart'!$M:$R,5,FALSE)),\"\")","v":73196},"(10)",{"$f":"IFERROR(\nIF($W$1='(HIDE) MASTER-Chart'!$J$2,\nVLOOKUP(F46,'(HIDE) MASTER-Chart'!$B:$G,5,FALSE),\nVLOOKUP(F46,'(HIDE) MASTER-Chart'!$M:$R,5,FALSE)),\"\")","v":73196},"(10)",{"$f":"IFERROR(\nIF($W$1='(HIDE) MASTER-Chart'!$J$2,\nVLOOKUP(H46,'(HIDE) MASTER-Chart'!$B:$G,5,FALSE),\nVLOOKUP(H46,'(HIDE) MASTER-Chart'!$M:$R,5,FALSE)),\"\")","v":73196},"(10)",{"$f":"IFERROR(\nIF($W$1='(HIDE) MASTER-Chart'!$J$2,\nVLOOKUP(J46,'(HIDE) MASTER-Chart'!$B:$G,5,FALSE),\nVLOOKUP(J46,'(HIDE) MASTER-Chart'!$M:$R,5,FALSE)),\"\")","v":73196},"(10)",{"$f":"IFERROR(\nIF($W$1='(HIDE) MASTER-Chart'!$J$2,\nVLOOKUP(L46,'(HIDE) MASTER-Chart'!$B:$G,5,FALSE),\nVLOOKUP(L46,'(HIDE) MASTER-Chart'!$M:$R,5,FALSE)),\"\")","v":75658},"(11)"]
[null,null,null,null,null,null,null,null,null,null,null,null,null," ",{"$f":"IF(ISERROR(VLOOKUP(B47,'(HIDE) MASTER-Chart'!$B:$G,5,FALSE)),\"\",VLOOKUP(B47,'(HIDE) MASTER-Chart'!$B:$G,5,FALSE))","v":""},"",{"$f":"IF(ISERROR(VLOOKUP(D47,'(HIDE) MASTER-Chart'!$B:$G,5,FALSE)),\"\",VLOOKUP(D47,'(HIDE) MASTER-Chart'!$B:$G,5,FALSE))","v":""},"",{"$f":"IF(ISERROR(VLOOKUP(F47,'(HIDE) MASTER-Chart'!$B:$G,5,FALSE)),\"\",VLOOKUP(F47,'(HIDE) MASTER-Chart'!$B:$G,5,FALSE))","v":""},"",{"$f":"IF(ISERROR(VLOOKUP(H47,'(HIDE) MASTER-Chart'!$B:$G,5,FALSE)),\"\",VLOOKUP(H47,'(HIDE) MASTER-Chart'!$B:$G,5,FALSE))","v":""},"",{"$f":"IF(ISERROR(VLOOKUP(J47,'(HIDE) MASTER-Chart'!$B:$G,5,FALSE)),\"\",VLOOKUP(J47,'(HIDE) MASTER-Chart'!$B:$G,5,FALSE))","v":""},"",{"$f":"IF(ISERROR(VLOOKUP(L47,'(HIDE) MASTER-Chart'!$B:$G,5,FALSE)),\"\",VLOOKUP(L47,'(HIDE) MASTER-Chart'!$B:$G,5,FALSE))","v":""},""]
[null,12,null,12,null,12,null,13,null,13,null,13,null,"TARGET",{"$f":"IFERROR(\nIF($W$1='(HIDE) MASTER-Chart'!$J$2,\nVLOOKUP(B48,'(HIDE) MASTER-Chart'!$B:$G,5,FALSE),\nVLOOKUP(B48,'(HIDE) MASTER-Chart'!$M:$R,5,FALSE)),\"\")","v":78202},"(12)",{"$f":"IFERROR(\nIF($W$1='(HIDE) MASTER-Chart'!$J$2,\nVLOOKUP(D48,'(HIDE) MASTER-Chart'!$B:$G,5,FALSE),\nVLOOKUP(D48,'(HIDE) MASTER-Chart'!$M:$R,5,FALSE)),\"\")","v":78202},"(12)",{"$f":"IFERROR(\nIF($W$1='(HIDE) MASTER-Chart'!$J$2,\nVLOOKUP(F48,'(HIDE) MASTER-Chart'!$B:$G,5,FALSE),\nVLOOKUP(F48,'(HIDE) MASTER-Chart'!$M:$R,5,FALSE)),\"\")","v":78202},"(12)",{"$f":"IFERROR(\nIF($W$1='(HIDE) MASTER-Chart'!$J$2,\nVLOOKUP(H48,'(HIDE) MASTER-Chart'!$B:$G,5,FALSE),\nVLOOKUP(H48,'(HIDE) MASTER-Chart'!$M:$R,5,FALSE)),\"\")","v":80836},"(13)",{"$f":"IFERROR(\nIF($W$1='(HIDE) MASTER-Chart'!$J$2,\nVLOOKUP(J48,'(HIDE) MASTER-Chart'!$B:$G,5,FALSE),\nVLOOKUP(J48,'(HIDE) MASTER-Chart'!$M:$R,5,FALSE)),\"\")","v":80836},"(13)",{"$f":"IFERROR(\nIF($W$1='(HIDE) MASTER-Chart'!$J$2,\nVLOOKUP(L48,'(HIDE) MASTER-Chart'!$B:$G,5,FALSE),\nVLOOKUP(L48,'(HIDE) MASTER-Chart'!$M:$R,5,FALSE)),\"\")","v":80836},"(13)"]
["28 - 29",10,null,10,null,10,null,11,null,11,null,11,null,"2 STEP",{"$f":"IFERROR(\nIF($W$1='(HIDE) MASTER-Chart'!$J$2,\nVLOOKUP(B49,'(HIDE) MASTER-Chart'!$B:$G,5,FALSE),\nVLOOKUP(B49,'(HIDE) MASTER-Chart'!$M:$R,5,FALSE)),\"\")","v":73196},"(10)",{"$f":"IFERROR(\nIF($W$1='(HIDE) MASTER-Chart'!$J$2,\nVLOOKUP(D49,'(HIDE) MASTER-Chart'!$B:$G,5,FALSE),\nVLOOKUP(D49,'(HIDE) MASTER-Chart'!$M:$R,5,FALSE)),\"\")","v":73196},"(10)",{"$f":"IFERROR(\nIF($W$1='(HIDE) MASTER-Chart'!$J$2,\nVLOOKUP(F49,'(HIDE) MASTER-Chart'!$B:$G,5,FALSE),\nVLOOKUP(F49,'(HIDE) MASTER-Chart'!$M:$R,5,FALSE)),\"\")","v":73196},"(10)",{"$f":"IFERROR(\nIF($W$1='(HIDE) MASTER-Chart'!$J$2,\nVLOOKUP(H49,'(HIDE) MASTER-Chart'!$B:$G,5,FALSE),\nVLOOKUP(H49,'(HIDE) MASTER-Chart'!$M:$R,5,FALSE)),\"\")","v":75658},"(11)",{"$f":"IFERROR(\nIF($W$1='(HIDE) MASTER-Chart'!$J$2,\nVLOOKUP(J49,'(HIDE) MASTER-Chart'!$B:$G,5,FALSE),\nVLOOKUP(J49,'(HIDE) MASTER-Chart'!$M:$R,5,FALSE)),\"\")","v":75658},"(11)",{"$f":"IFERROR(\nIF($W$1='(HIDE) MASTER-Chart'!$J$2,\nVLOOKUP(L49,'(HIDE) MASTER-Chart'!$B:$G,5,FALSE),\nVLOOKUP(L49,'(HIDE) MASTER-Chart'!$M:$R,5,FALSE)),\"\")","v":75658},"(11)"]
[null,null,null,null,null,null,null,null,null,null,null,null,null," ",{"$f":"IF(ISERROR(VLOOKUP(B50,'(HIDE) MASTER-Chart'!$B:$G,5,FALSE)),\"\",VLOOKUP(B50,'(HIDE) MASTER-Chart'!$B:$G,5,FALSE))","v":""},"",{"$f":"IF(ISERROR(VLOOKUP(D50,'(HIDE) MASTER-Chart'!$B:$G,5,FALSE)),\"\",VLOOKUP(D50,'(HIDE) MASTER-Chart'!$B:$G,5,FALSE))","v":""},"",{"$f":"IF(ISERROR(VLOOKUP(F50,'(HIDE) MASTER-Chart'!$B:$G,5,FALSE)),\"\",VLOOKUP(F50,'(HIDE) MASTER-Chart'!$B:$G,5,FALSE))","v":""},"",{"$f":"IF(ISERROR(VLOOKUP(H50,'(HIDE) MASTER-Chart'!$B:$G,5,FALSE)),\"\",VLOOKUP(H50,'(HIDE) MASTER-Chart'!$B:$G,5,FALSE))","v":""},"",{"$f":"IF(ISERROR(VLOOKUP(J50,'(HIDE) MASTER-Chart'!$B:$G,5,FALSE)),\"\",VLOOKUP(J50,'(HIDE) MASTER-Chart'!$B:$G,5,FALSE))","v":""},"",{"$f":"IF(ISERROR(VLOOKUP(L50,'(HIDE) MASTER-Chart'!$B:$G,5,FALSE)),\"\",VLOOKUP(L50,'(HIDE) MASTER-Chart'!$B:$G,5,FALSE))","v":""},""]
[null,12,null,13,null,13,null,13,null,13,null,14,null,"TARGET",{"$f":"IFERROR(\nIF($W$1='(HIDE) MASTER-Chart'!$J$2,\nVLOOKUP(B51,'(HIDE) MASTER-Chart'!$B:$G,5,FALSE),\nVLOOKUP(B51,'(HIDE) MASTER-Chart'!$M:$R,5,FALSE)),\"\")","v":78202},"(12)",{"$f":"IFERROR(\nIF($W$1='(HIDE) MASTER-Chart'!$J$2,\nVLOOKUP(D51,'(HIDE) MASTER-Chart'!$B:$G,5,FALSE),\nVLOOKUP(D51,'(HIDE) MASTER-Chart'!$M:$R,5,FALSE)),\"\")","v":80836},"(13)",{"$f":"IFERROR(\nIF($W$1='(HIDE) MASTER-Chart'!$J$2,\nVLOOKUP(F51,'(HIDE) MASTER-Chart'!$B:$G,5,FALSE),\nVLOOKUP(F51,'(HIDE) MASTER-Chart'!$M:$R,5,FALSE)),\"\")","v":80836},"(13)",{"$f":"IFERROR(\nIF($W$1='(HIDE) MASTER-Chart'!$J$2,\nVLOOKUP(H51,'(HIDE) MASTER-Chart'!$B:$G,5,FALSE),\nVLOOKUP(H51,'(HIDE) MASTER-Chart'!$M:$R,5,FALSE)),\"\")","v":80836},"(13)",{"$f":"IFERROR(\nIF($W$1='(HIDE) MASTER-Chart'!$J$2,\nVLOOKUP(J51,'(HIDE) MASTER-Chart'!$B:$G,5,FALSE),\nVLOOKUP(J51,'(HIDE) MASTER-Chart'!$M:$R,5,FALSE)),\"\")","v":80836},"(13)",{"$f":"IFERROR(\nIF($W$1='(HIDE) MASTER-Chart'!$J$2,\nVLOOKUP(L51,'(HIDE) MASTER-Chart'!$B:$G,5,FALSE),\nVLOOKUP(L51,'(HIDE) MASTER-Chart'!$M:$R,5,FALSE)),\"\")","v":83560},"(14)"]
["30 - 31",10,null,11,null,11,null,11,null,11,null,12,null,"2 STEP",{"$f":"IFERROR(\nIF($W$1='(HIDE) MASTER-Chart'!$J$2,\nVLOOKUP(B52,'(HIDE) MASTER-Chart'!$B:$G,5,FALSE),\nVLOOKUP(B52,'(HIDE) MASTER-Chart'!$M:$R,5,FALSE)),\"\")","v":73196},"(10)",{"$f":"IFERROR(\nIF($W$1='(HIDE) MASTER-Chart'!$J$2,\nVLOOKUP(D52,'(HIDE) MASTER-Chart'!$B:$G,5,FALSE),\nVLOOKUP(D52,'(HIDE) MASTER-Chart'!$M:$R,5,FALSE)),\"\")","v":75658},"(11)",{"$f":"IFERROR(\nIF($W$1='(HIDE) MASTER-Chart'!$J$2,\nVLOOKUP(F52,'(HIDE) MASTER-Chart'!$B:$G,5,FALSE),\nVLOOKUP(F52,'(HIDE) MASTER-Chart'!$M:$R,5,FALSE)),\"\")","v":75658},"(11)",{"$f":"IFERROR(\nIF($W$1='(HIDE) MASTER-Chart'!$J$2,\nVLOOKUP(H52,'(HIDE) MASTER-Chart'!$B:$G,5,FALSE),\nVLOOKUP(H52,'(HIDE) MASTER-Chart'!$M:$R,5,FALSE)),\"\")","v":75658},"(11)",{"$f":"IFERROR(\nIF($W$1='(HIDE) MASTER-Chart'!$J$2,\nVLOOKUP(J52,'(HIDE) MASTER-Chart'!$B:$G,5,FALSE),\nVLOOKUP(J52,'(HIDE) MASTER-Chart'!$M:$R,5,FALSE)),\"\")","v":75658},"(11)",{"$f":"IFERROR(\nIF($W$1='(HIDE) MASTER-Chart'!$J$2,\nVLOOKUP(L52,'(HIDE) MASTER-Chart'!$B:$G,5,FALSE),\nVLOOKUP(L52,'(HIDE) MASTER-Chart'!$M:$R,5,FALSE)),\"\")","v":78202},"(12)"]
[null,null,null,null,null,null,null,null,null,null,null,null,null," ",{"$f":"IF(ISERROR(VLOOKUP(B53,'(HIDE) MASTER-Chart'!$B:$G,5,FALSE)),\"\",VLOOKUP(B53,'(HIDE) MASTER-Chart'!$B:$G,5,FALSE))","v":""},"",{"$f":"IF(ISERROR(VLOOKUP(D53,'(HIDE) MASTER-Chart'!$B:$G,5,FALSE)),\"\",VLOOKUP(D53,'(HIDE) MASTER-Chart'!$B:$G,5,FALSE))","v":""},"",{"$f":"IF(ISERROR(VLOOKUP(F53,'(HIDE) MASTER-Chart'!$B:$G,5,FALSE)),\"\",VLOOKUP(F53,'(HIDE) MASTER-Chart'!$B:$G,5,FALSE))","v":""},"",{"$f":"IF(ISERROR(VLOOKUP(H53,'(HIDE) MASTER-Chart'!$B:$G,5,FALSE)),\"\",VLOOKUP(H53,'(HIDE) MASTER-Chart'!$B:$G,5,FALSE))","v":""},"",{"$f":"IF(ISERROR(VLOOKUP(J53,'(HIDE) MASTER-Chart'!$B:$G,5,FALSE)),\"\",VLOOKUP(J53,'(HIDE) MASTER-Chart'!$B:$G,5,FALSE))","v":""},"",{"$f":"IF(ISERROR(VLOOKUP(L53,'(HIDE) MASTER-Chart'!$B:$G,5,FALSE)),\"\",VLOOKUP(L53,'(HIDE) MASTER-Chart'!$B:$G,5,FALSE))","v":""},""]
[null,13,null,13,null,13,null,13,null,14,null,14,null,"TARGET",{"$f":"IFERROR(\nIF($W$1='(HIDE) MASTER-Chart'!$J$2,\nVLOOKUP(B54,'(HIDE) MASTER-Chart'!$B:$G,5,FALSE),\nVLOOKUP(B54,'(HIDE) MASTER-Chart'!$M:$R,5,FALSE)),\"\")","v":80836},"(13)",{"$f":"IFERROR(\nIF($W$1='(HIDE) MASTER-Chart'!$J$2,\nVLOOKUP(D54,'(HIDE) MASTER-Chart'!$B:$G,5,FALSE),\nVLOOKUP(D54,'(HIDE) MASTER-Chart'!$M:$R,5,FALSE)),\"\")","v":80836},"(13)",{"$f":"IFERROR(\nIF($W$1='(HIDE) MASTER-Chart'!$J$2,\nVLOOKUP(F54,'(HIDE) MASTER-Chart'!$B:$G,5,FALSE),\nVLOOKUP(F54,'(HIDE) MASTER-Chart'!$M:$R,5,FALSE)),\"\")","v":80836},"(13)",{"$f":"IFERROR(\nIF($W$1='(HIDE) MASTER-Chart'!$J$2,\nVLOOKUP(H54,'(HIDE) MASTER-Chart'!$B:$G,5,FALSE),\nVLOOKUP(H54,'(HIDE) MASTER-Chart'!$M:$R,5,FALSE)),\"\")","v":80836},"(13)",{"$f":"IFERROR(\nIF($W$1='(HIDE) MASTER-Chart'!$J$2,\nVLOOKUP(J54,'(HIDE) MASTER-Chart'!$B:$G,5,FALSE),\nVLOOKUP(J54,'(HIDE) MASTER-Chart'!$M:$R,5,FALSE)),\"\")","v":83560},"(14)",{"$f":"IFERROR(\nIF($W$1='(HIDE) MASTER-Chart'!$J$2,\nVLOOKUP(L54,'(HIDE) MASTER-Chart'!$B:$G,5,FALSE),\nVLOOKUP(L54,'(HIDE) MASTER-Chart'!$M:$R,5,FALSE)),\"\")","v":83560},"(14)"]
["32 - 33",11,null,11,null,11,null,11,null,12,null,12,null,"2 STEP",{"$f":"IFERROR(\nIF($W$1='(HIDE) MASTER-Chart'!$J$2,\nVLOOKUP(B55,'(HIDE) MASTER-Chart'!$B:$G,5,FALSE),\nVLOOKUP(B55,'(HIDE) MASTER-Chart'!$M:$R,5,FALSE)),\"\")","v":75658},"(11)",{"$f":"IFERROR(\nIF($W$1='(HIDE) MASTER-Chart'!$J$2,\nVLOOKUP(D55,'(HIDE) MASTER-Chart'!$B:$G,5,FALSE),\nVLOOKUP(D55,'(HIDE) MASTER-Chart'!$M:$R,5,FALSE)),\"\")","v":75658},"(11)",{"$f":"IFERROR(\nIF($W$1='(HIDE) MASTER-Chart'!$J$2,\nVLOOKUP(F55,'(HIDE) MASTER-Chart'!$B:$G,5,FALSE),\nVLOOKUP(F55,'(HIDE) MASTER-Chart'!$M:$R,5,FALSE)),\"\")","v":75658},"(11)",{"$f":"IFERROR(\nIF($W$1='(HIDE) MASTER-Chart'!$J$2,\nVLOOKUP(H55,'(HIDE) MASTER-Chart'!$B:$G,5,FALSE),\nVLOOKUP(H55,'(HIDE) MASTER-Chart'!$M:$R,5,FALSE)),\"\")","v":75658},"(11)",{"$f":"IFERROR(\nIF($W$1='(HIDE) MASTER-Chart'!$J$2,\nVLOOKUP(J55,'(HIDE) MASTER-Chart'!$B:$G,5,FALSE),\nVLOOKUP(J55,'(HIDE) MASTER-Chart'!$M:$R,5,FALSE)),\"\")","v":78202},"(12)",{"$f":"IFERROR(\nIF($W$1='(HIDE) MASTER-Chart'!$J$2,\nVLOOKUP(L55,'(HIDE) MASTER-Chart'!$B:$G,5,FALSE),\nVLOOKUP(L55,'(HIDE) MASTER-Chart'!$M:$R,5,FALSE)),\"\")","v":78202},"(12)"]
[null,null,null,null,null,null,null,null,null,null,null,null,null," ",{"$f":"IF(ISERROR(VLOOKUP(B56,'(HIDE) MASTER-Chart'!$B:$G,5,FALSE)),\"\",VLOOKUP(B56,'(HIDE) MASTER-Chart'!$B:$G,5,FALSE))","v":""},"",{"$f":"IF(ISERROR(VLOOKUP(D56,'(HIDE) MASTER-Chart'!$B:$G,5,FALSE)),\"\",VLOOKUP(D56,'(HIDE) MASTER-Chart'!$B:$G,5,FALSE))","v":""},"",{"$f":"IF(ISERROR(VLOOKUP(F56,'(HIDE) MASTER-Chart'!$B:$G,5,FALSE)),\"\",VLOOKUP(F56,'(HIDE) MASTER-Chart'!$B:$G,5,FALSE))","v":""},"",{"$f":"IF(ISERROR(VLOOKUP(H56,'(HIDE) MASTER-Chart'!$B:$G,5,FALSE)),\"\",VLOOKUP(H56,'(HIDE) MASTER-Chart'!$B:$G,5,FALSE))","v":""},"",{"$f":"IF(ISERROR(VLOOKUP(J56,'(HIDE) MASTER-Chart'!$B:$G,5,FALSE)),\"\",VLOOKUP(J56,'(HIDE) MASTER-Chart'!$B:$G,5,FALSE))","v":""},"",{"$f":"IF(ISERROR(VLOOKUP(L56,'(HIDE) MASTER-Chart'!$B:$G,5,FALSE)),\"\",VLOOKUP(L56,'(HIDE) MASTER-Chart'!$B:$G,5,FALSE))","v":""},""]
[null,13,null,13,null,14,null,14,null,14,null,14,null,"TARGET",{"$f":"IFERROR(\nIF($W$1='(HIDE) MASTER-Chart'!$J$2,\nVLOOKUP(B57,'(HIDE) MASTER-Chart'!$B:$G,5,FALSE),\nVLOOKUP(B57,'(HIDE) MASTER-Chart'!$M:$R,5,FALSE)),\"\")","v":80836},"(13)",{"$f":"IFERROR(\nIF($W$1='(HIDE) MASTER-Chart'!$J$2,\nVLOOKUP(D57,'(HIDE) MASTER-Chart'!$B:$G,5,FALSE),\nVLOOKUP(D57,'(HIDE) MASTER-Chart'!$M:$R,5,FALSE)),\"\")","v":80836},"(13)",{"$f":"IFERROR(\nIF($W$1='(HIDE) MASTER-Chart'!$J$2,\nVLOOKUP(F57,'(HIDE) MASTER-Chart'!$B:$G,5,FALSE),\nVLOOKUP(F57,'(HIDE) MASTER-Chart'!$M:$R,5,FALSE)),\"\")","v":83560},"(14)",{"$f":"IFERROR(\nIF($W$1='(HIDE) MASTER-Chart'!$J$2,\nVLOOKUP(H57,'(HIDE) MASTER-Chart'!$B:$G,5,FALSE),\nVLOOKUP(H57,'(HIDE) MASTER-Chart'!$M:$R,5,FALSE)),\"\")","v":83560},"(14)",{"$f":"IFERROR(\nIF($W$1='(HIDE) MASTER-Chart'!$J$2,\nVLOOKUP(J57,'(HIDE) MASTER-Chart'!$B:$G,5,FALSE),\nVLOOKUP(J57,'(HIDE) MASTER-Chart'!$M:$R,5,FALSE)),\"\")","v":83560},"(14)",{"$f":"IFERROR(\nIF($W$1='(HIDE) MASTER-Chart'!$J$2,\nVLOOKUP(L57,'(HIDE) MASTER-Chart'!$B:$G,5,FALSE),\nVLOOKUP(L57,'(HIDE) MASTER-Chart'!$M:$R,5,FALSE)),\"\")","v":83560},"(14)"]
["34 - 35",11,null,11,null,12,null,12,null,12,null,12,null,"2 STEP",{"$f":"IFERROR(\nIF($W$1='(HIDE) MASTER-Chart'!$J$2,\nVLOOKUP(B58,'(HIDE) MASTER-Chart'!$B:$G,5,FALSE),\nVLOOKUP(B58,'(HIDE) MASTER-Chart'!$M:$R,5,FALSE)),\"\")","v":75658},"(11)",{"$f":"IFERROR(\nIF($W$1='(HIDE) MASTER-Chart'!$J$2,\nVLOOKUP(D58,'(HIDE) MASTER-Chart'!$B:$G,5,FALSE),\nVLOOKUP(D58,'(HIDE) MASTER-Chart'!$M:$R,5,FALSE)),\"\")","v":75658},"(11)",{"$f":"IFERROR(\nIF($W$1='(HIDE) MASTER-Chart'!$J$2,\nVLOOKUP(F58,'(HIDE) MASTER-Chart'!$B:$G,5,FALSE),\nVLOOKUP(F58,'(HIDE) MASTER-Chart'!$M:$R,5,FALSE)),\"\")","v":78202},"(12)",{"$f":"IFERROR(\nIF($W$1='(HIDE) MASTER-Chart'!$J$2,\nVLOOKUP(H58,'(HIDE) MASTER-Chart'!$B:$G,5,FALSE),\nVLOOKUP(H58,'(HIDE) MASTER-Chart'!$M:$R,5,FALSE)),\"\")","v":78202},"(12)",{"$f":"IFERROR(\nIF($W$1='(HIDE) MASTER-Chart'!$J$2,\nVLOOKUP(J58,'(HIDE) MASTER-Chart'!$B:$G,5,FALSE),\nVLOOKUP(J58,'(HIDE) MASTER-Chart'!$M:$R,5,FALSE)),\"\")","v":78202},"(12)",{"$f":"IFERROR(\nIF($W$1='(HIDE) MASTER-Chart'!$J$2,\nVLOOKUP(L58,'(HIDE) MASTER-Chart'!$B:$G,5,FALSE),\nVLOOKUP(L58,'(HIDE) MASTER-Chart'!$M:$R,5,FALSE)),\"\")","v":78202},"(12)"]
[null,null,null,null,null,null,null,null,null,null,null,null,null," ",{"$f":"IF(ISERROR(VLOOKUP(B59,'(HIDE) MASTER-Chart'!$B:$G,5,FALSE)),\"\",VLOOKUP(B59,'(HIDE) MASTER-Chart'!$B:$G,5,FALSE))","v":""},"",{"$f":"IF(ISERROR(VLOOKUP(D59,'(HIDE) MASTER-Chart'!$B:$G,5,FALSE)),\"\",VLOOKUP(D59,'(HIDE) MASTER-Chart'!$B:$G,5,FALSE))","v":""},"",{"$f":"IF(ISERROR(VLOOKUP(F59,'(HIDE) MASTER-Chart'!$B:$G,5,FALSE)),\"\",VLOOKUP(F59,'(HIDE) MASTER-Chart'!$B:$G,5,FALSE))","v":""},"",{"$f":"IF(ISERROR(VLOOKUP(H59,'(HIDE) MASTER-Chart'!$B:$G,5,FALSE)),\"\",VLOOKUP(H59,'(HIDE) MASTER-Chart'!$B:$G,5,FALSE))","v":""},"",{"$f":"IF(ISERROR(VLOOKUP(J59,'(HIDE) MASTER-Chart'!$B:$G,5,FALSE)),\"\",VLOOKUP(J59,'(HIDE) MASTER-Chart'!$B:$G,5,FALSE))","v":""},"",{"$f":"IF(ISERROR(VLOOKUP(L59,'(HIDE) MASTER-Chart'!$B:$G,5,FALSE)),\"\",VLOOKUP(L59,'(HIDE) MASTER-Chart'!$B:$G,5,FALSE))","v":""},""]
[null,14,null,14,null,14,null,14,null,15,null,15,null,"TARGET",{"$f":"IFERROR(\nIF($W$1='(HIDE) MASTER-Chart'!$J$2,\nVLOOKUP(B60,'(HIDE) MASTER-Chart'!$B:$G,5,FALSE),\nVLOOKUP(B60,'(HIDE) MASTER-Chart'!$M:$R,5,FALSE)),\"\")","v":83560},"(14)",{"$f":"IFERROR(\nIF($W$1='(HIDE) MASTER-Chart'!$J$2,\nVLOOKUP(D60,'(HIDE) MASTER-Chart'!$B:$G,5,FALSE),\nVLOOKUP(D60,'(HIDE) MASTER-Chart'!$M:$R,5,FALSE)),\"\")","v":83560},"(14)",{"$f":"IFERROR(\nIF($W$1='(HIDE) MASTER-Chart'!$J$2,\nVLOOKUP(F60,'(HIDE) MASTER-Chart'!$B:$G,5,FALSE),\nVLOOKUP(F60,'(HIDE) MASTER-Chart'!$M:$R,5,FALSE)),\"\")","v":83560},"(14)",{"$f":"IFERROR(\nIF($W$1='(HIDE) MASTER-Chart'!$J$2,\nVLOOKUP(H60,'(HIDE) MASTER-Chart'!$B:$G,5,FALSE),\nVLOOKUP(H60,'(HIDE) MASTER-Chart'!$M:$R,5,FALSE)),\"\")","v":83560},"(14)",{"$f":"IFERROR(\nIF($W$1='(HIDE) MASTER-Chart'!$J$2,\nVLOOKUP(J60,'(HIDE) MASTER-Chart'!$B:$G,5,FALSE),\nVLOOKUP(J60,'(HIDE) MASTER-Chart'!$M:$R,5,FALSE)),\"\")","v":86373},"(15)",{"$f":"IFERROR(\nIF($W$1='(HIDE) MASTER-Chart'!$J$2,\nVLOOKUP(L60,'(HIDE) MASTER-Chart'!$B:$G,5,FALSE),\nVLOOKUP(L60,'(HIDE) MASTER-Chart'!$M:$R,5,FALSE)),\"\")","v":86373},"(15)"]
["36 - 37",12,null,12,null,12,null,12,null,13,null,13,null,"2 STEP",{"$f":"IFERROR(\nIF($W$1='(HIDE) MASTER-Chart'!$J$2,\nVLOOKUP(B61,'(HIDE) MASTER-Chart'!$B:$G,5,FALSE),\nVLOOKUP(B61,'(HIDE) MASTER-Chart'!$M:$R,5,FALSE)),\"\")","v":78202},"(12)",{"$f":"IFERROR(\nIF($W$1='(HIDE) MASTER-Chart'!$J$2,\nVLOOKUP(D61,'(HIDE) MASTER-Chart'!$B:$G,5,FALSE),\nVLOOKUP(D61,'(HIDE) MASTER-Chart'!$M:$R,5,FALSE)),\"\")","v":78202},"(12)",{"$f":"IFERROR(\nIF($W$1='(HIDE) MASTER-Chart'!$J$2,\nVLOOKUP(F61,'(HIDE) MASTER-Chart'!$B:$G,5,FALSE),\nVLOOKUP(F61,'(HIDE) MASTER-Chart'!$M:$R,5,FALSE)),\"\")","v":78202},"(12)",{"$f":"IFERROR(\nIF($W$1='(HIDE) MASTER-Chart'!$J$2,\nVLOOKUP(H61,'(HIDE) MASTER-Chart'!$B:$G,5,FALSE),\nVLOOKUP(H61,'(HIDE) MASTER-Chart'!$M:$R,5,FALSE)),\"\")","v":78202},"(12)",{"$f":"IFERROR(\nIF($W$1='(HIDE) MASTER-Chart'!$J$2,\nVLOOKUP(J61,'(HIDE) MASTER-Chart'!$B:$G,5,FALSE),\nVLOOKUP(J61,'(HIDE) MASTER-Chart'!$M:$R,5,FALSE)),\"\")","v":80836},"(13)",{"$f":"IFERROR(\nIF($W$1='(HIDE) MASTER-Chart'!$J$2,\nVLOOKUP(L61,'(HIDE) MASTER-Chart'!$B:$G,5,FALSE),\nVLOOKUP(L61,'(HIDE) MASTER-Chart'!$M:$R,5,FALSE)),\"\")","v":80836},"(13)"]
[null,null,null,null,null,null,null,null,null,null,null,null,null," ",{"$f":"IF(ISERROR(VLOOKUP(B62,'(HIDE) MASTER-Chart'!$B:$G,5,FALSE)),\"\",VLOOKUP(B62,'(HIDE) MASTER-Chart'!$B:$G,5,FALSE))","v":""},"",{"$f":"IF(ISERROR(VLOOKUP(D62,'(HIDE) MASTER-Chart'!$B:$G,5,FALSE)),\"\",VLOOKUP(D62,'(HIDE) MASTER-Chart'!$B:$G,5,FALSE))","v":""},"",{"$f":"IF(ISERROR(VLOOKUP(F62,'(HIDE) MASTER-Chart'!$B:$G,5,FALSE)),\"\",VLOOKUP(F62,'(HIDE) MASTER-Chart'!$B:$G,5,FALSE))","v":""},"",{"$f":"IF(ISERROR(VLOOKUP(H62,'(HIDE) MASTER-Chart'!$B:$G,5,FALSE)),\"\",VLOOKUP(H62,'(HIDE) MASTER-Chart'!$B:$G,5,FALSE))","v":""},"",{"$f":"IF(ISERROR(VLOOKUP(J62,'(HIDE) MASTER-Chart'!$B:$G,5,FALSE)),\"\",VLOOKUP(J62,'(HIDE) MASTER-Chart'!$B:$G,5,FALSE))","v":""},"",{"$f":"IF(ISERROR(VLOOKUP(L62,'(HIDE) MASTER-Chart'!$B:$G,5,FALSE)),\"\",VLOOKUP(L62,'(HIDE) MASTER-Chart'!$B:$G,5,FALSE))","v":""},""]
[null,14,null,14,null,15,null,15,null,15,null,15,null,"TARGET",{"$f":"IFERROR(\nIF($W$1='(HIDE) MASTER-Chart'!$J$2,\nVLOOKUP(B63,'(HIDE) MASTER-Chart'!$B:$G,5,FALSE),\nVLOOKUP(B63,'(HIDE) MASTER-Chart'!$M:$R,5,FALSE)),\"\")","v":83560},"(14)",{"$f":"IFERROR(\nIF($W$1='(HIDE) MASTER-Chart'!$J$2,\nVLOOKUP(D63,'(HIDE) MASTER-Chart'!$B:$G,5,FALSE),\nVLOOKUP(D63,'(HIDE) MASTER-Chart'!$M:$R,5,FALSE)),\"\")","v":83560},"(14)",{"$f":"IFERROR(\nIF($W$1='(HIDE) MASTER-Chart'!$J$2,\nVLOOKUP(F63,'(HIDE) MASTER-Chart'!$B:$G,5,FALSE),\nVLOOKUP(F63,'(HIDE) MASTER-Chart'!$M:$R,5,FALSE)),\"\")","v":86373},"(15)",{"$f":"IFERROR(\nIF($W$1='(HIDE) MASTER-Chart'!$J$2,\nVLOOKUP(H63,'(HIDE) MASTER-Chart'!$B:$G,5,FALSE),\nVLOOKUP(H63,'(HIDE) MASTER-Chart'!$M:$R,5,FALSE)),\"\")","v":86373},"(15)",{"$f":"IFERROR(\nIF($W$1='(HIDE) MASTER-Chart'!$J$2,\nVLOOKUP(J63,'(HIDE) MASTER-Chart'!$B:$G,5,FALSE),\nVLOOKUP(J63,'(HIDE) MASTER-Chart'!$M:$R,5,FALSE)),\"\")","v":86373},"(15)",{"$f":"IFERROR(\nIF($W$1='(HIDE) MASTER-Chart'!$J$2,\nVLOOKUP(L63,'(HIDE) MASTER-Chart'!$B:$G,5,FALSE),\nVLOOKUP(L63,'(HIDE) MASTER-Chart'!$M:$R,5,FALSE)),\"\")","v":86373},"(15)"]
["38 - 39",12,null,12,null,13,null,13,null,13,null,13,null,"2 STEP",{"$f":"IFERROR(\nIF($W$1='(HIDE) MASTER-Chart'!$J$2,\nVLOOKUP(B64,'(HIDE) MASTER-Chart'!$B:$G,5,FALSE),\nVLOOKUP(B64,'(HIDE) MASTER-Chart'!$M:$R,5,FALSE)),\"\")","v":78202},"(12)",{"$f":"IFERROR(\nIF($W$1='(HIDE) MASTER-Chart'!$J$2,\nVLOOKUP(D64,'(HIDE) MASTER-Chart'!$B:$G,5,FALSE),\nVLOOKUP(D64,'(HIDE) MASTER-Chart'!$M:$R,5,FALSE)),\"\")","v":78202},"(12)",{"$f":"IFERROR(\nIF($W$1='(HIDE) MASTER-Chart'!$J$2,\nVLOOKUP(F64,'(HIDE) MASTER-Chart'!$B:$G,5,FALSE),\nVLOOKUP(F64,'(HIDE) MASTER-Chart'!$M:$R,5,FALSE)),\"\")","v":80836},"(13)",{"$f":"IFERROR(\nIF($W$1='(HIDE) MASTER-Chart'!$J$2,\nVLOOKUP(H64,'(HIDE) MASTER-Chart'!$B:$G,5,FALSE),\nVLOOKUP(H64,'(HIDE) MASTER-Chart'!$M:$R,5,FALSE)),\"\")","v":80836},"(13)",{"$f":"IFERROR(\nIF($W$1='(HIDE) MASTER-Chart'!$J$2,\nVLOOKUP(J64,'(HIDE) MASTER-Chart'!$B:$G,5,FALSE),\nVLOOKUP(J64,'(HIDE) MASTER-Chart'!$M:$R,5,FALSE)),\"\")","v":80836},"(13)",{"$f":"IFERROR(\nIF($W$1='(HIDE) MASTER-Chart'!$J$2,\nVLOOKUP(L64,'(HIDE) MASTER-Chart'!$B:$G,5,FALSE),\nVLOOKUP(L64,'(HIDE) MASTER-Chart'!$M:$R,5,FALSE)),\"\")","v":80836},"(13)"]
[null,null,null,null,null,null,null,null,null,null,null,null,null," ",{"$f":"IF(ISERROR(VLOOKUP(B65,'(HIDE) MASTER-Chart'!$B:$G,5,FALSE)),\"\",VLOOKUP(B65,'(HIDE) MASTER-Chart'!$B:$G,5,FALSE))","v":""},"",{"$f":"IF(ISERROR(VLOOKUP(D65,'(HIDE) MASTER-Chart'!$B:$G,5,FALSE)),\"\",VLOOKUP(D65,'(HIDE) MASTER-Chart'!$B:$G,5,FALSE))","v":""},"",{"$f":"IF(ISERROR(VLOOKUP(F65,'(HIDE) MASTER-Chart'!$B:$G,5,FALSE)),\"\",VLOOKUP(F65,'(HIDE) MASTER-Chart'!$B:$G,5,FALSE))","v":""},"",{"$f":"IF(ISERROR(VLOOKUP(H65,'(HIDE) MASTER-Chart'!$B:$G,5,FALSE)),\"\",VLOOKUP(H65,'(HIDE) MASTER-Chart'!$B:$G,5,FALSE))","v":""},"",{"$f":"IF(ISERROR(VLOOKUP(J65,'(HIDE) MASTER-Chart'!$B:$G,5,FALSE)),\"\",VLOOKUP(J65,'(HIDE) MASTER-Chart'!$B:$G,5,FALSE))","v":""},"",{"$f":"IF(ISERROR(VLOOKUP(L65,'(HIDE) MASTER-Chart'!$B:$G,5,FALSE)),\"\",VLOOKUP(L65,'(HIDE) MASTER-Chart'!$B:$G,5,FALSE))","v":""},""]
[null,14,null,15,null,15,null,15,null,15,null,16,null,"TARGET",{"$f":"IFERROR(\nIF($W$1='(HIDE) MASTER-Chart'!$J$2,\nVLOOKUP(B66,'(HIDE) MASTER-Chart'!$B:$G,5,FALSE),\nVLOOKUP(B66,'(HIDE) MASTER-Chart'!$M:$R,5,FALSE)),\"\")","v":83560},"(14)",{"$f":"IFERROR(\nIF($W$1='(HIDE) MASTER-Chart'!$J$2,\nVLOOKUP(D66,'(HIDE) MASTER-Chart'!$B:$G,5,FALSE),\nVLOOKUP(D66,'(HIDE) MASTER-Chart'!$M:$R,5,FALSE)),\"\")","v":86373},"(15)",{"$f":"IFERROR(\nIF($W$1='(HIDE) MASTER-Chart'!$J$2,\nVLOOKUP(F66,'(HIDE) MASTER-Chart'!$B:$G,5,FALSE),\nVLOOKUP(F66,'(HIDE) MASTER-Chart'!$M:$R,5,FALSE)),\"\")","v":86373},"(15)",{"$f":"IFERROR(\nIF($W$1='(HIDE) MASTER-Chart'!$J$2,\nVLOOKUP(H66,'(HIDE) MASTER-Chart'!$B:$G,5,FALSE),\nVLOOKUP(H66,'(HIDE) MASTER-Chart'!$M:$R,5,FALSE)),\"\")","v":86373},"(15)",{"$f":"IFERROR(\nIF($W$1='(HIDE) MASTER-Chart'!$J$2,\nVLOOKUP(J66,'(HIDE) MASTER-Chart'!$B:$G,5,FALSE),\nVLOOKUP(J66,'(HIDE) MASTER-Chart'!$M:$R,5,FALSE)),\"\")","v":86373},"(15)",{"$f":"IFERROR(\nIF($W$1='(HIDE) MASTER-Chart'!$J$2,\nVLOOKUP(L66,'(HIDE) MASTER-Chart'!$B:$G,5,FALSE),\nVLOOKUP(L66,'(HIDE) MASTER-Chart'!$M:$R,5,FALSE)),\"\")","v":89292},"(16)"]
["40 - 41",12,null,13,null,13,null,13,null,13,null,14,null,"2 STEP",{"$f":"IFERROR(\nIF($W$1='(HIDE) MASTER-Chart'!$J$2,\nVLOOKUP(B67,'(HIDE) MASTER-Chart'!$B:$G,5,FALSE),\nVLOOKUP(B67,'(HIDE) MASTER-Chart'!$M:$R,5,FALSE)),\"\")","v":78202},"(12)",{"$f":"IFERROR(\nIF($W$1='(HIDE) MASTER-Chart'!$J$2,\nVLOOKUP(D67,'(HIDE) MASTER-Chart'!$B:$G,5,FALSE),\nVLOOKUP(D67,'(HIDE) MASTER-Chart'!$M:$R,5,FALSE)),\"\")","v":80836},"(13)",{"$f":"IFERROR(\nIF($W$1='(HIDE) MASTER-Chart'!$J$2,\nVLOOKUP(F67,'(HIDE) MASTER-Chart'!$B:$G,5,FALSE),\nVLOOKUP(F67,'(HIDE) MASTER-Chart'!$M:$R,5,FALSE)),\"\")","v":80836},"(13)",{"$f":"IFERROR(\nIF($W$1='(HIDE) MASTER-Chart'!$J$2,\nVLOOKUP(H67,'(HIDE) MASTER-Chart'!$B:$G,5,FALSE),\nVLOOKUP(H67,'(HIDE) MASTER-Chart'!$M:$R,5,FALSE)),\"\")","v":80836},"(13)",{"$f":"IFERROR(\nIF($W$1='(HIDE) MASTER-Chart'!$J$2,\nVLOOKUP(J67,'(HIDE) MASTER-Chart'!$B:$G,5,FALSE),\nVLOOKUP(J67,'(HIDE) MASTER-Chart'!$M:$R,5,FALSE)),\"\")","v":80836},"(13)",{"$f":"IFERROR(\nIF($W$1='(HIDE) MASTER-Chart'!$J$2,\nVLOOKUP(L67,'(HIDE) MASTER-Chart'!$B:$G,5,FALSE),\nVLOOKUP(L67,'(HIDE) MASTER-Chart'!$M:$R,5,FALSE)),\"\")","v":83560},"(14)"]
[" ",null,null,null,null,null,null,null,null,null,null,null,null," ",{"$f":"IF(ISERROR(VLOOKUP(B68,'(HIDE) MASTER-Chart'!$B:$G,5,FALSE)),\"\",VLOOKUP(B68,'(HIDE) MASTER-Chart'!$B:$G,5,FALSE))","v":""},"",{"$f":"IF(ISERROR(VLOOKUP(D68,'(HIDE) MASTER-Chart'!$B:$G,5,FALSE)),\"\",VLOOKUP(D68,'(HIDE) MASTER-Chart'!$B:$G,5,FALSE))","v":""},"",{"$f":"IF(ISERROR(VLOOKUP(F68,'(HIDE) MASTER-Chart'!$B:$G,5,FALSE)),\"\",VLOOKUP(F68,'(HIDE) MASTER-Chart'!$B:$G,5,FALSE))","v":""},"",{"$f":"IF(ISERROR(VLOOKUP(H68,'(HIDE) MASTER-Chart'!$B:$G,5,FALSE)),\"\",VLOOKUP(H68,'(HIDE) MASTER-Chart'!$B:$G,5,FALSE))","v":""},"",{"$f":"IF(ISERROR(VLOOKUP(J68,'(HIDE) MASTER-Chart'!$B:$G,5,FALSE)),\"\",VLOOKUP(J68,'(HIDE) MASTER-Chart'!$B:$G,5,FALSE))","v":""},"",{"$f":"IF(ISERROR(VLOOKUP(L68,'(HIDE) MASTER-Chart'!$B:$G,5,FALSE)),\"\",VLOOKUP(L68,'(HIDE) MASTER-Chart'!$B:$G,5,FALSE))","v":""},""]
[null,15,null,15,null,15,null,16,null,16,null,16,null,"TARGET",{"$f":"IFERROR(\nIF($W$1='(HIDE) MASTER-Chart'!$J$2,\nVLOOKUP(B69,'(HIDE) MASTER-Chart'!$B:$G,5,FALSE),\nVLOOKUP(B69,'(HIDE) MASTER-Chart'!$M:$R,5,FALSE)),\"\")","v":86373},"(15)",{"$f":"IFERROR(\nIF($W$1='(HIDE) MASTER-Chart'!$J$2,\nVLOOKUP(D69,'(HIDE) MASTER-Chart'!$B:$G,5,FALSE),\nVLOOKUP(D69,'(HIDE) MASTER-Chart'!$M:$R,5,FALSE)),\"\")","v":86373},"(15)",{"$f":"IFERROR(\nIF($W$1='(HIDE) MASTER-Chart'!$J$2,\nVLOOKUP(F69,'(HIDE) MASTER-Chart'!$B:$G,5,FALSE),\nVLOOKUP(F69,'(HIDE) MASTER-Chart'!$M:$R,5,FALSE)),\"\")","v":86373},"(15)",{"$f":"IFERROR(\nIF($W$1='(HIDE) MASTER-Chart'!$J$2,\nVLOOKUP(H69,'(HIDE) MASTER-Chart'!$B:$G,5,FALSE),\nVLOOKUP(H69,'(HIDE) MASTER-Chart'!$M:$R,5,FALSE)),\"\")","v":89292},"(16)",{"$f":"IFERROR(\nIF($W$1='(HIDE) MASTER-Chart'!$J$2,\nVLOOKUP(J69,'(HIDE) MASTER-Chart'!$B:$G,5,FALSE),\nVLOOKUP(J69,'(HIDE) MASTER-Chart'!$M:$R,5,FALSE)),\"\")","v":89292},"(16)",{"$f":"IFERROR(\nIF($W$1='(HIDE) MASTER-Chart'!$J$2,\nVLOOKUP(L69,'(HIDE) MASTER-Chart'!$B:$G,5,FALSE),\nVLOOKUP(L69,'(HIDE) MASTER-Chart'!$M:$R,5,FALSE)),\"\")","v":89292},"(16)"]
["42+",13,null,13,null,13,null,14,null,14,null,14,null,"2 STEP",{"$f":"IFERROR(\nIF($W$1='(HIDE) MASTER-Chart'!$J$2,\nVLOOKUP(B70,'(HIDE) MASTER-Chart'!$B:$G,5,FALSE),\nVLOOKUP(B70,'(HIDE) MASTER-Chart'!$M:$R,5,FALSE)),\"\")","v":80836},"(13)",{"$f":"IFERROR(\nIF($W$1='(HIDE) MASTER-Chart'!$J$2,\nVLOOKUP(D70,'(HIDE) MASTER-Chart'!$B:$G,5,FALSE),\nVLOOKUP(D70,'(HIDE) MASTER-Chart'!$M:$R,5,FALSE)),\"\")","v":80836},"(13)",{"$f":"IFERROR(\nIF($W$1='(HIDE) MASTER-Chart'!$J$2,\nVLOOKUP(F70,'(HIDE) MASTER-Chart'!$B:$G,5,FALSE),\nVLOOKUP(F70,'(HIDE) MASTER-Chart'!$M:$R,5,FALSE)),\"\")","v":80836},"(13)",{"$f":"IFERROR(\nIF($W$1='(HIDE) MASTER-Chart'!$J$2,\nVLOOKUP(H70,'(HIDE) MASTER-Chart'!$B:$G,5,FALSE),\nVLOOKUP(H70,'(HIDE) MASTER-Chart'!$M:$R,5,FALSE)),\"\")","v":83560},"(14)",{"$f":"IFERROR(\nIF($W$1='(HIDE) MASTER-Chart'!$J$2,\nVLOOKUP(J70,'(HIDE) MASTER-Chart'!$B:$G,5,FALSE),\nVLOOKUP(J70,'(HIDE) MASTER-Chart'!$M:$R,5,FALSE)),\"\")","v":83560},"(14)",{"$f":"IFERROR(\nIF($W$1='(HIDE) MASTER-Chart'!$J$2,\nVLOOKUP(L70,'(HIDE) MASTER-Chart'!$B:$G,5,FALSE),\nVLOOKUP(L70,'(HIDE) MASTER-Chart'!$M:$R,5,FALSE)),\"\")","v":83560},"(14)"]
[null,null,null,null,null,null,null,null,null,null,null,null,null," ",{"$f":"IF(ISERROR(VLOOKUP(B71,'(HIDE) MASTER-Chart'!$B:$G,5,FALSE)),\"\",VLOOKUP(B71,'(HIDE) MASTER-Chart'!$B:$G,5,FALSE))","v":""},"",{"$f":"IF(ISERROR(VLOOKUP(D71,'(HIDE) MASTER-Chart'!$B:$G,5,FALSE)),\"\",VLOOKUP(D71,'(HIDE) MASTER-Chart'!$B:$G,5,FALSE))","v":""},"",{"$f":"IF(ISERROR(VLOOKUP(F71,'(HIDE) MASTER-Chart'!$B:$G,5,FALSE)),\"\",VLOOKUP(F71,'(HIDE) MASTER-Chart'!$B:$G,5,FALSE))","v":""},"",{"$f":"IF(ISERROR(VLOOKUP(H71,'(HIDE) MASTER-Chart'!$B:$G,5,FALSE)),\"\",VLOOKUP(H71,'(HIDE) MASTER-Chart'!$B:$G,5,FALSE))","v":""},"",{"$f":"IF(ISERROR(VLOOKUP(J71,'(HIDE) MASTER-Chart'!$B:$G,5,FALSE)),\"\",VLOOKUP(J71,'(HIDE) MASTER-Chart'!$B:$G,5,FALSE))","v":""},"",{"$f":"IF(ISERROR(VLOOKUP(L71,'(HIDE) MASTER-Chart'!$B:$G,5,FALSE)),\"\",VLOOKUP(L71,'(HIDE) MASTER-Chart'!$B:$G,5,FALSE))","v":""},""]

{"sheet":"Printable Grid-RangeE","index":9,"n_rows":59,"n_cols":26,"rows_kept":59,"cut":false,"hidden":false,"merged":[[58,1,58,2],[58,3,58,4],[58,5,58,6],[58,7,58,8],[58,9,58,10],[58,11,58,12],[57,1,57,2],[57,3,57,4],[57,5,57,6],[57,7,57,8],[57,9,57,10],[57,11,57,12],[56,1,56,2],[56,3,56,4],[56,5,56,6],[56,7,56,8],[56,9,56,10],[56,11,56,12],[55,1,55,2],[55,3,55,4],[55,5,55,6],[55,7,55,8],[55,9,55,10],[55,11,55,12],[54,1,54,2],[54,3,54,4],[54,5,54,6],[54,7,54,8],[54,9,54,10],[54,11,54,12],[53,1,53,2],[53,3,53,4],[53,5,53,6],[53,7,53,8],[53,9,53,10],[53,11,53,12],[52,1,52,2],[52,3,52,4],[52,5,52,6],[52,7,52,8],[52,9,52,10],[52,11,52,12],[51,1,51,2],[51,3,51,4],[51,5,51,6],[51,7,51,8],[51,9,51,10],[51,11,51,12],[50,1,50,2],[50,3,50,4],[50,5,50,6],[50,7,50,8],[50,9,50,10],[50,11,50,12],[49,1,49,2],[49,3,49,4],[49,5,49,6],[49,7,49,8],[49,9,49,10],[49,11,49,12],[48,1,48,2],[48,3,48,4],[48,5,48,6],[48,7,48,8],[48,9,48,10],[48,11,48,12],[47,1,47,2],[47,3,47,4],[47,5,47,6],[47,7,47,8],[47,9,47,10],[47,11,47,12],[46,1,46,2],[46,3,46,4],[46,5,46,6],[46,7,46,8],[46,9,46,10],[46,11,46,12],[45,1,45,2],[45,3,45,4],[45,5,45,6],[45,7,45,8],[45,9,45,10],[45,11,45,12],[44,1,44,2],[44,3,44,4],[44,5,44,6],[44,7,44,8],[44,9,44,10],[44,11,44,12],[43,1,43,2],[43,3,43,4],[43,5,43,6],[43,7,43,8],[43,9,43,10],[43,11,43,12],[42,1,42,2],[42,3,42,4],[42,5,42,6],[42,7,42,8],[42,9,42,10],[42,11,42,12],[41,1,41,2],[41,3,41,4],[41,5,41,6],[41,7,41,8],[41,9,41,10],[41,11,41,12],[40,1,40,2],[40,3,40,4],[40,5,40,6],[40,7,40,8],[40,9,40,10],[40,11,40,12],[39,1,39,2],[39,3,39,4],[39,5,39,6],[39,7,39,8],[39,9,39,10],[39,11,39,12],[38,1,38,2],[38,3,38,4],[38,5,38,6],[38,7,38,8],[38,9,38,10],[38,11,38,12],[37,1,37,2],[37,3,37,4],[37,5,37,6],[37,7,37,8],[37,9,37,10],[37,11,37,12],[36,1,36,2],[36,3,36,4],[36,5,36,6],[36,7,36,8],[36,9,36,10],[36,11,36,12],[35,1,35,2],[35,3,35,4],[35,5,35,6],[35,7,35,8],[35,9,35,10],[35,11,35,12],[34,1,34,2],[34,3,34,4],[34,5,34,6],[34,7,34,8],[34,9,34,10],[34,11,34,12],[33,1,33,2],[33,3,33,4],[33,5,33,6],[33,7,33,8],[33,9,33,10],[33,11,33,12],[32,1,32,2],[32,3,32,4],[32,5,32,6],[32,7,32,8],[32,9,32,10],[32,11,32,12],[31,1,31,2],[31,3,31,4],[31,5,31,6],[31,7,31,8],[31,9,31,10],[31,11,31,12],[30,1,30,2],[30,3,30,4],[30,5,30,6],[30,7,30,8],[30,9,30,10],[30,11,30,12],[29,1,29,2],[29,3,29,4],[29,5,29,6],[29,7,29,8],[29,9,29,10],[29,11,29,12],[28,1,28,2],[28,3,28,4],[28,5,28,6],[28,7,28,8],[28,9,28,10],[28,11,28,12],[27,1,27,2],[27,3,27,4],[27,5,27,6],[27,7,27,8],[27,9,27,10],[27,11,27,12],[26,1,26,2],[26,3,26,4],[26,5,26,6],[26,7,26,8],[26,9,26,10],[26,11,26,12],[25,1,25,2],[25,3,25,4],[25,5,25,6],[25,7,25,8],[25,9,25,10],[25,11,25,12],[24,1,24,2],[24,3,24,4],[24,5,24,6],[24,7,24,8],[24,9,24,10],[24,11,24,12],[23,1,23,2],[23,3,23,4],[23,5,23,6],[23,7,23,8],[23,9,23,10],[23,11,23,12],[22,1,22,2],[22,3,22,4],[22,5,22,6],[22,7,22,8],[22,9,22,10],[22,11,22,12],[21,1,21,2],[21,3,21,4],[21,5,21,6],[21,7,21,8],[21,9,21,10],[21,11,21,12],[20,1,20,2],[20,3,20,4],[20,5,20,6],[20,7,20,8],[20,9,20,10],[20,11,20,12],[19,1,19,2],[19,3,19,4],[19,5,19,6],[19,7,19,8],[19,9,19,10],[19,11,19,12],[18,1,18,2],[18,3,18,4],[18,5,18,6],[18,7,18,8],[18,9,18,10],[18,11,18,12],[17,1,17,2],[17,3,17,4],[17,5,17,6],[17,7,17,8],[17,9,17,10],[17,11,17,12],[16,1,16,2],[16,3,16,4],[16,5,16,6],[16,7,16,8],[16,9,16,10],[16,11,16,12],[15,1,15,2],[15,3,15,4],[15,5,15,6],[15,7,15,8],[15,9,15,10],[15,11,15,12],[14,1,14,2],[14,3,14,4],[14,5,14,6],[14,7,14,8],[14,9,14,10],[14,11,14,12],[13,1,13,2],[13,3,13,4],[13,5,13,6],[13,7,13,8],[13,9,13,10],[13,11,13,12],[12,1,12,2],[12,3,12,4],[12,5,12,6],[12,7,12,8],[12,9,12,10],[12,11,12,12],[11,1,11,2],[11,3,11,4],[11,5,11,6],[11,7,11,8],[11,9,11,10],[11,11,11,12],[8,11,8,12],[7,1,7,2],[7,3,7,4],[7,5,7,6],[7,7,7,8],[7,9,7,10],[7,11,7,12],[10,1,10,2],[10,3,10,4],[10,5,10,6],[10,7,10,8],[10,9,10,10],[10,11,10,12],[9,1,9,2],[9,3,9,4],[9,5,9,6],[9,7,9,8],[9,9,9,10],[9,11,9,12],[8,1,8,2],[8,3,8,4],[8,5,8,6],[8,7,8,8],[8,9,8,10],[4,1,4,2],[4,3,4,4],[4,5,4,6],[4,7,4,8],[4,9,4,10],[4,16,4,17],[4,18,4,19],[6,1,6,2],[6,3,6,4],[6,5,6,6],[6,7,6,8],[6,9,6,10],[6,11,6,12],[5,1,5,2],[5,3,5,4],[5,5,5,6],[5,7,5,8],[5,9,5,10],[5,11,5,12],[4,20,4,21],[4,22,4,23],[4,24,4,25],[0,14,0,17],[0,18,0,21],[0,22,0,24],[3,14,3,25],[4,11,4,12],[4,14,4,15]]}
[null,null,null,null,null,null,null,null,null,null,null,null,null,null,"MSUAASF",null,null,null,"RANGE E",null,null,null,"7/1/2023 (FY24)"]
[null,null,null,null,null,null,null,null,null,null,null,null,null,null,null,null,{"$f":"'(HIDE) MASTER-Chart'!$G$3","v":62010},null,"to",null,{"$f":"'(HIDE) MASTER-Chart'!$G$22","v":107975}]
[]
["TOTAL",null,null,null,null,null,null,null,null,null,null,null,null,null,"Years in Equal or Higher MSUAASF, MnSCU Academic Professional, MnSCU Academic Supervisor  and/or MnSCU Administrator Ranges"]
["YRS EXP","0 - 1",null,"2 - 3",null,"4 - 5",null,"6 - 7",null,"8 - 9",null,"10 - 11",null,null,"0 - 1",null,"2 - 3",null,"4 - 5",null,"6 - 7",null,"8 - 9",null,"10 - 11"]
[" ",8,null,null,null,null,null,null,null,null,null,null,null,"TARGET",{"$f":"IFERROR(\nIF($W$1='(HIDE) MASTER-Chart'!$J$2,\nVLOOKUP(B6,'(HIDE) MASTER-Chart'!$B:$G,6,FALSE),\nVLOOKUP(B6,'(HIDE) MASTER-Chart'!$M:$R,6,FALSE)),\"\")","v":76148},{"$f":"IF(ISBLANK(B6),\"\",CONCATENATE(\"(\",B6,\")\"))","v":"(8)"},{"$f":"IFERROR(\nIF($W$1='(HIDE) MASTER-Chart'!$J$2,\nVLOOKUP(D6,'(HIDE) MASTER-Chart'!$B:$G,6,FALSE),\nVLOOKUP(D6,'(HIDE) MASTER-Chart'!$M:$R,6,FALSE)),\"\")","v":""},{"$f":"IF(ISBLANK(D6),\"\",CONCATENATE(\"(\",D6,\")\"))","v":""},{"$f":"IFERROR(\nIF($W$1='(HIDE) MASTER-Chart'!$J$2,\nVLOOKUP(F6,'(HIDE) MASTER-Chart'!$B:$G,6,FALSE),\nVLOOKUP(F6,'(HIDE) MASTER-Chart'!$M:$R,6,FALSE)),\"\")","v":""},{"$f":"IF(ISBLANK(F6),\"\",CONCATENATE(\"(\",F6,\")\"))","v":""},{"$f":"IFERROR(\nIF($W$1='(HIDE) MASTER-Chart'!$J$2,\nVLOOKUP(H6,'(HIDE) MASTER-Chart'!$B:$G,6,FALSE),\nVLOOKUP(H6,'(HIDE) MASTER-Chart'!$M:$R,6,FALSE)),\"\")","v":""},{"$f":"IF(ISBLANK(H6),\"\",CONCATENATE(\"(\",H6,\")\"))","v":""},{"$f":"IFERROR(\nIF($W$1='(HIDE) MASTER-Chart'!$J$2,\nVLOOKUP(J6,'(HIDE) MASTER-Chart'!$B:$G,6,FALSE),\nVLOOKUP(J6,'(HIDE) MASTER-Chart'!$M:$R,6,FALSE)),\"\")","v":""},{"$f":"IF(ISBLANK(J6),\"\",CONCATENATE(\"(\",J6,\")\"))","v":""},{"$f":"IFERROR(\nIF($W$1='(HIDE) MASTER-Chart'!$J$2,\nVLOOKUP(L6,'(HIDE) MASTER-Chart'!$B:$G,6,FALSE),\nVLOOKUP(L6,'(HIDE) MASTER-Chart'!$M:$R,6,FALSE)),\"\")","v":""},{"$f":"IF(ISBLANK(L6),\"\",CONCATENATE(\"(\",L6,\")\"))","v":""}]
["0 - 1",6,null,null,null,null,null,null,null,null,null,null,null,"2 STEP",{"$f":"IFERROR(\nIF($W$1='(HIDE) MASTER-Chart'!$J$2,\nVLOOKUP(B7,'(HIDE) MASTER-Chart'!$B:$G,6,FALSE),\nVLOOKUP(B7,'(HIDE) MASTER-Chart'!$M:$R,6,FALSE)),\"\")","v":71821},{"$f":"IF(ISBLANK(B7),\"\",CONCATENATE(\"(\",B7,\")\"))","v":"(6)"},{"$f":"IFERROR(\nIF($W$1='(HIDE) MASTER-Chart'!$J$2,\nVLOOKUP(D7,'(HIDE) MASTER-Chart'!$B:$G,6,FALSE),\nVLOOKUP(D7,'(HIDE) MASTER-Chart'!$M:$R,6,FALSE)),\"\")","v":""},"",{"$f":"IFERROR(\nIF($W$1='(HIDE) MASTER-Chart'!$J$2,\nVLOOKUP(F7,'(HIDE) MASTER-Chart'!$B:$G,6,FALSE),\nVLOOKUP(F7,'(HIDE) MASTER-Chart'!$M:$R,6,FALSE)),\"\")","v":""},"",{"$f":"IFERROR(\nIF($W$1='(HIDE) MASTER-Chart'!$J$2,\nVLOOKUP(H7,'(HIDE) MASTER-Chart'!$B:$G,6,FALSE),\nVLOOKUP(H7,'(HIDE) MASTER-Chart'!$M:$R,6,FALSE)),\"\")","v":""},"",{"$f":"IFERROR(\nIF($W$1='(HIDE) MASTER-Chart'!$J$2,\nVLOOKUP(J7,'(HIDE) MASTER-Chart'!$B:$G,6,FALSE),\nVLOOKUP(J7,'(HIDE) MASTER-Chart'!$M:$R,6,FALSE)),\"\")","v":""},"",{"$f":"IFERROR(\nIF($W$1='(HIDE) MASTER-Chart'!$J$2,\nVLOOKUP(L7,'(HIDE) MASTER-Chart'!$B:$G,6,FALSE),\nVLOOKUP(L7,'(HIDE) MASTER-Chart'!$M:$R,6,FALSE)),\"\")","v":""},""]
[null,null,null,null,null,null,null,null,null,null,null,null,null," ",{"$f":"IF(ISERROR(VLOOKUP(B8,'(HIDE) MASTER-Chart'!$B:$G,5,FALSE)),\"\",VLOOKUP(B8,'(HIDE) MASTER-Chart'!$B:$G,5,FALSE))","v":""},{"$f":"IF(ISBLANK(B8),\"\",CONCATENATE(\"(\",B8,\")\"))","v":""},{"$f":"IF(ISERROR(VLOOKUP(D8,'(HIDE) MASTER-Chart'!$B:$G,5,FALSE)),\"\",VLOOKUP(D8,'(HIDE) MASTER-Chart'!$B:$G,5,FALSE))","v":""},"",{"$f":"IF(ISERROR(VLOOKUP(F8,'(HIDE) MASTER-Chart'!$B:$G,5,FALSE)),\"\",VLOOKUP(F8,'(HIDE) MASTER-Chart'!$B:$G,5,FALSE))","v":""},"",{"$f":"IF(ISERROR(VLOOKUP(H8,'(HIDE) MASTER-Chart'!$B:$G,5,FALSE)),\"\",VLOOKUP(H8,'(HIDE) MASTER-Chart'!$B:$G,5,FALSE))","v":""},"",{"$f":"IF(ISERROR(VLOOKUP(J8,'(HIDE) MASTER-Chart'!$B:$G,5,FALSE)),\"\",VLOOKUP(J8,'(HIDE) MASTER-Chart'!$B:$G,5,FALSE))","v":""},"",{"$f":"IF(ISERROR(VLOOKUP(L8,'(HIDE) MASTER-Chart'!$B:$G,5,FALSE)),\"\",VLOOKUP(L8,'(HIDE) MASTER-Chart'!$B:$G,5,FALSE))","v":""},""]
[null,8,null,8,null,null,null,null,null,null,null,null,null,"TARGET",{"$f":"IFERROR(\nIF($W$1='(HIDE) MASTER-Chart'!$J$2,\nVLOOKUP(B9,'(HIDE) MASTER-Chart'!$B:$G,6,FALSE),\nVLOOKUP(B9,'(HIDE) MASTER-Chart'!$M:$R,6,FALSE)),\"\")","v":76148},{"$f":"IF(ISBLANK(B9),\"\",CONCATENATE(\"(\",B9,\")\"))","v":"(8)"},{"$f":"IFERROR(\nIF($W$1='(HIDE) MASTER-Chart'!$J$2,\nVLOOKUP(D9,'(HIDE) MASTER-Chart'!$B:$G,6,FALSE),\nVLOOKUP(D9,'(HIDE) MASTER-Chart'!$M:$R,6,FALSE)),\"\")","v":76148},{"$f":"IF(ISBLANK(D9),\"\",CONCATENATE(\"(\",D9,\")\"))","v":"(8)"},{"$f":"IFERROR(\nIF($W$1='(HIDE) MASTER-Chart'!$J$2,\nVLOOKUP(F9,'(HIDE) MASTER-Chart'!$B:$G,6,FALSE),\nVLOOKUP(F9,'(HIDE) MASTER-Chart'!$M:$R,6,FALSE)),\"\")","v":""},{"$f":"IF(ISBLANK(F9),\"\",CONCATENATE(\"(\",F9,\")\"))","v":""},{"$f":"IFERROR(\nIF($W$1='(HIDE) MASTER-Chart'!$J$2,\nVLOOKUP(H9,'(HIDE) MASTER-Chart'!$B:$G,6,FALSE),\nVLOOKUP(H9,'(HIDE) MASTER-Chart'!$M:$R,6,FALSE)),\"\")","v":""},{"$f":"IF(ISBLANK(H9),\"\",CONCATENATE(\"(\",H9,\")\"))","v":""},{"$f":"IFERROR(\nIF($W$1='(HIDE) MASTER-Chart'!$J$2,\nVLOOKUP(J9,'(HIDE) MASTER-Chart'!$B:$G,6,FALSE),\nVLOOKUP(J9,'(HIDE) MASTER-Chart'!$M:$R,6,FALSE)),\"\")","v":""},{"$f":"IF(ISBLANK(J9),\"\",CONCATENATE(\"(\",J9,\")\"))","v":""},{"$f":"IFERROR(\nIF($W$1='(HIDE) MASTER-Chart'!$J$2,\nVLOOKUP(L9,'(HIDE) MASTER-Chart'!$B:$G,6,FALSE),\nVLOOKUP(L9,'(HIDE) MASTER-Chart'!$M:$R,6,FALSE)),\"\")","v":""},{"$f":"IF(ISBLANK(L9),\"\",CONCATENATE(\"(\",L9,\")\"))","v":""}]
["2 - 3",6,null,6,null,null,null,null,null,null,null,null,null,"2 STEP",{"$f":"IFERROR(\nIF($W$1='(HIDE) MASTER-Chart'!$J$2,\nVLOOKUP(B10,'(HIDE) MASTER-Chart'!$B:$G,6,FALSE),\nVLOOKUP(B10,'(HIDE) MASTER-Chart'!$M:$R,6,FALSE)),\"\")","v":71821},"(6)",{"$f":"IFERROR(\nIF($W$1='(HIDE) MASTER-Chart'!$J$2,\nVLOOKUP(D10,'(HIDE) MASTER-Chart'!$B:$G,6,FALSE),\nVLOOKUP(D10,'(HIDE) MASTER-Chart'!$M:$R,6,FALSE)),\"\")","v":71821},"(6)",{"$f":"IFERROR(\nIF($W$1='(HIDE) MASTER-Chart'!$J$2,\nVLOOKUP(F10,'(HIDE) MASTER-Chart'!$B:$G,6,FALSE),\nVLOOKUP(F10,'(HIDE) MASTER-Chart'!$M:$R,6,FALSE)),\"\")","v":""},"",{"$f":"IFERROR(\nIF($W$1='(HIDE) MASTER-Chart'!$J$2,\nVLOOKUP(H10,'(HIDE) MASTER-Chart'!$B:$G,6,FALSE),\nVLOOKUP(H10,'(HIDE) MASTER-Chart'!$M:$R,6,FALSE)),\"\")","v":""},"",{"$f":"IFERROR(\nIF($W$1='(HIDE) MASTER-Chart'!$J$2,\nVLOOKUP(J10,'(HIDE) MASTER-Chart'!$B:$G,6,FALSE),\nVLOOKUP(J10,'(HIDE) MASTER-Chart'!$M:$R,6,FALSE)),\"\")","v":""},"",{"$f":"IFERROR(\nIF($W$1='(HIDE) MASTER-Chart'!$J$2,\nVLOOKUP(L10,'(HIDE) MASTER-Chart'!$B:$G,6,FALSE),\nVLOOKUP(L10,'(HIDE) MASTER-Chart'!$M:$R,6,FALSE)),\"\")","v":""},""]
[null,null,null,null,null,null,null,null,null,null,null,null,null," ",{"$f":"IF(ISERROR(VLOOKUP(B11,'(HIDE) MASTER-Chart'!$B:$G,5,FALSE)),\"\",VLOOKUP(B11,'(HIDE) MASTER-Chart'!$B:$G,5,FALSE))","v":""},"",{"$f":"IF(ISERROR(VLOOKUP(D11,'(HIDE) MASTER-Chart'!$B:$G,5,FALSE)),\"\",VLOOKUP(D11,'(HIDE) MASTER-Chart'!$B:$G,5,FALSE))","v":""},"",{"$f":"IF(ISERROR(VLOOKUP(F11,'(HIDE) MASTER-Chart'!$B:$G,5,FALSE)),\"\",VLOOKUP(F11,'(HIDE) MASTER-Chart'!$B:$G,5,FALSE))","v":""},"",{"$f":"IF(ISERROR(VLOOKUP(H11,'(HIDE) MASTER-Chart'!$B:$G,5,FALSE)),\"\",VLOOKUP(H11,'(HIDE) MASTER-Chart'!$B:$G,5,FALSE))","v":""},"",{"$f":"IF(ISERROR(VLOOKUP(J11,'(HIDE) MASTER-Chart'!$B:$G,5,FALSE)),\"\",VLOOKUP(J11,'(HIDE) MASTER-Chart'!$B:$G,5,FALSE))","v":""},"",{"$f":"IF(ISERROR(VLOOKUP(L11,'(HIDE) MASTER-Chart'!$B:$G,5,FALSE)),\"\",VLOOKUP(L11,'(HIDE) MASTER-Chart'!$B:$G,5,FALSE))","v":""},""]
[null,9,null,9,null,9,null,null,null,null,null,null,null,"TARGET",{"$f":"IFERROR(\nIF($W$1='(HIDE) MASTER-Chart'!$J$2,\nVLOOKUP(B12,'(HIDE) MASTER-Chart'!$B:$G,6,FALSE),\nVLOOKUP(B12,'(HIDE) MASTER-Chart'!$M:$R,6,FALSE)),\"\")","v":78388},"(9)",{"$f":"IFERROR(\nIF($W$1='(HIDE) MASTER-Chart'!$J$2,\nVLOOKUP(D12,'(HIDE) MASTER-Chart'!$B:$G,6,FALSE),\nVLOOKUP(D12,'(HIDE) MASTER-Chart'!$M:$R,6,FALSE)),\"\")","v":78388},"(9)",{"$f":"IFERROR(\nIF($W$1='(HIDE) MASTER-Chart'!$J$2,\nVLOOKUP(F12,'(HIDE) MASTER-Chart'!$B:$G,6,FALSE),\nVLOOKUP(F12,'(HIDE) MASTER-Chart'!$M:$R,6,FALSE)),\"\")","v":78388},"(9)",{"$f":"IFERROR(\nIF($W$1='(HIDE) MASTER-Chart'!$J$2,\nVLOOKUP(H12,'(HIDE) MASTER-Chart'!$B:$G,6,FALSE),\nVLOOKUP(H12,'(HIDE) MASTER-Chart'!$M:$R,6,FALSE)),\"\")","v":""},"",{"$f":"IFERROR(\nIF($W$1='(HIDE) MASTER-Chart'!$J$2,\nVLOOKUP(J12,'(HIDE) MASTER-Chart'!$B:$G,6,FALSE),\nVLOOKUP(J12,'(HIDE) MASTER-Chart'!$M:$R,6,FALSE)),\"\")","v":""},"",{"$f":"IFERROR(\nIF($W$1='(HIDE) MASTER-Chart'!$J$2,\nVLOOKUP(L12,'(HIDE) MASTER-Chart'!$B:$G,6,FALSE),\nVLOOKUP(L12,'(HIDE) MASTER-Chart'!$M:$R,6,FALSE)),\"\")","v":""},""]
["4 - 5",7,null,7,null,7,null,null,null,null,null,null,null,"2 STEP",{"$f":"IFERROR(\nIF($W$1='(HIDE) MASTER-Chart'!$J$2,\nVLOOKUP(B13,'(HIDE) MASTER-Chart'!$B:$G,6,FALSE),\nVLOOKUP(B13,'(HIDE) MASTER-Chart'!$M:$R,6,FALSE)),\"\")","v":73974},"(7)",{"$f":"IFERROR(\nIF($W$1='(HIDE) MASTER-Chart'!$J$2,\nVLOOKUP(D13,'(HIDE) MASTER-Chart'!$B:$G,6,FALSE),\nVLOOKUP(D13,'(HIDE) MASTER-Chart'!$M:$R,6,FALSE)),\"\")","v":73974},"(7)",{"$f":"IFERROR(\nIF($W$1='(HIDE) MASTER-Chart'!$J$2,\nVLOOKUP(F13,'(HIDE) MASTER-Chart'!$B:$G,6,FALSE),\nVLOOKUP(F13,'(HIDE) MASTER-Chart'!$M:$R,6,FALSE)),\"\")","v":73974},"(7)",{"$f":"IFERROR(\nIF($W$1='(HIDE) MASTER-Chart'!$J$2,\nVLOOKUP(H13,'(HIDE) MASTER-Chart'!$B:$G,6,FALSE),\nVLOOKUP(H13,'(HIDE) MASTER-Chart'!$M:$R,6,FALSE)),\"\")","v":""},"",{"$f":"IFERROR(\nIF($W$1='(HIDE) MASTER-Chart'!$J$2,\nVLOOKUP(J13,'(HIDE) MASTER-Chart'!$B:$G,6,FALSE),\nVLOOKUP(J13,'(HIDE) MASTER-Chart'!$M:$R,6,FALSE)),\"\")","v":""},"",{"$f":"IFERROR(\nIF($W$1='(HIDE) MASTER-Chart'!$J$2,\nVLOOKUP(L13,'(HIDE) MASTER-Chart'!$B:$G,6,FALSE),\nVLOOKUP(L13,'(HIDE) MASTER-Chart'!$M:$R,6,FALSE)),\"\")","v":""},""]
[null,null,null,null,null,null,null,null,null,null,null,null,null," ",{"$f":"IF(ISERROR(VLOOKUP(B14,'(HIDE) MASTER-Chart'!$B:$G,5,FALSE)),\"\",VLOOKUP(B14,'(HIDE) MASTER-Chart'!$B:$G,5,FALSE))","v":""},"",{"$f":"IF(ISERROR(VLOOKUP(D14,'(HIDE) MASTER-Chart'!$B:$G,5,FALSE)),\"\",VLOOKUP(D14,'(HIDE) MASTER-Chart'!$B:$G,5,FALSE))","v":""},"",{"$f":"IF(ISERROR(VLOOKUP(F14,'(HIDE) MASTER-Chart'!$B:$G,5,FALSE)),\"\",VLOOKUP(F14,'(HIDE) MASTER-Chart'!$B:$G,5,FALSE))","v":""},"",{"$f":"IF(ISERROR(VLOOKUP(H14,'(HIDE) MASTER-Chart'!$B:$G,5,FALSE)),\"\",VLOOKUP(H14,'(HIDE) MASTER-Chart'!$B:$G,5,FALSE))","v":""},"",{"$f":"IF(ISERROR(VLOOKUP(J14,'(HIDE) MASTER-Chart'!$B:$G,5,FALSE)),\"\",VLOOKUP(J14,'(HIDE) MASTER-Chart'!$B:$G,5,FALSE))","v":""},"",{"$f":"IF(ISERROR(VLOOKUP(L14,'(HIDE) MASTER-Chart'!$B:$G,5,FALSE)),\"\",VLOOKUP(L14,'(HIDE) MASTER-Chart'!$B:$G,5,FALSE))","v":""},""]
[null,9,null,9,null,10,null,10,null,null,null,null,null,"TARGET",{"$f":"IFERROR(\nIF($W$1='(HIDE) MASTER-Chart'!$J$2,\nVLOOKUP(B15,'(HIDE) MASTER-Chart'!$B:$G,6,FALSE),\nVLOOKUP(B15,'(HIDE) MASTER-Chart'!$M:$R,6,FALSE)),\"\")","v":78388},"(9)",{"$f":"IFERROR(\nIF($W$1='(HIDE) MASTER-Chart'!$J$2,\nVLOOKUP(D15,'(HIDE) MASTER-Chart'!$B:$G,6,FALSE),\nVLOOKUP(D15,'(HIDE) MASTER-Chart'!$M:$R,6,FALSE)),\"\")","v":78388},"(9)",{"$f":"IFERROR(\nIF($W$1='(HIDE) MASTER-Chart'!$J$2,\nVLOOKUP(F15,'(HIDE) MASTER-Chart'!$B:$G,6,FALSE),\nVLOOKUP(F15,'(HIDE) MASTER-Chart'!$M:$R,6,FALSE)),\"\")","v":80696},"(10)",{"$f":"IFERROR(\nIF($W$1='(HIDE) MASTER-Chart'!$J$2,\nVLOOKUP(H15,'(HIDE) MASTER-Chart'!$B:$G,6,FALSE),\nVLOOKUP(H15,'(HIDE) MASTER-Chart'!$M:$R,6,FALSE)),\"\")","v":80696},"(10)",{"$f":"IFERROR(\nIF($W$1='(HIDE) MASTER-Chart'!$J$2,\nVLOOKUP(J15,'(HIDE) MASTER-Chart'!$B:$G,6,FALSE),\nVLOOKUP(J15,'(HIDE) MASTER-Chart'!$M:$R,6,FALSE)),\"\")","v":""},"",{"$f":"IFERROR(\nIF($W$1='(HIDE) MASTER-Chart'!$J$2,\nVLOOKUP(L15,'(HIDE) MASTER-Chart'!$B:$G,6,FALSE),\nVLOOKUP(L15,'(HIDE) MASTER-Chart'!$M:$R,6,FALSE)),\"\")","v":""},""]
["6 - 7",7,null,7,null,8,null,8,null,null,null,null,null,"2 STEP",{"$f":"IFERROR(\nIF($W$1='(HIDE) MASTER-Chart'!$J$2,\nVLOOKUP(B16,'(HIDE) MASTER-Chart'!$B:$G,6,FALSE),\nVLOOKUP(B16,'(HIDE) MASTER-Chart'!$M:$R,6,FALSE)),\"\")","v":73974},"(7)",{"$f":"IFERROR(\nIF($W$1='(HIDE) MASTER-Chart'!$J$2,\nVLOOKUP(D16,'(HIDE) MASTER-Chart'!$B:$G,6,FALSE),\nVLOOKUP(D16,'(HIDE) MASTER-Chart'!$M:$R,6,FALSE)),\"\")","v":73974},"(7)",{"$f":"IFERROR(\nIF($W$1='(HIDE) MASTER-Chart'!$J$2,\nVLOOKUP(F16,'(HIDE) MASTER-Chart'!$B:$G,6,FALSE),\nVLOOKUP(F16,'(HIDE) MASTER-Chart'!$M:$R,6,FALSE)),\"\")","v":76148},"(8)",{"$f":"IFERROR(\nIF($W$1='(HIDE) MASTER-Chart'!$J$2,\nVLOOKUP(H16,'(HIDE) MASTER-Chart'!$B:$G,6,FALSE),\nVLOOKUP(H16,'(HIDE) MASTER-Chart'!$M:$R,6,FALSE)),\"\")","v":76148},"(8)",{"$f":"IFERROR(\nIF($W$1='(HIDE) MASTER-Chart'!$J$2,\nVLOOKUP(J16,'(HIDE) MASTER-Chart'!$B:$G,6,FALSE),\nVLOOKUP(J16,'(HIDE) MASTER-Chart'!$M:$R,6,FALSE)),\"\")","v":""},"",{"$f":"IFERROR(\nIF($W$1='(HIDE) MASTER-Chart'!$J$2,\nVLOOKUP(L16,'(HIDE) MASTER-Chart'!$B:$G,6,FALSE),\nVLOOKUP(L16,'(HIDE) MASTER-Chart'!$M:$R,6,FALSE)),\"\")","v":""},""]
[null,null,null,null,null,null,null,null,null,null,null,null,null," ",{"$f":"IF(ISERROR(VLOOKUP(B17,'(HIDE) MASTER-Chart'!$B:$G,5,FALSE)),\"\",VLOOKUP(B17,'(HIDE) MASTER-Chart'!$B:$G,5,FALSE))","v":""},"",{"$f":"IF(ISERROR(VLOOKUP(D17,'(HIDE) MASTER-Chart'!$B:$G,5,FALSE)),\"\",VLOOKUP(D17,'(HIDE) MASTER-Chart'!$B:$G,5,FALSE))","v":""},"",{"$f":"IF(ISERROR(VLOOKUP(F17,'(HIDE) MASTER-Chart'!$B:$G,5,FALSE)),\"\",VLOOKUP(F17,'(HIDE) MASTER-Chart'!$B:$G,5,FALSE))","v":""},"",{"$f":"IF(ISERROR(VLOOKUP(H17,'(HIDE) MASTER-Chart'!$B:$G,5,FALSE)),\"\",VLOOKUP(H17,'(HIDE) MASTER-Chart'!$B:$G,5,FALSE))","v":""},"",{"$f":"IF(ISERROR(VLOOKUP(J17,'(HIDE) MASTER-Chart'!$B:$G,5,FALSE)),\"\",VLOOKUP(J17,'(HIDE) MASTER-Chart'!$B:$G,5,FALSE))","v":""},"",{"$f":"IF(ISERROR(VLOOKUP(L17,'(HIDE) MASTER-Chart'!$B:$G,5,FALSE)),\"\",VLOOKUP(L17,'(HIDE) MASTER-Chart'!$B:$G,5,FALSE))","v":""},""]
[null,10,null,10,null,10,null,10,null,11,null,null,null,"TARGET",{"$f":"IFERROR(\nIF($W$1='(HIDE) MASTER-Chart'!$J$2,\nVLOOKUP(B18,'(HIDE) MASTER-Chart'!$B:$G,6,FALSE),\nVLOOKUP(B18,'(HIDE) MASTER-Chart'!$M:$R,6,FALSE)),\"\")","v":80696},"(10)",{"$f":"IFERROR(\nIF($W$1='(HIDE) MASTER-Chart'!$J$2,\nVLOOKUP(D18,'(HIDE) MASTER-Chart'!$B:$G,6,FALSE),\nVLOOKUP(D18,'(HIDE) MASTER-Chart'!$M:$R,6,FALSE)),\"\")","v":80696},"(10)",{"$f":"IFERROR(\nIF($W$1='(HIDE) MASTER-Chart'!$J$2,\nVLOOKUP(F18,'(HIDE) MASTER-Chart'!$B:$G,6,FALSE),\nVLOOKUP(F18,'(HIDE) MASTER-Chart'!$M:$R,6,FALSE)),\"\")","v":80696},"(10)",{"$f":"IFERROR(\nIF($W$1='(HIDE) MASTER-Chart'!$J$2,\nVLOOKUP(H18,'(HIDE) MASTER-Chart'!$B:$G,6,FALSE),\nVLOOKUP(H18,'(HIDE) MASTER-Chart'!$M:$R,6,FALSE)),\"\")","v":80696},"(10)",{"$f":"IFERROR(\nIF($W$1='(HIDE) MASTER-Chart'!$J$2,\nVLOOKUP(J18,'(HIDE) MASTER-Chart'!$B:$G,6,FALSE),\nVLOOKUP(J18,'(HIDE) MASTER-Chart'!$M:$R,6,FALSE)),\"\")","v":83073},"(11)",{"$f":"IFERROR(\nIF($W$1='(HIDE) MASTER-Chart'!$J$2,\nVLOOKUP(L18,'(HIDE) MASTER-Chart'!$B:$G,6,FALSE),\nVLOOKUP(L18,'(HIDE) MASTER-Chart'!$M:$R,6,FALSE)),\"\")","v":""},""]
[" 8 - 9",8,null,8,null,8,null,8,null,9,null,null,null,"2 STEP",{"$f":"IFERROR(\nIF($W$1='(HIDE) MASTER-Chart'!$J$2,\nVLOOKUP(B19,'(HIDE) MASTER-Chart'!$B:$G,6,FALSE),\nVLOOKUP(B19,'(HIDE) MASTER-Chart'!$M:$R,6,FALSE)),\"\")","v":76148},"(8)",{"$f":"IFERROR(\nIF($W$1='(HIDE) MASTER-Chart'!$J$2,\nVLOOKUP(D19,'(HIDE) MASTER-Chart'!$B:$G,6,FALSE),\nVLOOKUP(D19,'(HIDE) MASTER-Chart'!$M:$R,6,FALSE)),\"\")","v":76148},"(8)",{"$f":"IFERROR(\nIF($W$1='(HIDE) MASTER-Chart'!$J$2,\nVLOOKUP(F19,'(HIDE) MASTER-Chart'!$B:$G,6,FALSE),\nVLOOKUP(F19,'(HIDE) MASTER-Chart'!$M:$R,6,FALSE)),\"\")","v":76148},"(8)",{"$f":"IFERROR(\nIF($W$1='(HIDE) MASTER-Chart'!$J$2,\nVLOOKUP(H19,'(HIDE) MASTER-Chart'!$B:$G,6,FALSE),\nVLOOKUP(H19,'(HIDE) MASTER-Chart'!$M:$R,6,FALSE)),\"\")","v":76148},"(8)",{"$f":"IFERROR(\nIF($W$1='(HIDE) MASTER-Chart'!$J$2,\nVLOOKUP(J19,'(HIDE) MASTER-Chart'!$B:$G,6,FALSE),\nVLOOKUP(J19,'(HIDE) MASTER-Chart'!$M:$R,6,FALSE)),\"\")","v":78388},"(9)",{"$f":"IFERROR(\nIF($W$1='(HIDE) MASTER-Chart'!$J$2,\nVLOOKUP(L19,'(HIDE) MASTER-Chart'!$B:$G,6,FALSE),\nVLOOKUP(L19,'(HIDE) MASTER-Chart'!$M:$R,6,FALSE)),\"\")","v":""},""]
[null,null,null,null,null,null,null,null,null,null,null,null,null," ",{"$f":"IF(ISERROR(VLOOKUP(B20,'(HIDE) MASTER-Chart'!$B:$G,5,FALSE)),\"\",VLOOKUP(B20,'(HIDE) MASTER-Chart'!$B:$G,5,FALSE))","v":""},"",{"$f":"IF(ISERROR(VLOOKUP(D20,'(HIDE) MASTER-Chart'!$B:$G,5,FALSE)),\"\",VLOOKUP(D20,'(HIDE) MASTER-Chart'!$B:$G,5,FALSE))","v":""},"",{"$f":"IF(ISERROR(VLOOKUP(F20,'(HIDE) MASTER-Chart'!$B:$G,5,FALSE)),\"\",VLOOKUP(F20,'(HIDE) MASTER-Chart'!$B:$G,5,FALSE))","v":""},"",{"$f":"IF(ISERROR(VLOOKUP(H20,'(HIDE) MASTER-Chart'!$B:$G,5,FALSE)),\"\",VLOOKUP(H20,'(HIDE) MASTER-Chart'!$B:$G,5,FALSE))","v":""},"",{"$f":"IF(ISERROR(VLOOKUP(J20,'(HIDE) MASTER-Chart'!$B:$G,5,FALSE)),\"\",VLOOKUP(J20,'(HIDE) MASTER-Chart'!$B:$G,5,FALSE))","v":""},"",{"$f":"IF(ISERROR(VLOOKUP(L20,'(HIDE) MASTER-Chart'!$B:$G,5,FALSE)),\"\",VLOOKUP(L20,'(HIDE) MASTER-Chart'!$B:$G,5,FALSE))","v":""},""]
[null,10,null,10,null,11,null,11,null,11,null,11,null,"TARGET",{"$f":"IFERROR(\nIF($W$1='(HIDE) MASTER-Chart'!$J$2,\nVLOOKUP(B21,'(HIDE) MASTER-Chart'!$B:$G,6,FALSE),\nVLOOKUP(B21,'(HIDE) MASTER-Chart'!$M:$R,6,FALSE)),\"\")","v":80696},"(10)",{"$f":"IFERROR(\nIF($W$1='(HIDE) MASTER-Chart'!$J$2,\nVLOOKUP(D21,'(HIDE) MASTER-Chart'!$B:$G,6,FALSE),\nVLOOKUP(D21,'(HIDE) MASTER-Chart'!$M:$R,6,FALSE)),\"\")","v":80696},"(10)",{"$f":"IFERROR(\nIF($W$1='(HIDE) MASTER-Chart'!$J$2,\nVLOOKUP(F21,'(HIDE) MASTER-Chart'!$B:$G,6,FALSE),\nVLOOKUP(F21,'(HIDE) MASTER-Chart'!$M:$R,6,FALSE)),\"\")","v":83073},"(11)",{"$f":"IFERROR(\nIF($W$1='(HIDE) MASTER-Chart'!$J$2,\nVLOOKUP(H21,'(HIDE) MASTER-Chart'!$B:$G,6,FALSE),\nVLOOKUP(H21,'(HIDE) MASTER-Chart'!$M:$R,6,FALSE)),\"\")","v":83073},"(11)",{"$f":"IFERROR(\nIF($W$1='(HIDE) MASTER-Chart'!$J$2,\nVLOOKUP(J21,'(HIDE) MASTER-Chart'!$B:$G,6,FALSE),\nVLOOKUP(J21,'(HIDE) MASTER-Chart'!$M:$R,6,FALSE)),\"\")","v":83073},"(11)",{"$f":"IFERROR(\nIF($W$1='(HIDE) MASTER-Chart'!$J$2,\nVLOOKUP(L21,'(HIDE) MASTER-Chart'!$B:$G,6,FALSE),\nVLOOKUP(L21,'(HIDE) MASTER-Chart'!$M:$R,6,FALSE)),\"\")","v":83073},"(11)"]
["10 - 11",8,null,8,null,9,null,9,null,9,null,9,null,"2 STEP",{"$f":"IFERROR(\nIF($W$1='(HIDE) MASTER-Chart'!$J$2,\nVLOOKUP(B22,'(HIDE) MASTER-Chart'!$B:$G,6,FALSE),\nVLOOKUP(B22,'(HIDE) MASTER-Chart'!$M:$R,6,FALSE)),\"\")","v":76148},"(8)",{"$f":"IFERROR(\nIF($W$1='(HIDE) MASTER-Chart'!$J$2,\nVLOOKUP(D22,'(HIDE) MASTER-Chart'!$B:$G,6,FALSE),\nVLOOKUP(D22,'(HIDE) MASTER-Chart'!$M:$R,6,FALSE)),\"\")","v":76148},"(8)",{"$f":"IFERROR(\nIF($W$1='(HIDE) MASTER-Chart'!$J$2,\nVLOOKUP(F22,'(HIDE) MASTER-Chart'!$B:$G,6,FALSE),\nVLOOKUP(F22,'(HIDE) MASTER-Chart'!$M:$R,6,FALSE)),\"\")","v":78388},"(9)",{"$f":"IFERROR(\nIF($W$1='(HIDE) MASTER-Chart'!$J$2,\nVLOOKUP(H22,'(HIDE) MASTER-Chart'!$B:$G,6,FALSE),\nVLOOKUP(H22,'(HIDE) MASTER-Chart'!$M:$R,6,FALSE)),\"\")","v":78388},"(9)",{"$f":"IFERROR(\nIF($W$1='(HIDE) MASTER-Chart'!$J$2,\nVLOOKUP(J22,'(HIDE) MASTER-Chart'!$B:$G,6,FALSE),\nVLOOKUP(J22,'(HIDE) MASTER-Chart'!$M:$R,6,FALSE)),\"\")","v":78388},"(9)",{"$f":"IFERROR(\nIF($W$1='(HIDE) MASTER-Chart'!$J$2,\nVLOOKUP(L22,'(HIDE) MASTER-Chart'!$B:$G,6,FALSE),\nVLOOKUP(L22,'(HIDE) MASTER-Chart'!$M:$R,6,FALSE)),\"\")","v":78388},"(9)"]
[null,null,null,null,null,null,null,null,null,null,null,null,null," ",{"$f":"IF(ISERROR(VLOOKUP(B23,'(HIDE) MASTER-Chart'!$B:$G,5,FALSE)),\"\",VLOOKUP(B23,'(HIDE) MASTER-Chart'!$B:$G,5,FALSE))","v":""},"",{"$f":"IF(ISERROR(VLOOKUP(D23,'(HIDE) MASTER-Chart'!$B:$G,5,FALSE)),\"\",VLOOKUP(D23,'(HIDE) MASTER-Chart'!$B:$G,5,FALSE))","v":""},"",{"$f":"IF(ISERROR(VLOOKUP(F23,'(HIDE) MASTER-Chart'!$B:$G,5,FALSE)),\"\",VLOOKUP(F23,'(HIDE) MASTER-Chart'!$B:$G,5,FALSE))","v":""},"",{"$f":"IF(ISERROR(VLOOKUP(H23,'(HIDE) MASTER-Chart'!$B:$G,5,FALSE)),\"\",VLOOKUP(H23,'(HIDE) MASTER-Chart'!$B:$G,5,FALSE))","v":""},"",{"$f":"IF(ISERROR(VLOOKUP(J23,'(HIDE) MASTER-Chart'!$B:$G,5,FALSE)),\"\",VLOOKUP(J23,'(HIDE) MASTER-Chart'!$B:$G,5,FALSE))","v":""},"",{"$f":"IF(ISERROR(VLOOKUP(L23,'(HIDE) MASTER-Chart'!$B:$G,5,FALSE)),\"\",VLOOKUP(L23,'(HIDE) MASTER-Chart'!$B:$G,5,FALSE))","v":""},""]
[null,11,null,11,null,11,null,11,null,12,null,12,null,"TARGET",{"$f":"IFERROR(\nIF($W$1='(HIDE) MASTER-Chart'!$J$2,\nVLOOKUP(B24,'(HIDE) MASTER-Chart'!$B:$G,6,FALSE),\nVLOOKUP(B24,'(HIDE) MASTER-Chart'!$M:$R,6,FALSE)),\"\")","v":83073},"(11)",{"$f":"IFERROR(\nIF($W$1='(HIDE) MASTER-Chart'!$J$2,\nVLOOKUP(D24,'(HIDE) MASTER-Chart'!$B:$G,6,FALSE),\nVLOOKUP(D24,'(HIDE) MASTER-Chart'!$M:$R,6,FALSE)),\"\")","v":83073},"(11)",{"$f":"IFERROR(\nIF($W$1='(HIDE) MASTER-Chart'!$J$2,\nVLOOKUP(F24,'(HIDE) MASTER-Chart'!$B:$G,6,FALSE),\nVLOOKUP(F24,'(HIDE) MASTER-Chart'!$M:$R,6,FALSE)),\"\")","v":83073},"(11)",{"$f":"IFERROR(\nIF($W$1='(HIDE) MASTER-Chart'!$J$2,\nVLOOKUP(H24,'(HIDE) MASTER-Chart'!$B:$G,6,FALSE),\nVLOOKUP(H24,'(HIDE) MASTER-Chart'!$M:$R,6,FALSE)),\"\")","v":83073},"(11)",{"$f":"IFERROR(\nIF($W$1='(HIDE) MASTER-Chart'!$J$2,\nVLOOKUP(J24,'(HIDE) MASTER-Chart'!$B:$G,6,FALSE),\nVLOOKUP(J24,'(HIDE) MASTER-Chart'!$M:$R,6,FALSE)),\"\")","v":85517},"(12)",{"$f":"IFERROR(\nIF($W$1='(HIDE) MASTER-Chart'!$J$2,\nVLOOKUP(L24,'(HIDE) MASTER-Chart'!$B:$G,6,FALSE),\nVLOOKUP(L24,'(HIDE) MASTER-Chart'!$M:$R,6,FALSE)),\"\")","v":85517},"(12)"]
["12 - 13",9,null,9,null,9,null,9,null,10,null,10,null,"2 STEP",{"$f":"IFERROR(\nIF($W$1='(HIDE) MASTER-Chart'!$J$2,\nVLOOKUP(B25,'(HIDE) MASTER-Chart'!$B:$G,6,FALSE),\nVLOOKUP(B25,'(HIDE) MASTER-Chart'!$M:$R,6,FALSE)),\"\")","v":78388},"(9)",{"$f":"IFERROR(\nIF($W$1='(HIDE) MASTER-Chart'!$J$2,\nVLOOKUP(D25,'(HIDE) MASTER-Chart'!$B:$G,6,FALSE),\nVLOOKUP(D25,'(HIDE) MASTER-Chart'!$M:$R,6,FALSE)),\"\")","v":78388},"(9)",{"$f":"IFERROR(\nIF($W$1='(HIDE) MASTER-Chart'!$J$2,\nVLOOKUP(F25,'(HIDE) MASTER-Chart'!$B:$G,6,FALSE),\nVLOOKUP(F25,'(HIDE) MASTER-Chart'!$M:$R,6,FALSE)),\"\")","v":78388},"(9)",{"$f":"IFERROR(\nIF($W$1='(HIDE) MASTER-Chart'!$J$2,\nVLOOKUP(H25,'(HIDE) MASTER-Chart'!$B:$G,6,FALSE),\nVLOOKUP(H25,'(HIDE) MASTER-Chart'!$M:$R,6,FALSE)),\"\")","v":78388},"(9)",{"$f":"IFERROR(\nIF($W$1='(HIDE) MASTER-Chart'!$J$2,\nVLOOKUP(J25,'(HIDE) MASTER-Chart'!$B:$G,6,FALSE),\nVLOOKUP(J25,'(HIDE) MASTER-Chart'!$M:$R,6,FALSE)),\"\")","v":80696},"(10)",{"$f":"IFERROR(\nIF($W$1='(HIDE) MASTER-Chart'!$J$2,\nVLOOKUP(L25,'(HIDE) MASTER-Chart'!$B:$G,6,FALSE),\nVLOOKUP(L25,'(HIDE) MASTER-Chart'!$M:$R,6,FALSE)),\"\")","v":80696},"(10)"]
[null,null,null,null,null,null,null,null,null,null,null,null,null," ",{"$f":"IF(ISERROR(VLOOKUP(B26,'(HIDE) MASTER-Chart'!$B:$G,5,FALSE)),\"\",VLOOKUP(B26,'(HIDE) MASTER-Chart'!$B:$G,5,FALSE))","v":""},"",{"$f":"IF(ISERROR(VLOOKUP(D26,'(HIDE) MASTER-Chart'!$B:$G,5,FALSE)),\"\",VLOOKUP(D26,'(HIDE) MASTER-Chart'!$B:$G,5,FALSE))","v":""},"",{"$f":"IF(ISERROR(VLOOKUP(F26,'(HIDE) MASTER-Chart'!$B:$G,5,FALSE)),\"\",VLOOKUP(F26,'(HIDE) MASTER-Chart'!$B:$G,5,FALSE))","v":""},"",{"$f":"IF(ISERROR(VLOOKUP(H26,'(HIDE) MASTER-Chart'!$B:$G,5,FALSE)),\"\",VLOOKUP(H26,'(HIDE) MASTER-Chart'!$B:$G,5,FALSE))","v":""},"",{"$f":"IF(ISERROR(VLOOKUP(J26,'(HIDE) MASTER-Chart'!$B:$G,5,FALSE)),\"\",VLOOKUP(J26,'(HIDE) MASTER-Chart'!$B:$G,5,FALSE))","v":""},"",{"$f":"IF(ISERROR(VLOOKUP(L26,'(HIDE) MASTER-Chart'!$B:$G,5,FALSE)),\"\",VLOOKUP(L26,'(HIDE) MASTER-Chart'!$B:$G,5,FALSE))","v":""},""]
[null,11,null,11,null,12,null,12,null,12,null,12,null,"TARGET",{"$f":"IFERROR(\nIF($W$1='(HIDE) MASTER-Chart'!$J$2,\nVLOOKUP(B27,'(HIDE) MASTER-Chart'!$B:$G,6,FALSE),\nVLOOKUP(B27,'(HIDE) MASTER-Chart'!$M:$R,6,FALSE)),\"\")","v":83073},"(11)",{"$f":"IFERROR(\nIF($W$1='(HIDE) MASTER-Chart'!$J$2,\nVLOOKUP(D27,'(HIDE) MASTER-Chart'!$B:$G,6,FALSE),\nVLOOKUP(D27,'(HIDE) MASTER-Chart'!$M:$R,6,FALSE)),\"\")","v":83073},"(11)",{"$f":"IFERROR(\nIF($W$1='(HIDE) MASTER-Chart'!$J$2,\nVLOOKUP(F27,'(HIDE) MASTER-Chart'!$B:$G,6,FALSE),\nVLOOKUP(F27,'(HIDE) MASTER-Chart'!$M:$R,6,FALSE)),\"\")","v":85517},"(12)",{"$f":"IFERROR(\nIF($W$1='(HIDE) MASTER-Chart'!$J$2,\nVLOOKUP(H27,'(HIDE) MASTER-Chart'!$B:$G,6,FALSE),\nVLOOKUP(H27,'(HIDE) MASTER-Chart'!$M:$R,6,FALSE)),\"\")","v":85517},"(12)",{"$f":"IFERROR(\nIF($W$1='(HIDE) MASTER-Chart'!$J$2,\nVLOOKUP(J27,'(HIDE) MASTER-Chart'!$B:$G,6,FALSE),\nVLOOKUP(J27,'(HIDE) MASTER-Chart'!$M:$R,6,FALSE)),\"\")","v":85517},"(12)",{"$f":"IFERROR(\nIF($W$1='(HIDE) MASTER-Chart'!$J$2,\nVLOOKUP(L27,'(HIDE) MASTER-Chart'!$B:$G,6,FALSE),\nVLOOKUP(L27,'(HIDE) MASTER-Chart'!$M:$R,6,FALSE)),\"\")","v":85517},"(12)"]
["14 - 15",9,null,9,null,10,null,10,null,10,null,10,null,"2 STEP",{"$f":"IFERROR(\nIF($W$1='(HIDE) MASTER-Chart'!$J$2,\nVLOOKUP(B28,'(HIDE) MASTER-Chart'!$B:$G,6,FALSE),\nVLOOKUP(B28,'(HIDE) MASTER-Chart'!$M:$R,6,FALSE)),\"\")","v":78388},"(9)",{"$f":"IFERROR(\nIF($W$1='(HIDE) MASTER-Chart'!$J$2,\nVLOOKUP(D28,'(HIDE) MASTER-Chart'!$B:$G,6,FALSE),\nVLOOKUP(D28,'(HIDE) MASTER-Chart'!$M:$R,6,FALSE)),\"\")","v":78388},"(9)",{"$f":"IFERROR(\nIF($W$1='(HIDE) MASTER-Chart'!$J$2,\nVLOOKUP(F28,'(HIDE) MASTER-Chart'!$B:$G,6,FALSE),\nVLOOKUP(F28,'(HIDE) MASTER-Chart'!$M:$R,6,FALSE)),\"\")","v":80696},"(10)",{"$f":"IFERROR(\nIF($W$1='(HIDE) MASTER-Chart'!$J$2,\nVLOOKUP(H28,'(HIDE) MASTER-Chart'!$B:$G,6,FALSE),\nVLOOKUP(H28,'(HIDE) MASTER-Chart'!$M:$R,6,FALSE)),\"\")","v":80696},"(10)",{"$f":"IFERROR(\nIF($W$1='(HIDE) MASTER-Chart'!$J$2,\nVLOOKUP(J28,'(HIDE) MASTER-Chart'!$B:$G,6,FALSE),\nVLOOKUP(J28,'(HIDE) MASTER-Chart'!$M:$R,6,FALSE)),\"\")","v":80696},"(10)",{"$f":"IFERROR(\nIF($W$1='(HIDE) MASTER-Chart'!$J$2,\nVLOOKUP(L28,'(HIDE) MASTER-Chart'!$B:$G,6,FALSE),\nVLOOKUP(L28,'(HIDE) MASTER-Chart'!$M:$R,6,FALSE)),\"\")","v":80696},"(10)"]
[null,null,null,null,null,null,null,null,null,null,null,null,null," ",{"$f":"IF(ISERROR(VLOOKUP(B29,'(HIDE) MASTER-Chart'!$B:$G,5,FALSE)),\"\",VLOOKUP(B29,'(HIDE) MASTER-Chart'!$B:$G,5,FALSE))","v":""},"",{"$f":"IF(ISERROR(VLOOKUP(D29,'(HIDE) MASTER-Chart'!$B:$G,5,FALSE)),\"\",VLOOKUP(D29,'(HIDE) MASTER-Chart'!$B:$G,5,FALSE))","v":""},"",{"$f":"IF(ISERROR(VLOOKUP(F29,'(HIDE) MASTER-Chart'!$B:$G,5,FALSE)),\"\",VLOOKUP(F29,'(HIDE) MASTER-Chart'!$B:$G,5,FALSE))","v":""},"",{"$f":"IF(ISERROR(VLOOKUP(H29,'(HIDE) MASTER-Chart'!$B:$G,5,FALSE)),\"\",VLOOKUP(H29,'(HIDE) MASTER-Chart'!$B:$G,5,FALSE))","v":""},"",{"$f":"IF(ISERROR(VLOOKUP(J29,'(HIDE) MASTER-Chart'!$B:$G,5,FALSE)),\"\",VLOOKUP(J29,'(HIDE) MASTER-Chart'!$B:$G,5,FALSE))","v":""},"",{"$f":"IF(ISERROR(VLOOKUP(L29,'(HIDE) MASTER-Chart'!$B:$G,5,FALSE)),\"\",VLOOKUP(L29,'(HIDE) MASTER-Chart'!$B:$G,5,FALSE))","v":""},""]
[null,11,null,12,null,12,null,12,null,12,null,13,null,"TARGET",{"$f":"IFERROR(\nIF($W$1='(HIDE) MASTER-Chart'!$J$2,\nVLOOKUP(B30,'(HIDE) MASTER-Chart'!$B:$G,6,FALSE),\nVLOOKUP(B30,'(HIDE) MASTER-Chart'!$M:$R,6,FALSE)),\"\")","v":83073},"(11)",{"$f":"IFERROR(\nIF($W$1='(HIDE) MASTER-Chart'!$J$2,\nVLOOKUP(D30,'(HIDE) MASTER-Chart'!$B:$G,6,FALSE),\nVLOOKUP(D30,'(HIDE) MASTER-Chart'!$M:$R,6,FALSE)),\"\")","v":85517},"(12)",{"$f":"IFERROR(\nIF($W$1='(HIDE) MASTER-Chart'!$J$2,\nVLOOKUP(F30,'(HIDE) MASTER-Chart'!$B:$G,6,FALSE),\nVLOOKUP(F30,'(HIDE) MASTER-Chart'!$M:$R,6,FALSE)),\"\")","v":85517},"(12)",{"$f":"IFERROR(\nIF($W$1='(HIDE) MASTER-Chart'!$J$2,\nVLOOKUP(H30,'(HIDE) MASTER-Chart'!$B:$G,6,FALSE),\nVLOOKUP(H30,'(HIDE) MASTER-Chart'!$M:$R,6,FALSE)),\"\")","v":85517},"(12)",{"$f":"IFERROR(\nIF($W$1='(HIDE) MASTER-Chart'!$J$2,\nVLOOKUP(J30,'(HIDE) MASTER-Chart'!$B:$G,6,FALSE),\nVLOOKUP(J30,'(HIDE) MASTER-Chart'!$M:$R,6,FALSE)),\"\")","v":85517},"(12)",{"$f":"IFERROR(\nIF($W$1='(HIDE) MASTER-Chart'!$J$2,\nVLOOKUP(L30,'(HIDE) MASTER-Chart'!$B:$G,6,FALSE),\nVLOOKUP(L30,'(HIDE) MASTER-Chart'!$M:$R,6,FALSE)),\"\")","v":88035},"(13)"]
["16 - 17",9,null,10,null,10,null,10,null,10,null,11,null,"2 STEP",{"$f":"IFERROR(\nIF($W$1='(HIDE) MASTER-Chart'!$J$2,\nVLOOKUP(B31,'(HIDE) MASTER-Chart'!$B:$G,6,FALSE),\nVLOOKUP(B31,'(HIDE) MASTER-Chart'!$M:$R,6,FALSE)),\"\")","v":78388},"(9)",{"$f":"IFERROR(\nIF($W$1='(HIDE) MASTER-Chart'!$J$2,\nVLOOKUP(D31,'(HIDE) MASTER-Chart'!$B:$G,6,FALSE),\nVLOOKUP(D31,'(HIDE) MASTER-Chart'!$M:$R,6,FALSE)),\"\")","v":80696},"(10)",{"$f":"IFERROR(\nIF($W$1='(HIDE) MASTER-Chart'!$J$2,\nVLOOKUP(F31,'(HIDE) MASTER-Chart'!$B:$G,6,FALSE),\nVLOOKUP(F31,'(HIDE) MASTER-Chart'!$M:$R,6,FALSE)),\"\")","v":80696},"(10)",{"$f":"IFERROR(\nIF($W$1='(HIDE) MASTER-Chart'!$J$2,\nVLOOKUP(H31,'(HIDE) MASTER-Chart'!$B:$G,6,FALSE),\nVLOOKUP(H31,'(HIDE) MASTER-Chart'!$M:$R,6,FALSE)),\"\")","v":80696},"(10)",{"$f":"IFERROR(\nIF($W$1='(HIDE) MASTER-Chart'!$J$2,\nVLOOKUP(J31,'(HIDE) MASTER-Chart'!$B:$G,6,FALSE),\nVLOOKUP(J31,'(HIDE) MASTER-Chart'!$M:$R,6,FALSE)),\"\")","v":80696},"(10)",{"$f":"IFERROR(\nIF($W$1='(HIDE) MASTER-Chart'!$J$2,\nVLOOKUP(L31,'(HIDE) MASTER-Chart'!$B:$G,6,FALSE),\nVLOOKUP(L31,'(HIDE) MASTER-Chart'!$M:$R,6,FALSE)),\"\")","v":83073},"(11)"]
[null,null,null,null,null,null,null,null,null,null,null,null,null," ",{"$f":"IF(ISERROR(VLOOKUP(B32,'(HIDE) MASTER-Chart'!$B:$G,5,FALSE)),\"\",VLOOKUP(B32,'(HIDE) MASTER-Chart'!$B:$G,5,FALSE))","v":""},"",{"$f":"IF(ISERROR(VLOOKUP(D32,'(HIDE) MASTER-Chart'!$B:$G,5,FALSE)),\"\",VLOOKUP(D32,'(HIDE) MASTER-Chart'!$B:$G,5,FALSE))","v":""},"",{"$f":"IF(ISERROR(VLOOKUP(F32,'(HIDE) MASTER-Chart'!$B:$G,5,FALSE)),\"\",VLOOKUP(F32,'(HIDE) MASTER-Chart'!$B:$G,5,FALSE))","v":""},"",{"$f":"IF(ISERROR(VLOOKUP(H32,'(HIDE) MASTER-Chart'!$B:$G,5,FALSE)),\"\",VLOOKUP(H32,'(HIDE) MASTER-Chart'!$B:$G,5,FALSE))","v":""},"",{"$f":"IF(ISERROR(VLOOKUP(J32,'(HIDE) MASTER-Chart'!$B:$G,5,FALSE)),\"\",VLOOKUP(J32,'(HIDE) MASTER-Chart'!$B:$G,5,FALSE))","v":""},"",{"$f":"IF(ISERROR(VLOOKUP(L32,'(HIDE) MASTER-Chart'!$B:$G,5,FALSE)),\"\",VLOOKUP(L32,'(HIDE) MASTER-Chart'!$B:$G,5,FALSE))","v":""},""]
[null,12,null,12,null,12,null,13,null,13,null,13,null,"TARGET",{"$f":"IFERROR(\nIF($W$1='(HIDE) MASTER-Chart'!$J$2,\nVLOOKUP(B33,'(HIDE) MASTER-Chart'!$B:$G,6,FALSE),\nVLOOKUP(B33,'(HIDE) MASTER-Chart'!$M:$R,6,FALSE)),\"\")","v":85517},"(12)",{"$f":"IFERROR(\nIF($W$1='(HIDE) MASTER-Chart'!$J$2,\nVLOOKUP(D33,'(HIDE) MASTER-Chart'!$B:$G,6,FALSE),\nVLOOKUP(D33,'(HIDE) MASTER-Chart'!$M:$R,6,FALSE)),\"\")","v":85517},"(12)",{"$f":"IFERROR(\nIF($W$1='(HIDE) MASTER-Chart'!$J$2,\nVLOOKUP(F33,'(HIDE) MASTER-Chart'!$B:$G,6,FALSE),\nVLOOKUP(F33,'(HIDE) MASTER-Chart'!$M:$R,6,FALSE)),\"\")","v":85517},"(12)",{"$f":"IFERROR(\nIF($W$1='(HIDE) MASTER-Chart'!$J$2,\nVLOOKUP(H33,'(HIDE) MASTER-Chart'!$B:$G,6,FALSE),\nVLOOKUP(H33,'(HIDE) MASTER-Chart'!$M:$R,6,FALSE)),\"\")","v":88035},"(13)",{"$f":"IFERROR(\nIF($W$1='(HIDE) MASTER-Chart'!$J$2,\nVLOOKUP(J33,'(HIDE) MASTER-Chart'!$B:$G,6,FALSE),\nVLOOKUP(J33,'(HIDE) MASTER-Chart'!$M:$R,6,FALSE)),\"\")","v":88035},"(13)",{"$f":"IFERROR(\nIF($W$1='(HIDE) MASTER-Chart'!$J$2,\nVLOOKUP(L33,'(HIDE) MASTER-Chart'!$B:$G,6,FALSE),\nVLOOKUP(L33,'(HIDE) MASTER-Chart'!$M:$R,6,FALSE)),\"\")","v":88035},"(13)"]
["18 - 19",10,null,10,null,10,null,11,null,11,null,11,null,"2 STEP",{"$f":"IFERROR(\nIF($W$1='(HIDE) MASTER-Chart'!$J$2,\nVLOOKUP(B34,'(HIDE) MASTER-Chart'!$B:$G,6,FALSE),\nVLOOKUP(B34,'(HIDE) MASTER-Chart'!$M:$R,6,FALSE)),\"\")","v":80696},"(10)",{"$f":"IFERROR(\nIF($W$1='(HIDE) MASTER-Chart'!$J$2,\nVLOOKUP(D34,'(HIDE) MASTER-Chart'!$B:$G,6,FALSE),\nVLOOKUP(D34,'(HIDE) MASTER-Chart'!$M:$R,6,FALSE)),\"\")","v":80696},"(10)",{"$f":"IFERROR(\nIF($W$1='(HIDE) MASTER-Chart'!$J$2,\nVLOOKUP(F34,'(HIDE) MASTER-Chart'!$B:$G,6,FALSE),\nVLOOKUP(F34,'(HIDE) MASTER-Chart'!$M:$R,6,FALSE)),\"\")","v":80696},"(10)",{"$f":"IFERROR(\nIF($W$1='(HIDE) MASTER-Chart'!$J$2,\nVLOOKUP(H34,'(HIDE) MASTER-Chart'!$B:$G,6,FALSE),\nVLOOKUP(H34,'(HIDE) MASTER-Chart'!$M:$R,6,FALSE)),\"\")","v":83073},"(11)",{"$f":"IFERROR(\nIF($W$1='(HIDE) MASTER-Chart'!$J$2,\nVLOOKUP(J34,'(HIDE) MASTER-Chart'!$B:$G,6,FALSE),\nVLOOKUP(J34,'(HIDE) MASTER-Chart'!$M:$R,6,FALSE)),\"\")","v":83073},"(11)",{"$f":"IFERROR(\nIF($W$1='(HIDE) MASTER-Chart'!$J$2,\nVLOOKUP(L34,'(HIDE) MASTER-Chart'!$B:$G,6,FALSE),\nVLOOKUP(L34,'(HIDE) MASTER-Chart'!$M:$R,6,FALSE)),\"\")","v":83073},"(11)"]
[null,null,null,null,null,null,null,null,null,null,null,null,null," ",{"$f":"IF(ISERROR(VLOOKUP(B35,'(HIDE) MASTER-Chart'!$B:$G,5,FALSE)),\"\",VLOOKUP(B35,'(HIDE) MASTER-Chart'!$B:$G,5,FALSE))","v":""},"",{"$f":"IF(ISERROR(VLOOKUP(D35,'(HIDE) MASTER-Chart'!$B:$G,5,FALSE)),\"\",VLOOKUP(D35,'(HIDE) MASTER-Chart'!$B:$G,5,FALSE))","v":""},"",{"$f":"IF(ISERROR(VLOOKUP(F35,'(HIDE) MASTER-Chart'!$B:$G,5,FALSE)),\"\",VLOOKUP(F35,'(HIDE) MASTER-Chart'!$B:$G,5,FALSE))","v":""},"",{"$f":"IF(ISERROR(VLOOKUP(H35,'(HIDE) MASTER-Chart'!$B:$G,5,FALSE)),\"\",VLOOKUP(H35,'(HIDE) MASTER-Chart'!$B:$G,5,FALSE))","v":""},"",{"$f":"IF(ISERROR(VLOOKUP(J35,'(HIDE) MASTER-Chart'!$B:$G,5,FALSE)),\"\",VLOOKUP(J35,'(HIDE) MASTER-Chart'!$B:$G,5,FALSE))","v":""},"",{"$f":"IF(ISERROR(VLOOKUP(L35,'(HIDE) MASTER-Chart'!$B:$G,5,FALSE)),\"\",VLOOKUP(L35,'(HIDE) MASTER-Chart'!$B:$G,5,FALSE))","v":""},""]
[null,12,null,13,null,13,null,13,null,13,null,14,null,"TARGET",{"$f":"IFERROR(\nIF($W$1='(HIDE) MASTER-Chart'!$J$2,\nVLOOKUP(B36,'(HIDE) MASTER-Chart'!$B:$G,6,FALSE),\nVLOOKUP(B36,'(HIDE) MASTER-Chart'!$M:$R,6,FALSE)),\"\")","v":85517},"(12)",{"$f":"IFERROR(\nIF($W$1='(HIDE) MASTER-Chart'!$J$2,\nVLOOKUP(D36,'(HIDE) MASTER-Chart'!$B:$G,6,FALSE),\nVLOOKUP(D36,'(HIDE) MASTER-Chart'!$M:$R,6,FALSE)),\"\")","v":88035},"(13)",{"$f":"IFERROR(\nIF($W$1='(HIDE) MASTER-Chart'!$J$2,\nVLOOKUP(F36,'(HIDE) MASTER-Chart'!$B:$G,6,FALSE),\nVLOOKUP(F36,'(HIDE) MASTER-Chart'!$M:$R,6,FALSE)),\"\")","v":88035},"(13)",{"$f":"IFERROR(\nIF($W$1='(HIDE) MASTER-Chart'!$J$2,\nVLOOKUP(H36,'(HIDE) MASTER-Chart'!$B:$G,6,FALSE),\nVLOOKUP(H36,'(HIDE) MASTER-Chart'!$M:$R,6,FALSE)),\"\")","v":88035},"(13)",{"$f":"IFERROR(\nIF($W$1='(HIDE) MASTER-Chart'!$J$2,\nVLOOKUP(J36,'(HIDE) MASTER-Chart'!$B:$G,6,FALSE),\nVLOOKUP(J36,'(HIDE) MASTER-Chart'!$M:$R,6,FALSE)),\"\")","v":88035},"(13)",{"$f":"IFERROR(\nIF($W$1='(HIDE) MASTER-Chart'!$J$2,\nVLOOKUP(L36,'(HIDE) MASTER-Chart'!$B:$G,6,FALSE),\nVLOOKUP(L36,'(HIDE) MASTER-Chart'!$M:$R,6,FALSE)),\"\")","v":90634},"(14)"]
["20 - 21",10,null,11,null,11,null,11,null,11,null,12,null,"2 STEP",{"$f":"IFERROR(\nIF($W$1='(HIDE) MASTER-Chart'!$J$2,\nVLOOKUP(B37,'(HIDE) MASTER-Chart'!$B:$G,6,FALSE),\nVLOOKUP(B37,'(HIDE) MASTER-Chart'!$M:$R,6,FALSE)),\"\")","v":80696},"(10)",{"$f":"IFERROR(\nIF($W$1='(HIDE) MASTER-Chart'!$J$2,\nVLOOKUP(D37,'(HIDE) MASTER-Chart'!$B:$G,6,FALSE),\nVLOOKUP(D37,'(HIDE) MASTER-Chart'!$M:$R,6,FALSE)),\"\")","v":83073},"(11)",{"$f":"IFERROR(\nIF($W$1='(HIDE) MASTER-Chart'!$J$2,\nVLOOKUP(F37,'(HIDE) MASTER-Chart'!$B:$G,6,FALSE),\nVLOOKUP(F37,'(HIDE) MASTER-Chart'!$M:$R,6,FALSE)),\"\")","v":83073},"(11)",{"$f":"IFERROR(\nIF($W$1='(HIDE) MASTER-Chart'!$J$2,\nVLOOKUP(H37,'(HIDE) MASTER-Chart'!$B:$G,6,FALSE),\nVLOOKUP(H37,'(HIDE) MASTER-Chart'!$M:$R,6,FALSE)),\"\")","v":83073},"(11)",{"$f":"IFERROR(\nIF($W$1='(HIDE) MASTER-Chart'!$J$2,\nVLOOKUP(J37,'(HIDE) MASTER-Chart'!$B:$G,6,FALSE),\nVLOOKUP(J37,'(HIDE) MASTER-Chart'!$M:$R,6,FALSE)),\"\")","v":83073},"(11)",{"$f":"IFERROR(\nIF($W$1='(HIDE) MASTER-Chart'!$J$2,\nVLOOKUP(L37,'(HIDE) MASTER-Chart'!$B:$G,6,FALSE),\nVLOOKUP(L37,'(HIDE) MASTER-Chart'!$M:$R,6,FALSE)),\"\")","v":85517},"(12)"]
[null,null,null,null,null,null,null,null,null,null,null,null,null," ",{"$f":"IF(ISERROR(VLOOKUP(B38,'(HIDE) MASTER-Chart'!$B:$G,5,FALSE)),\"\",VLOOKUP(B38,'(HIDE) MASTER-Chart'!$B:$G,5,FALSE))","v":""},"",{"$f":"IF(ISERROR(VLOOKUP(D38,'(HIDE) MASTER-Chart'!$B:$G,5,FALSE)),\"\",VLOOKUP(D38,'(HIDE) MASTER-Chart'!$B:$G,5,FALSE))","v":""},"",{"$f":"IF(ISERROR(VLOOKUP(F38,'(HIDE) MASTER-Chart'!$B:$G,5,FALSE)),\"\",VLOOKUP(F38,'(HIDE) MASTER-Chart'!$B:$G,5,FALSE))","v":""},"",{"$f":"IF(ISERROR(VLOOKUP(H38,'(HIDE) MASTER-Chart'!$B:$G,5,FALSE)),\"\",VLOOKUP(H38,'(HIDE) MASTER-Chart'!$B:$G,5,FALSE))","v":""},"",{"$f":"IF(ISERROR(VLOOKUP(J38,'(HIDE) MASTER-Chart'!$B:$G,5,FALSE)),\"\",VLOOKUP(J38,'(HIDE) MASTER-Chart'!$B:$G,5,FALSE))","v":""},"",{"$f":"IF(ISERROR(VLOOKUP(L38,'(HIDE) MASTER-Chart'!$B:$G,5,FALSE)),\"\",VLOOKUP(L38,'(HIDE) MASTER-Chart'!$B:$G,5,FALSE))","v":""},""]
[null,13,null,13,null,13,null,13,null,14,null,14,null,"TARGET",{"$f":"IFERROR(\nIF($W$1='(HIDE) MASTER-Chart'!$J$2,\nVLOOKUP(B39,'(HIDE) MASTER-Chart'!$B:$G,6,FALSE),\nVLOOKUP(B39,'(HIDE) MASTER-Chart'!$M:$R,6,FALSE)),\"\")","v":88035},"(13)",{"$f":"IFERROR(\nIF($W$1='(HIDE) MASTER-Chart'!$J$2,\nVLOOKUP(D39,'(HIDE) MASTER-Chart'!$B:$G,6,FALSE),\nVLOOKUP(D39,'(HIDE) MASTER-Chart'!$M:$R,6,FALSE)),\"\")","v":88035},"(13)",{"$f":"IFERROR(\nIF($W$1='(HIDE) MASTER-Chart'!$J$2,\nVLOOKUP(F39,'(HIDE) MASTER-Chart'!$B:$G,6,FALSE),\nVLOOKUP(F39,'(HIDE) MASTER-Chart'!$M:$R,6,FALSE)),\"\")","v":88035},"(13)",{"$f":"IFERROR(\nIF($W$1='(HIDE) MASTER-Chart'!$J$2,\nVLOOKUP(H39,'(HIDE) MASTER-Chart'!$B:$G,6,FALSE),\nVLOOKUP(H39,'(HIDE) MASTER-Chart'!$M:$R,6,FALSE)),\"\")","v":88035},"(13)",{"$f":"IFERROR(\nIF($W$1='(HIDE) MASTER-Chart'!$J$2,\nVLOOKUP(J39,'(HIDE) MASTER-Chart'!$B:$G,6,FALSE),\nVLOOKUP(J39,'(HIDE) MASTER-Chart'!$M:$R,6,FALSE)),\"\")","v":90634},"(14)",{"$f":"IFERROR(\nIF($W$1='(HIDE) MASTER-Chart'!$J$2,\nVLOOKUP(L39,'(HIDE) MASTER-Chart'!$B:$G,6,FALSE),\nVLOOKUP(L39,'(HIDE) MASTER-Chart'!$M:$R,6,FALSE)),\"\")","v":90634},"(14)"]
["22 - 23",11,null,11,null,11,null,11,null,12,null,12,null,"2 STEP",{"$f":"IFERROR(\nIF($W$1='(HIDE) MASTER-Chart'!$J$2,\nVLOOKUP(B40,'(HIDE) MASTER-Chart'!$B:$G,6,FALSE),\nVLOOKUP(B40,'(HIDE) MASTER-Chart'!$M:$R,6,FALSE)),\"\")","v":83073},"(11)",{"$f":"IFERROR(\nIF($W$1='(HIDE) MASTER-Chart'!$J$2,\nVLOOKUP(D40,'(HIDE) MASTER-Chart'!$B:$G,6,FALSE),\nVLOOKUP(D40,'(HIDE) MASTER-Chart'!$M:$R,6,FALSE)),\"\")","v":83073},"(11)",{"$f":"IFERROR(\nIF($W$1='(HIDE) MASTER-Chart'!$J$2,\nVLOOKUP(F40,'(HIDE) MASTER-Chart'!$B:$G,6,FALSE),\nVLOOKUP(F40,'(HIDE) MASTER-Chart'!$M:$R,6,FALSE)),\"\")","v":83073},"(11)",{"$f":"IFERROR(\nIF($W$1='(HIDE) MASTER-Chart'!$J$2,\nVLOOKUP(H40,'(HIDE) MASTER-Chart'!$B:$G,6,FALSE),\nVLOOKUP(H40,'(HIDE) MASTER-Chart'!$M:$R,6,FALSE)),\"\")","v":83073},"(11)",{"$f":"IFERROR(\nIF($W$1='(HIDE) MASTER-Chart'!$J$2,\nVLOOKUP(J40,'(HIDE) MASTER-Chart'!$B:$G,6,FALSE),\nVLOOKUP(J40,'(HIDE) MASTER-Chart'!$M:$R,6,FALSE)),\"\")","v":85517},"(12)",{"$f":"IFERROR(\nIF($W$1='(HIDE) MASTER-Chart'!$J$2,\nVLOOKUP(L40,'(HIDE) MASTER-Chart'!$B:$G,6,FALSE),\nVLOOKUP(L40,'(HIDE) MASTER-Chart'!$M:$R,6,FALSE)),\"\")","v":85517},"(12)"]
[null,null,null,null,null,null,null,null,null,null,null,null,null," ",{"$f":"IF(ISERROR(VLOOKUP(B41,'(HIDE) MASTER-Chart'!$B:$G,5,FALSE)),\"\",VLOOKUP(B41,'(HIDE) MASTER-Chart'!$B:$G,5,FALSE))","v":""},"",{"$f":"IF(ISERROR(VLOOKUP(D41,'(HIDE) MASTER-Chart'!$B:$G,5,FALSE)),\"\",VLOOKUP(D41,'(HIDE) MASTER-Chart'!$B:$G,5,FALSE))","v":""},"",{"$f":"IF(ISERROR(VLOOKUP(F41,'(HIDE) MASTER-Chart'!$B:$G,5,FALSE)),\"\",VLOOKUP(F41,'(HIDE) MASTER-Chart'!$B:$G,5,FALSE))","v":""},"",{"$f":"IF(ISERROR(VLOOKUP(H41,'(HIDE) MASTER-Chart'!$B:$G,5,FALSE)),\"\",VLOOKUP(H41,'(HIDE) MASTER-Chart'!$B:$G,5,FALSE))","v":""},"",{"$f":"IF(ISERROR(VLOOKUP(J41,'(HIDE) MASTER-Chart'!$B:$G,5,FALSE)),\"\",VLOOKUP(J41,'(HIDE) MASTER-Chart'!$B:$G,5,FALSE))","v":""},"",{"$f":"IF(ISERROR(VLOOKUP(L41,'(HIDE) MASTER-Chart'!$B:$G,5,FALSE)),\"\",VLOOKUP(L41,'(HIDE) MASTER-Chart'!$B:$G,5,FALSE))","v":""},""]
[null,13,null,13,null,14,null,14,null,14,null,14,null,"TARGET",{"$f":"IFERROR(\nIF($W$1='(HIDE) MASTER-Chart'!$J$2,\nVLOOKUP(B42,'(HIDE) MASTER-Chart'!$B:$G,6,FALSE),\nVLOOKUP(B42,'(HIDE) MASTER-Chart'!$M:$R,6,FALSE)),\"\")","v":88035},"(13)",{"$f":"IFERROR(\nIF($W$1='(HIDE) MASTER-Chart'!$J$2,\nVLOOKUP(D42,'(HIDE) MASTER-Chart'!$B:$G,6,FALSE),\nVLOOKUP(D42,'(HIDE) MASTER-Chart'!$M:$R,6,FALSE)),\"\")","v":88035},"(13)",{"$f":"IFERROR(\nIF($W$1='(HIDE) MASTER-Chart'!$J$2,\nVLOOKUP(F42,'(HIDE) MASTER-Chart'!$B:$G,6,FALSE),\nVLOOKUP(F42,'(HIDE) MASTER-Chart'!$M:$R,6,FALSE)),\"\")","v":90634},"(14)",{"$f":"IFERROR(\nIF($W$1='(HIDE) MASTER-Chart'!$J$2,\nVLOOKUP(H42,'(HIDE) MASTER-Chart'!$B:$G,6,FALSE),\nVLOOKUP(H42,'(HIDE) MASTER-Chart'!$M:$R,6,FALSE)),\"\")","v":90634},"(14)",{"$f":"IFERROR(\nIF($W$1='(HIDE) MASTER-Chart'!$J$2,\nVLOOKUP(J42,'(HIDE) MASTER-Chart'!$B:$G,6,FALSE),\nVLOOKUP(J42,'(HIDE) MASTER-Chart'!$M:$R,6,FALSE)),\"\")","v":90634},"(14)",{"$f":"IFERROR(\nIF($W$1='(HIDE) MASTER-Chart'!$J$2,\nVLOOKUP(L42,'(HIDE) MASTER-Chart'!$B:$G,6,FALSE),\nVLOOKUP(L42,'(HIDE) MASTER-Chart'!$M:$R,6,FALSE)),\"\")","v":90634},"(14)"]
["24 - 25",11,null,11,null,12,null,12,null,12,null,12,null,"2 STEP",{"$f":"IFERROR(\nIF($W$1='(HIDE) MASTER-Chart'!$J$2,\nVLOOKUP(B43,'(HIDE) MASTER-Chart'!$B:$G,6,FALSE),\nVLOOKUP(B43,'(HIDE) MASTER-Chart'!$M:$R,6,FALSE)),\"\")","v":83073},"(11)",{"$f":"IFERROR(\nIF($W$1='(HIDE) MASTER-Chart'!$J$2,\nVLOOKUP(D43,'(HIDE) MASTER-Chart'!$B:$G,6,FALSE),\nVLOOKUP(D43,'(HIDE) MASTER-Chart'!$M:$R,6,FALSE)),\"\")","v":83073},"(11)",{"$f":"IFERROR(\nIF($W$1='(HIDE) MASTER-Chart'!$J$2,\nVLOOKUP(F43,'(HIDE) MASTER-Chart'!$B:$G,6,FALSE),\nVLOOKUP(F43,'(HIDE) MASTER-Chart'!$M:$R,6,FALSE)),\"\")","v":85517},"(12)",{"$f":"IFERROR(\nIF($W$1='(HIDE) MASTER-Chart'!$J$2,\nVLOOKUP(H43,'(HIDE) MASTER-Chart'!$B:$G,6,FALSE),\nVLOOKUP(H43,'(HIDE) MASTER-Chart'!$M:$R,6,FALSE)),\"\")","v":85517},"(12)",{"$f":"IFERROR(\nIF($W$1='(HIDE) MASTER-Chart'!$J$2,\nVLOOKUP(J43,'(HIDE) MASTER-Chart'!$B:$G,6,FALSE),\nVLOOKUP(J43,'(HIDE) MASTER-Chart'!$M:$R,6,FALSE)),\"\")","v":85517},"(12)",{"$f":"IFERROR(\nIF($W$1='(HIDE) MASTER-Chart'!$J$2,\nVLOOKUP(L43,'(HIDE) MASTER-Chart'!$B:$G,6,FALSE),\nVLOOKUP(L43,'(HIDE) MASTER-Chart'!$M:$R,6,FALSE)),\"\")","v":85517},"(12)"]
[null,null,null,null,null,null,null,null,null,null,null,null,null," ",{"$f":"IF(ISERROR(VLOOKUP(B44,'(HIDE) MASTER-Chart'!$B:$G,5,FALSE)),\"\",VLOOKUP(B44,'(HIDE) MASTER-Chart'!$B:$G,5,FALSE))","v":""},"",{"$f":"IF(ISERROR(VLOOKUP(D44,'(HIDE) MASTER-Chart'!$B:$G,5,FALSE)),\"\",VLOOKUP(D44,'(HIDE) MASTER-Chart'!$B:$G,5,FALSE))","v":""},"",{"$f":"IF(ISERROR(VLOOKUP(F44,'(HIDE) MASTER-Chart'!$B:$G,5,FALSE)),\"\",VLOOKUP(F44,'(HIDE) MASTER-Chart'!$B:$G,5,FALSE))","v":""},"",{"$f":"IF(ISERROR(VLOOKUP(H44,'(HIDE) MASTER-Chart'!$B:$G,5,FALSE)),\"\",VLOOKUP(H44,'(HIDE) MASTER-Chart'!$B:$G,5,FALSE))","v":""},"",{"$f":"IF(ISERROR(VLOOKUP(J44,'(HIDE) MASTER-Chart'!$B:$G,5,FALSE)),\"\",VLOOKUP(J44,'(HIDE) MASTER-Chart'!$B:$G,5,FALSE))","v":""},"",{"$f":"IF(ISERROR(VLOOKUP(L44,'(HIDE) MASTER-Chart'!$B:$G,5,FALSE)),\"\",VLOOKUP(L44,'(HIDE) MASTER-Chart'!$B:$G,5,FALSE))","v":""},""]
[null,14,null,14,null,14,null,14,null,15,null,15,null,"TARGET",{"$f":"IFERROR(\nIF($W$1='(HIDE) MASTER-Chart'!$J$2,\nVLOOKUP(B45,'(HIDE) MASTER-Chart'!$B:$G,6,FALSE),\nVLOOKUP(B45,'(HIDE) MASTER-Chart'!$M:$R,6,FALSE)),\"\")","v":90634},"(14)",{"$f":"IFERROR(\nIF($W$1='(HIDE) MASTER-Chart'!$J$2,\nVLOOKUP(D45,'(HIDE) MASTER-Chart'!$B:$G,6,FALSE),\nVLOOKUP(D45,'(HIDE) MASTER-Chart'!$M:$R,6,FALSE)),\"\")","v":90634},"(14)",{"$f":"IFERROR(\nIF($W$1='(HIDE) MASTER-Chart'!$J$2,\nVLOOKUP(F45,'(HIDE) MASTER-Chart'!$B:$G,6,FALSE),\nVLOOKUP(F45,'(HIDE) MASTER-Chart'!$M:$R,6,FALSE)),\"\")","v":90634},"(14)",{"$f":"IFERROR(\nIF($W$1='(HIDE) MASTER-Chart'!$J$2,\nVLOOKUP(H45,'(HIDE) MASTER-Chart'!$B:$G,6,FALSE),\nVLOOKUP(H45,'(HIDE) MASTER-Chart'!$M:$R,6,FALSE)),\"\")","v":90634},"(14)",{"$f":"IFERROR(\nIF($W$1='(HIDE) MASTER-Chart'!$J$2,\nVLOOKUP(J45,'(HIDE) MASTER-Chart'!$B:$G,6,FALSE),\nVLOOKUP(J45,'(HIDE) MASTER-Chart'!$M:$R,6,FALSE)),\"\")","v":93306},"(15)",{"$f":"IFERROR(\nIF($W$1='(HIDE) MASTER-Chart'!$J$2,\nVLOOKUP(L45,'(HIDE) MASTER-Chart'!$B:$G,6,FALSE),\nVLOOKUP(L45,'(HIDE) MASTER-Chart'!$M:$R,6,FALSE)),\"\")","v":93306},"(15)"]
["26 - 27",12,null,12,null,12,null,12,null,13,null,13,null,"2 STEP",{"$f":"IFERROR(\nIF($W$1='(HIDE) MASTER-Chart'!$J$2,\nVLOOKUP(B46,'(HIDE) MASTER-Chart'!$B:$G,6,FALSE),\nVLOOKUP(B46,'(HIDE) MASTER-Chart'!$M:$R,6,FALSE)),\"\")","v":85517},"(12)",{"$f":"IFERROR(\nIF($W$1='(HIDE) MASTER-Chart'!$J$2,\nVLOOKUP(D46,'(HIDE) MASTER-Chart'!$B:$G,6,FALSE),\nVLOOKUP(D46,'(HIDE) MASTER-Chart'!$M:$R,6,FALSE)),\"\")","v":85517},"(12)",{"$f":"IFERROR(\nIF($W$1='(HIDE) MASTER-Chart'!$J$2,\nVLOOKUP(F46,'(HIDE) MASTER-Chart'!$B:$G,6,FALSE),\nVLOOKUP(F46,'(HIDE) MASTER-Chart'!$M:$R,6,FALSE)),\"\")","v":85517},"(12)",{"$f":"IFERROR(\nIF($W$1='(HIDE) MASTER-Chart'!$J$2,\nVLOOKUP(H46,'(HIDE) MASTER-Chart'!$B:$G,6,FALSE),\nVLOOKUP(H46,'(HIDE) MASTER-Chart'!$M:$R,6,FALSE)),\"\")","v":85517},"(12)",{"$f":"IFERROR(\nIF($W$1='(HIDE) MASTER-Chart'!$J$2,\nVLOOKUP(J46,'(HIDE) MASTER-Chart'!$B:$G,6,FALSE),\nVLOOKUP(J46,'(HIDE) MASTER-Chart'!$M:$R,6,FALSE)),\"\")","v":88035},"(13)",{"$f":"IFERROR(\nIF($W$1='(HIDE) MASTER-Chart'!$J$2,\nVLOOKUP(L46,'(HIDE) MASTER-Chart'!$B:$G,6,FALSE),\nVLOOKUP(L46,'(HIDE) MASTER-Chart'!$M:$R,6,FALSE)),\"\")","v":88035},"(13)"]
[null,null,null,null,null,null,null,null,null,null,null,null,null," ",{"$f":"IF(ISERROR(VLOOKUP(B47,'(HIDE) MASTER-Chart'!$B:$G,5,FALSE)),\"\",VLOOKUP(B47,'(HIDE) MASTER-Chart'!$B:$G,5,FALSE))","v":""},"",{"$f":"IF(ISERROR(VLOOKUP(D47,'(HIDE) MASTER-Chart'!$B:$G,5,FALSE)),\"\",VLOOKUP(D47,'(HIDE) MASTER-Chart'!$B:$G,5,FALSE))","v":""},"",{"$f":"IF(ISERROR(VLOOKUP(F47,'(HIDE) MASTER-Chart'!$B:$G,5,FALSE)),\"\",VLOOKUP(F47,'(HIDE) MASTER-Chart'!$B:$G,5,FALSE))","v":""},"",{"$f":"IF(ISERROR(VLOOKUP(H47,'(HIDE) MASTER-Chart'!$B:$G,5,FALSE)),\"\",VLOOKUP(H47,'(HIDE) MASTER-Chart'!$B:$G,5,FALSE))","v":""},"",{"$f":"IF(ISERROR(VLOOKUP(J47,'(HIDE) MASTER-Chart'!$B:$G,5,FALSE)),\"\",VLOOKUP(J47,'(HIDE) MASTER-Chart'!$B:$G,5,FALSE))","v":""},"",{"$f":"IF(ISERROR(VLOOKUP(L47,'(HIDE) MASTER-Chart'!$B:$G,5,FALSE)),\"\",VLOOKUP(L47,'(HIDE) MASTER-Chart'!$B:$G,5,FALSE))","v":""},""]
[null,14,null,14,null,14,null,15,null,15,null,15,null,"TARGET",{"$f":"IFERROR(\nIF($W$1='(HIDE) MASTER-Chart'!$J$2,\nVLOOKUP(B48,'(HIDE) MASTER-Chart'!$B:$G,6,FALSE),\nVLOOKUP(B48,'(HIDE) MASTER-Chart'!$M:$R,6,FALSE)),\"\")","v":90634},"(14)",{"$f":"IFERROR(\nIF($W$1='(HIDE) MASTER-Chart'!$J$2,\nVLOOKUP(D48,'(HIDE) MASTER-Chart'!$B:$G,6,FALSE),\nVLOOKUP(D48,'(HIDE) MASTER-Chart'!$M:$R,6,FALSE)),\"\")","v":90634},"(14)",{"$f":"IFERROR(\nIF($W$1='(HIDE) MASTER-Chart'!$J$2,\nVLOOKUP(F48,'(HIDE) MASTER-Chart'!$B:$G,6,FALSE),\nVLOOKUP(F48,'(HIDE) MASTER-Chart'!$M:$R,6,FALSE)),\"\")","v":90634},"(14)",{"$f":"IFERROR(\nIF($W$1='(HIDE) MASTER-Chart'!$J$2,\nVLOOKUP(H48,'(HIDE) MASTER-Chart'!$B:$G,6,FALSE),\nVLOOKUP(H48,'(HIDE) MASTER-Chart'!$M:$R,6,FALSE)),\"\")","v":93306},"(15)",{"$f":"IFERROR(\nIF($W$1='(HIDE) MASTER-Chart'!$J$2,\nVLOOKUP(J48,'(HIDE) MASTER-Chart'!$B:$G,6,FALSE),\nVLOOKUP(J48,'(HIDE) MASTER-Chart'!$M:$R,6,FALSE)),\"\")","v":93306},"(15)",{"$f":"IFERROR(\nIF($W$1='(HIDE) MASTER-Chart'!$J$2,\nVLOOKUP(L48,'(HIDE) MASTER-Chart'!$B:$G,6,FALSE),\nVLOOKUP(L48,'(HIDE) MASTER-Chart'!$M:$R,6,FALSE)),\"\")","v":93306},"(15)"]
["28 - 29",12,null,12,null,12,null,13,null,13,null,13,null,"2 STEP",{"$f":"IFERROR(\nIF($W$1='(HIDE) MASTER-Chart'!$J$2,\nVLOOKUP(B49,'(HIDE) MASTER-Chart'!$B:$G,6,FALSE),\nVLOOKUP(B49,'(HIDE) MASTER-Chart'!$M:$R,6,FALSE)),\"\")","v":85517},"(12)",{"$f":"IFERROR(\nIF($W$1='(HIDE) MASTER-Chart'!$J$2,\nVLOOKUP(D49,'(HIDE) MASTER-Chart'!$B:$G,6,FALSE),\nVLOOKUP(D49,'(HIDE) MASTER-Chart'!$M:$R,6,FALSE)),\"\")","v":85517},"(12)",{"$f":"IFERROR(\nIF($W$1='(HIDE) MASTER-Chart'!$J$2,\nVLOOKUP(F49,'(HIDE) MASTER-Chart'!$B:$G,6,FALSE),\nVLOOKUP(F49,'(HIDE) MASTER-Chart'!$M:$R,6,FALSE)),\"\")","v":85517},"(12)",{"$f":"IFERROR(\nIF($W$1='(HIDE) MASTER-Chart'!$J$2,\nVLOOKUP(H49,'(HIDE) MASTER-Chart'!$B:$G,6,FALSE),\nVLOOKUP(H49,'(HIDE) MASTER-Chart'!$M:$R,6,FALSE)),\"\")","v":88035},"(13)",{"$f":"IFERROR(\nIF($W$1='(HIDE) MASTER-Chart'!$J$2,\nVLOOKUP(J49,'(HIDE) MASTER-Chart'!$B:$G,6,FALSE),\nVLOOKUP(J49,'(HIDE) MASTER-Chart'!$M:$R,6,FALSE)),\"\")","v":88035},"(13)",{"$f":"IFERROR(\nIF($W$1='(HIDE) MASTER-Chart'!$J$2,\nVLOOKUP(L49,'(HIDE) MASTER-Chart'!$B:$G,6,FALSE),\nVLOOKUP(L49,'(HIDE) MASTER-Chart'!$M:$R,6,FALSE)),\"\")","v":88035},"(13)"]
[null,null,null,null,null,null,null,null,null,null,null,null,null," ",{"$f":"IF(ISERROR(VLOOKUP(B50,'(HIDE) MASTER-Chart'!$B:$G,5,FALSE)),\"\",VLOOKUP(B50,'(HIDE) MASTER-Chart'!$B:$G,5,FALSE))","v":""},"",{"$f":"IF(ISERROR(VLOOKUP(D50,'(HIDE) MASTER-Chart'!$B:$G,5,FALSE)),\"\",VLOOKUP(D50,'(HIDE) MASTER-Chart'!$B:$G,5,FALSE))","v":""},"",{"$f":"IF(ISERROR(VLOOKUP(F50,'(HIDE) MASTER-Chart'!$B:$G,5,FALSE)),\"\",VLOOKUP(F50,'(HIDE) MASTER-Chart'!$B:$G,5,FALSE))","v":""},"",{"$f":"IF(ISERROR(VLOOKUP(H50,'(HIDE) MASTER-Chart'!$B:$G,5,FALSE)),\"\",VLOOKUP(H50,'(HIDE) MASTER-Chart'!$B:$G,5,FALSE))","v":""},"",{"$f":"IF(ISERROR(VLOOKUP(J50,'(HIDE) MASTER-Chart'!$B:$G,5,FALSE)),\"\",VLOOKUP(J50,'(HIDE) MASTER-Chart'!$B:$G,5,FALSE))","v":""},"",{"$f":"IF(ISERROR(VLOOKUP(L50,'(HIDE) MASTER-Chart'!$B:$G,5,FALSE)),\"\",VLOOKUP(L50,'(HIDE) MASTER-Chart'!$B:$G,5,FALSE))","v":""},""]
[null,14,null,15,null,15,null,15,null,15,null,16,null,"TARGET",{"$f":"IFERROR(\nIF($W$1='(HIDE) MASTER-Chart'!$J$2,\nVLOOKUP(B51,'(HIDE) MASTER-Chart'!$B:$G,6,FALSE),\nVLOOKUP(B51,'(HIDE) MASTER-Chart'!$M:$R,6,FALSE)),\"\")","v":90634},"(14)",{"$f":"IFERROR(\nIF($W$1='(HIDE) MASTER-Chart'!$J$2,\nVLOOKUP(D51,'(HIDE) MASTER-Chart'!$B:$G,6,FALSE),\nVLOOKUP(D51,'(HIDE) MASTER-Chart'!$M:$R,6,FALSE)),\"\")","v":93306},"(15)",{"$f":"IFERROR(\nIF($W$1='(HIDE) MASTER-Chart'!$J$2,\nVLOOKUP(F51,'(HIDE) MASTER-Chart'!$B:$G,6,FALSE),\nVLOOKUP(F51,'(HIDE) MASTER-Chart'!$M:$R,6,FALSE)),\"\")","v":93306},"(15)",{"$f":"IFERROR(\nIF($W$1='(HIDE) MASTER-Chart'!$J$2,\nVLOOKUP(H51,'(HIDE) MASTER-Chart'!$B:$G,6,FALSE),\nVLOOKUP(H51,'(HIDE) MASTER-Chart'!$M:$R,6,FALSE)),\"\")","v":93306},"(15)",{"$f":"IFERROR(\nIF($W$1='(HIDE) MASTER-Chart'!$J$2,\nVLOOKUP(J51,'(HIDE) MASTER-Chart'!$B:$G,6,FALSE),\nVLOOKUP(J51,'(HIDE) MASTER-Chart'!$M:$R,6,FALSE)),\"\")","v":93306},"(15)",{"$f":"IFERROR(\nIF($W$1='(HIDE) MASTER-Chart'!$J$2,\nVLOOKUP(L51,'(HIDE) MASTER-Chart'!$B:$G,6,FALSE),\nVLOOKUP(L51,'(HIDE) MASTER-Chart'!$M:$R,6,FALSE)),\"\")","v":96062},"(16)"]
["30 - 31",12,null,13,null,13,null,13,null,13,null,14,null,"2 STEP",{"$f":"IFERROR(\nIF($W$1='(HIDE) MASTER-Chart'!$J$2,\nVLOOKUP(B52,'(HIDE) MASTER-Chart'!$B:$G,6,FALSE),\nVLOOKUP(B52,'(HIDE) MASTER-Chart'!$M:$R,6,FALSE)),\"\")","v":85517},"(12)",{"$f":"IFERROR(\nIF($W$1='(HIDE) MASTER-Chart'!$J$2,\nVLOOKUP(D52,'(HIDE) MASTER-Chart'!$B:$G,6,FALSE),\nVLOOKUP(D52,'(HIDE) MASTER-Chart'!$M:$R,6,FALSE)),\"\")","v":88035},"(13)",{"$f":"IFERROR(\nIF($W$1='(HIDE) MASTER-Chart'!$J$2,\nVLOOKUP(F52,'(HIDE) MASTER-Chart'!$B:$G,6,FALSE),\nVLOOKUP(F52,'(HIDE) MASTER-Chart'!$M:$R,6,FALSE)),\"\")","v":88035},"(13)",{"$f":"IFERROR(\nIF($W$1='(HIDE) MASTER-Chart'!$J$2,\nVLOOKUP(H52,'(HIDE) MASTER-Chart'!$B:$G,6,FALSE),\nVLOOKUP(H52,'(HIDE) MASTER-Chart'!$M:$R,6,FALSE)),\"\")","v":88035},"(13)",{"$f":"IFERROR(\nIF($W$1='(HIDE) MASTER-Chart'!$J$2,\nVLOOKUP(J52,'(HIDE) MASTER-Chart'!$B:$G,6,FALSE),\nVLOOKUP(J52,'(HIDE) MASTER-Chart'!$M:$R,6,FALSE)),\"\")","v":88035},"(13)",{"$f":"IFERROR(\nIF($W$1='(HIDE) MASTER-Chart'!$J$2,\nVLOOKUP(L52,'(HIDE) MASTER-Chart'!$B:$G,6,FALSE),\nVLOOKUP(L52,'(HIDE) MASTER-Chart'!$M:$R,6,FALSE)),\"\")","v":90634},"(14)"]
[null,null,null,null,null,null,null,null,null,null,null,null,null," ",{"$f":"IF(ISERROR(VLOOKUP(B53,'(HIDE) MASTER-Chart'!$B:$G,5,FALSE)),\"\",VLOOKUP(B53,'(HIDE) MASTER-Chart'!$B:$G,5,FALSE))","v":""},"",{"$f":"IF(ISERROR(VLOOKUP(D53,'(HIDE) MASTER-Chart'!$B:$G,5,FALSE)),\"\",VLOOKUP(D53,'(HIDE) MASTER-Chart'!$B:$G,5,FALSE))","v":""},"",{"$f":"IF(ISERROR(VLOOKUP(F53,'(HIDE) MASTER-Chart'!$B:$G,5,FALSE)),\"\",VLOOKUP(F53,'(HIDE) MASTER-Chart'!$B:$G,5,FALSE))","v":""},"",{"$f":"IF(ISERROR(VLOOKUP(H53,'(HIDE) MASTER-Chart'!$B:$G,5,FALSE)),\"\",VLOOKUP(H53,'(HIDE) MASTER-Chart'!$B:$G,5,FALSE))","v":""},"",{"$f":"IF(ISERROR(VLOOKUP(J53,'(HIDE) MASTER-Chart'!$B:$G,5,FALSE)),\"\",VLOOKUP(J53,'(HIDE) MASTER-Chart'!$B:$G,5,FALSE))","v":""},"",{"$f":"IF(ISERROR(VLOOKUP(L53,'(HIDE) MASTER-Chart'!$B:$G,5,FALSE)),\"\",VLOOKUP(L53,'(HIDE) MASTER-Chart'!$B:$G,5,FALSE))","v":""},""]
[null,15,null,15,null,15,null,16,null,16,null,16,null,"TARGET",{"$f":"IFERROR(\nIF($W$1='(HIDE) MASTER-Chart'!$J$2,\nVLOOKUP(B54,'(HIDE) MASTER-Chart'!$B:$G,6,FALSE),\nVLOOKUP(B54,'(HIDE) MASTER-Chart'!$M:$R,6,FALSE)),\"\")","v":93306},"(15)",{"$f":"IFERROR(\nIF($W$1='(HIDE) MASTER-Chart'!$J$2,\nVLOOKUP(D54,'(HIDE) MASTER-Chart'!$B:$G,6,FALSE),\nVLOOKUP(D54,'(HIDE) MASTER-Chart'!$M:$R,6,FALSE)),\"\")","v":93306},"(15)",{"$f":"IFERROR(\nIF($W$1='(HIDE) MASTER-Chart'!$J$2,\nVLOOKUP(F54,'(HIDE) MASTER-Chart'!$B:$G,6,FALSE),\nVLOOKUP(F54,'(HIDE) MASTER-Chart'!$M:$R,6,FALSE)),\"\")","v":93306},"(15)",{"$f":"IFERROR(\nIF($W$1='(HIDE) MASTER-Chart'!$J$2,\nVLOOKUP(H54,'(HIDE) MASTER-Chart'!$B:$G,6,FALSE),\nVLOOKUP(H54,'(HIDE) MASTER-Chart'!$M:$R,6,FALSE)),\"\")","v":96062},"(16)",{"$f":"IFERROR(\nIF($W$1='(HIDE) MASTER-Chart'!$J$2,\nVLOOKUP(J54,'(HIDE) MASTER-Chart'!$B:$G,6,FALSE),\nVLOOKUP(J54,'(HIDE) MASTER-Chart'!$M:$R,6,FALSE)),\"\")","v":96062},"(16)",{"$f":"IFERROR(\nIF($W$1='(HIDE) MASTER-Chart'!$J$2,\nVLOOKUP(L54,'(HIDE) MASTER-Chart'!$B:$G,6,FALSE),\nVLOOKUP(L54,'(HIDE) MASTER-Chart'!$M:$R,6,FALSE)),\"\")","v":96062},"(16)"]
["32 - 33",13,null,13,null,13,null,14,null,14,null,14,null,"2 STEP",{"$f":"IFERROR(\nIF($W$1='(HIDE) MASTER-Chart'!$J$2,\nVLOOKUP(B55,'(HIDE) MASTER-Chart'!$B:$G,6,FALSE),\nVLOOKUP(B55,'(HIDE) MASTER-Chart'!$M:$R,6,FALSE)),\"\")","v":88035},"(13)",{"$f":"IFERROR(\nIF($W$1='(HIDE) MASTER-Chart'!$J$2,\nVLOOKUP(D55,'(HIDE) MASTER-Chart'!$B:$G,6,FALSE),\nVLOOKUP(D55,'(HIDE) MASTER-Chart'!$M:$R,6,FALSE)),\"\")","v":88035},"(13)",{"$f":"IFERROR(\nIF($W$1='(HIDE) MASTER-Chart'!$J$2,\nVLOOKUP(F55,'(HIDE) MASTER-Chart'!$B:$G,6,FALSE),\nVLOOKUP(F55,'(HIDE) MASTER-Chart'!$M:$R,6,FALSE)),\"\")","v":88035},"(13)",{"$f":"IFERROR(\nIF($W$1='(HIDE) MASTER-Chart'!$J$2,\nVLOOKUP(H55,'(HIDE) MASTER-Chart'!$B:$G,6,FALSE),\nVLOOKUP(H55,'(HIDE) MASTER-Chart'!$M:$R,6,FALSE)),\"\")","v":90634},"(14)",{"$f":"IFERROR(\nIF($W$1='(HIDE) MASTER-Chart'!$J$2,\nVLOOKUP(J55,'(HIDE) MASTER-Chart'!$B:$G,6,FALSE),\nVLOOKUP(J55,'(HIDE) MASTER-Chart'!$M:$R,6,FALSE)),\"\")","v":90634},"(14)",{"$f":"IFERROR(\nIF($W$1='(HIDE) MASTER-Chart'!$J$2,\nVLOOKUP(L55,'(HIDE) MASTER-Chart'!$B:$G,6,FALSE),\nVLOOKUP(L55,'(HIDE) MASTER-Chart'!$M:$R,6,FALSE)),\"\")","v":90634},"(14)"]
[null,null,null,null,null,null,null,null,null,null,null,null,null," ",{"$f":"IF(ISERROR(VLOOKUP(B56,'(HIDE) MASTER-Chart'!$B:$G,5,FALSE)),\"\",VLOOKUP(B56,'(HIDE) MASTER-Chart'!$B:$G,5,FALSE))","v":""},"",{"$f":"IF(ISERROR(VLOOKUP(D56,'(HIDE) MASTER-Chart'!$B:$G,5,FALSE)),\"\",VLOOKUP(D56,'(HIDE) MASTER-Chart'!$B:$G,5,FALSE))","v":""},"",{"$f":"IF(ISERROR(VLOOKUP(F56,'(HIDE) MASTER-Chart'!$B:$G,5,FALSE)),\"\",VLOOKUP(F56,'(HIDE) MASTER-Chart'!$B:$G,5,FALSE))","v":""},"",{"$f":"IF(ISERROR(VLOOKUP(H56,'(HIDE) MASTER-Chart'!$B:$G,5,FALSE)),\"\",VLOOKUP(H56,'(HIDE) MASTER-Chart'!$B:$G,5,FALSE))","v":""},"",{"$f":"IF(ISERROR(VLOOKUP(J56,'(HIDE) MASTER-Chart'!$B:$G,5,FALSE)),\"\",VLOOKUP(J56,'(HIDE) MASTER-Chart'!$B:$G,5,FALSE))","v":""},"",{"$f":"IF(ISERROR(VLOOKUP(L56,'(HIDE) MASTER-Chart'!$B:$G,5,FALSE)),\"\",VLOOKUP(L56,'(HIDE) MASTER-Chart'!$B:$G,5,FALSE))","v":""},""]
[null,15,null,15,null,16,null,16,null,16,null,16,null,"TARGET",{"$f":"IFERROR(\nIF($W$1='(HIDE) MASTER-Chart'!$J$2,\nVLOOKUP(B57,'(HIDE) MASTER-Chart'!$B:$G,6,FALSE),\nVLOOKUP(B57,'(HIDE) MASTER-Chart'!$M:$R,6,FALSE)),\"\")","v":93306},"(15)",{"$f":"IFERROR(\nIF($W$1='(HIDE) MASTER-Chart'!$J$2,\nVLOOKUP(D57,'(HIDE) MASTER-Chart'!$B:$G,6,FALSE),\nVLOOKUP(D57,'(HIDE) MASTER-Chart'!$M:$R,6,FALSE)),\"\")","v":93306},"(15)",{"$f":"IFERROR(\nIF($W$1='(HIDE) MASTER-Chart'!$J$2,\nVLOOKUP(F57,'(HIDE) MASTER-Chart'!$B:$G,6,FALSE),\nVLOOKUP(F57,'(HIDE) MASTER-Chart'!$M:$R,6,FALSE)),\"\")","v":96062},"(16)",{"$f":"IFERROR(\nIF($W$1='(HIDE) MASTER-Chart'!$J$2,\nVLOOKUP(H57,'(HIDE) MASTER-Chart'!$B:$G,6,FALSE),\nVLOOKUP(H57,'(HIDE) MASTER-Chart'!$M:$R,6,FALSE)),\"\")","v":96062},"(16)",{"$f":"IFERROR(\nIF($W$1='(HIDE) MASTER-Chart'!$J$2,\nVLOOKUP(J57,'(HIDE) MASTER-Chart'!$B:$G,6,FALSE),\nVLOOKUP(J57,'(HIDE) MASTER-Chart'!$M:$R,6,FALSE)),\"\")","v":96062},"(16)",{"$f":"IFERROR(\nIF($W$1='(HIDE) MASTER-Chart'!$J$2,\nVLOOKUP(L57,'(HIDE) MASTER-Chart'!$B:$G,6,FALSE),\nVLOOKUP(L57,'(HIDE) MASTER-Chart'!$M:$R,6,FALSE)),\"\")","v":96062},"(16)"]
["34 +",13,null,13,null,14,null,14,null,14,null,14,null,"2 STEP",{"$f":"IFERROR(\nIF($W$1='(HIDE) MASTER-Chart'!$J$2,\nVLOOKUP(B58,'(HIDE) MASTER-Chart'!$B:$G,6,FALSE),\nVLOOKUP(B58,'(HIDE) MASTER-Chart'!$M:$R,6,FALSE)),\"\")","v":88035},"(13)",{"$f":"IFERROR(\nIF($W$1='(HIDE) MASTER-Chart'!$J$2,\nVLOOKUP(D58,'(HIDE) MASTER-Chart'!$B:$G,6,FALSE),\nVLOOKUP(D58,'(HIDE) MASTER-Chart'!$M:$R,6,FALSE)),\"\")","v":88035},"(13)",{"$f":"IFERROR(\nIF($W$1='(HIDE) MASTER-Chart'!$J$2,\nVLOOKUP(F58,'(HIDE) MASTER-Chart'!$B:$G,6,FALSE),\nVLOOKUP(F58,'(HIDE) MASTER-Chart'!$M:$R,6,FALSE)),\"\")","v":90634},"(14)",{"$f":"IFERROR(\nIF($W$1='(HIDE) MASTER-Chart'!$J$2,\nVLOOKUP(H58,'(HIDE) MASTER-Chart'!$B:$G,6,FALSE),\nVLOOKUP(H58,'(HIDE) MASTER-Chart'!$M:$R,6,FALSE)),\"\")","v":90634},"(14)",{"$f":"IFERROR(\nIF($W$1='(HIDE) MASTER-Chart'!$J$2,\nVLOOKUP(J58,'(HIDE) MASTER-Chart'!$B:$G,6,FALSE),\nVLOOKUP(J58,'(HIDE) MASTER-Chart'!$M:$R,6,FALSE)),\"\")","v":90634},"(14)",{"$f":"IFERROR(\nIF($W$1='(HIDE) MASTER-Chart'!$J$2,\nVLOOKUP(L58,'(HIDE) MASTER-Chart'!$B:$G,6,FALSE),\nVLOOKUP(L58,'(HIDE) MASTER-Chart'!$M:$R,6,FALSE)),\"\")","v":90634},"(14)"]
[null,null,null,null,null,null,null,null,null,null,null,null,null," ",{"$f":"IF(ISERROR(VLOOKUP(B59,'(HIDE) MASTER-Chart'!$B:$G,5,FALSE)),\"\",VLOOKUP(B59,'(HIDE) MASTER-Chart'!$B:$G,5,FALSE))","v":""},"",{"$f":"IF(ISERROR(VLOOKUP(D59,'(HIDE) MASTER-Chart'!$B:$G,5,FALSE)),\"\",VLOOKUP(D59,'(HIDE) MASTER-Chart'!$B:$G,5,FALSE))","v":""},"",{"$f":"IF(ISERROR(VLOOKUP(F59,'(HIDE) MASTER-Chart'!$B:$G,5,FALSE)),\"\",VLOOKUP(F59,'(HIDE) MASTER-Chart'!$B:$G,5,FALSE))","v":""},"",{"$f":"IF(ISERROR(VLOOKUP(H59,'(HIDE) MASTER-Chart'!$B:$G,5,FALSE)),\"\",VLOOKUP(H59,'(HIDE) MASTER-Chart'!$B:$G,5,FALSE))","v":""},"",{"$f":"IF(ISERROR(VLOOKUP(J59,'(HIDE) MASTER-Chart'!$B:$G,5,FALSE)),\"\",VLOOKUP(J59,'(HIDE) MASTER-Chart'!$B:$G,5,FALSE))","v":""},"",{"$f":"IF(ISERROR(VLOOKUP(L59,'(HIDE) MASTER-Chart'!$B:$G,5,FALSE)),\"\",VLOOKUP(L59,'(HIDE) MASTER-Chart'!$B:$G,5,FALSE))","v":""},""]